{"text_format":"1","workbook":"xlsx","n_sheets":19,"sheets":["作業要領（要確認）","計画申請一覧","リスト","応募申請書（鑑）","別紙１（所要額調）","list","書式1","市町村コード","県","code","★別紙2－1　総括表（触らない印刷のみ） ","★別紙２-2（事業_1）","★事業２","★事業３","★事業４","別紙３（支出内訳）","別紙４（予算書）","別紙５（市町村意見書※新規申請の場合に提出）","Sheet1"],"not_rendered":{"charts":0,"images":0,"macros":1,"external_links":2,"defined_names":79,"comments":1,"pivot_tables":0},"unopened":[],"bounds":{"document_bytes":16777216,"sheet_cells":100000,"rows_first":2000,"rows_last":500,"rows_between":2000,"halvings":0,"cell_chars":16384,"cell_head_chars":4096},"cells_cut":0,"cells_raw":0,"read":"whole","date_system":"1900"}

{"sheet":"作業要領（要確認）","index":0,"n_rows":1,"n_cols":1,"rows_kept":1,"cut":false,"hidden":false,"merged":[[0,0,38,9]]}
["\n\n①事業数を確認\n　・実施計画書を作成する際、１シートに１事業ずつ入力していただきますが、 このファイルには4シートまであります（4事業まで作成可能）。\n\n②別紙２－２に、必要事項を入力\n　・「事業_１」のシートから順番に、入力してください。\n　・「事業NO.」欄がありますので、事業NO.と、シートの番号「事業_●」が合致するようにしてください。\n　\n③県の担当者へ提出\n　・入力が終わったら、このファイルのまま県の担当者へ提出してください。\n\n"]

{"sheet":"計画申請一覧","index":1,"n_rows":44,"n_cols":149,"rows_kept":44,"cut":false,"hidden":true,"merged":[[0,17,0,30],[0,31,0,35],[0,36,0,74],[0,76,0,79],[0,80,0,83],[0,84,0,102],[0,103,0,104],[0,105,0,124],[0,125,0,139],[0,141,0,142],[0,145,0,147],[1,17,1,27],[1,28,1,30],[1,36,1,40],[1,41,1,46],[1,47,1,74],[1,88,1,100],[1,110,1,122],[1,125,1,129],[1,130,1,134],[1,135,1,139]]}
[null,null,"県コード","都道府県","地方公共団体コード","市町村","事業No.","交付金事業名","年度","新規・継続の別","昨年度\n事業No.","交付金事業メニュー","交付率","本事業を実施する背景","事業の目的","期待される効果","事業の内容","地域自殺対策計画における項目",null,null,null,null,null,null,null,null,null,null,null,null,null,"該当する自殺総合対策大綱における当面の重点施策",null,null,null,null,"対象群",null,null,null,null,null,null,null,null,null,null,null,null,null,null,null,null,null,null,null,null,null,null,null,null,null,null,null,null,null,null,null,null,null,null,null,null,null,null,"取組区分","担当部署",null,null,null,"事業形態",null,null,null,"交付金所要額　※計画時に記入",null,null,null,null,null,null,null,null,null,null,null,null,null,null,null,null,null,null,"変更申請",null,"交付金所要額　※報告時に記入",null,null,null,null,null,null,null,null,null,null,null,null,null,null,null,null,null,null,null,"評価指標",null,null,null,null,null,null,null,null,null,null,null,null,null,null,"評価指標以外の勘案要素","評価",null,"今年度の取組を踏まえて課題として挙げられること","考えられる工夫","次年度の取組への反映",null,null,"備考"]
[null,null,null,null,null,null,null,null,null,null,null,null,null,null,null,null,null,"政策パッケージでの分類",null,null,null,null,null,null,null,null,null,null,"該当する施策群",null,null,1,2,3,4,5,"性別",null,null,null,null,"年齢層",null,null,null,null,null,"その他の属性",null,null,null,null,null,null,null,null,null,null,null,null,null,null,null,null,null,null,null,null,null,null,null,null,null,null,null,null,"担当部署名","専任・併任の別","常勤職員人数","非常勤職員人数","委託","委託先","補助","補助先","総事業費(A)","寄付金その他の収入額(B)","差引(C=A-B)","基準額(D)","対象経費の支出予定額(E)",null,null,null,null,null,null,null,null,null,null,null,null,"交付基本額(F)","交付金所要額(G)","既交付決定額(H)","差引追加交付(一部取消)申請額(I=G-H)","交付決定額","総事業費(A)","寄付金その他の収入額(B)","差引(C=A-B)","基準額(D)","対象経費の実支出額(E)",null,null,null,null,null,null,null,null,null,null,null,null,"交付基本額(F)","交付金所要額(G)","指標１",null,null,null,null,"指標２",null,null,null,null,"指標３",null,null,null,null,null,"評価区分","評価理由",null,null,null,"その他の内容","次年度の取組への反映まとめ"]
[null,null,null,null,null,null,null,null,null,null,null,null,null,null,null,null,null,"1　主分類","1　細分類","2　主分類","2　細分類","3　主分類","3　細分類","4　主分類","4　細分類","5　主分類","5　細分類","該当なしの場合に具体的に記入",null,"その他の場合に具体的に記入","該当する施策群まとめ",null,null,null,null,null,"限定なし/","主に男性/","主に女性/","性的マイノリティ等","性別まとめ","限定なし/","未成年者/","若年者/","稼働年齢層/","高齢者","年齢層まとめ","地域住民/","経営者/","自治体職員/","医療従事者/","教職員/","介護事業従事者/","介護者/","メディア関係者/","児童・生徒/","大学生・院生/","労働者/","非正規労働者/","失業者/","多重債務者/","生活困窮者/","妊産婦/","ひとり親家庭/","精神障害者/","精神障害以外の障害者/","ひきこもり/","自殺未遂者/","自死遺族等/","性暴力被害者/","被虐待児/","被災者/","その他/","その他　具体的内容","属性まとめ",null,null,null,null,null,null,null,null,null,null,null,null,null,"報酬","賃金","報償費","旅費","需用費","役務費","使用料・賃借料","工事費","備品\n購入費","委託料","負担金","補助金等","合計",null,null,null,null,null,null,null,null,null,"報酬","賃金","報償費","旅費","需用費","役務費","使用料・賃借料","工事費","備品\n購入費","委託料","負担金","補助金等","計",null,null,"指標名","単位","目標値","実測値","備考","指標名","単位","目標値","実測値","備考","指標名","単位","目標値","実測値","備考"]
[null,null,1,2,3,4,5,6,7,8,9,10,11,12,13,14,15,16,17,18,19,20,21,22,23,24,25,26,27,28,29,30,31,32,33,34,35,36,37,38,39,40,41,42,43,44,45,46,47,48,49,50,51,52,53,54,55,56,57,58,59,60,61,62,63,64,65,66,67,68,69,70,71,72,73,74,75,76,77,78,79,80,81,82,83,84,85,86,87,88,89,90,91,92,93,94,95,96,97,98,99,100,101,102,103,104,105,106,107,108,109,110,111,112,113,114,115,116,117,118,119,120,121,122,123,124,125,126,127,128,129,130,131,132,133,134,135,136,137,138,139,140,141,142,143,144,145,146,147]
[null,{"$f":"IF(C5=\"\",\"\",1)","v":{"$error":"#REF!"}},{"$f":"IF(#REF!=\"\",\"\",VLOOKUP(D5,code!$A$1:$B$47,2,FALSE))","v":{"$error":"#REF!"}},{"$f":"IF(#REF!=\"\",\"\",#REF!)","v":{"$error":"#REF!"}},{"$f":"IF(#REF!=\"\",\"\",VLOOKUP((D5&F5),code!$E$1:$F$1741,2,FALSE))","v":{"$error":"#REF!"}},{"$f":"IF(#REF!=\"\",\"\",#REF!)","v":{"$error":"#REF!"}},{"$f":"IF(#REF!=\"\",\"\",#REF!)","v":{"$error":"#REF!"}},{"$f":"IF(#REF!=\"\",\"\",#REF!)","v":{"$error":"#REF!"}},{"$f":"IF(#REF!=\"\",\"\",#REF!)","v":{"$error":"#REF!"}},{"$f":"IF(#REF!=\"\",\"\",#REF!)","v":{"$error":"#REF!"}},{"$f":"IF(#REF!=\"\",\"\",#REF!)","v":{"$error":"#REF!"}},{"$f":"IF(#REF!=\"\",\"\",#REF!)","v":{"$error":"#REF!"}},{"$f":"IF(#REF!=\"\",\"\",#REF!)","v":{"$error":"#REF!"}},{"$f":"IF(#REF!=\"\",\"\",#REF!)","v":{"$error":"#REF!"}},{"$f":"IF(#REF!=\"\",\"\",#REF!)","v":{"$error":"#REF!"}},{"$f":"IF(#REF!=\"\",\"\",#REF!)","v":{"$error":"#REF!"}},{"$f":"IF(#REF!=\"\",\"\",#REF!)","v":{"$error":"#REF!"}},{"$f":"IF(#REF!=\"\",\"\",#REF!)","v":{"$error":"#REF!"}},{"$f":"IF(#REF!=\"\",\"\",#REF!)","v":{"$error":"#REF!"}},{"$f":"IF(#REF!=\"\",\"\",#REF!)","v":{"$error":"#REF!"}},{"$f":"IF(#REF!=\"\",\"\",#REF!)","v":{"$error":"#REF!"}},{"$f":"IF(#REF!=\"\",\"\",#REF!)","v":{"$error":"#REF!"}},{"$f":"IF(#REF!=\"\",\"\",#REF!)","v":{"$error":"#REF!"}},{"$f":"IF(#REF!=\"\",\"\",#REF!)","v":{"$error":"#REF!"}},{"$f":"IF(#REF!=\"\",\"\",#REF!)","v":{"$error":"#REF!"}},{"$f":"IF(#REF!=\"\",\"\",#REF!)","v":{"$error":"#REF!"}},{"$f":"IF(#REF!=\"\",\"\",#REF!)","v":{"$error":"#REF!"}},{"$f":"IF(#REF!=\"\",\"\",#REF!)","v":{"$error":"#REF!"}},{"$f":"IF(#REF!=\"\",\"\",#REF!)","v":{"$error":"#REF!"}},{"$f":"IF(#REF!=\"\",\"\",#REF!)","v":{"$error":"#REF!"}},{"$f":"CONCATENATE(IF(AC5=\"その他\",CONCATENATE(\"その他（\",AD5,\"）\"),AC5))","v":{"$error":"#REF!"}},{"$f":"IF(#REF!=\"\",\"\",#REF!)","v":{"$error":"#REF!"}},{"$f":"IF(#REF!=\"\",\"\",#REF!)","v":{"$error":"#REF!"}},{"$f":"IF(#REF!=\"\",\"\",#REF!)","v":{"$error":"#REF!"}},{"$f":"IF(#REF!=\"\",\"\",#REF!)","v":{"$error":"#REF!"}},{"$f":"IF(#REF!=\"\",\"\",#REF!)","v":{"$error":"#REF!"}},{"$f":"#REF!","v":{"$error":"#REF!"}},{"$f":"#REF!","v":{"$error":"#REF!"}},{"$f":"#REF!","v":{"$error":"#REF!"}},{"$f":"#REF!","v":{"$error":"#REF!"}},{"$f":"CONCATENATE(IF(AK5=\"☑\",AK$3,\"\"),IF(AL5=\"☑\",AL$3,\"\"),IF(AM5=\"☑\",AM$3,\"\"),IF(AN5=\"☑\",AN$3,\"\"))","v":{"$error":"#REF!"}},{"$f":"#REF!","v":{"$error":"#REF!"}},{"$f":"#REF!","v":{"$error":"#REF!"}},{"$f":"#REF!","v":{"$error":"#REF!"}},{"$f":"#REF!","v":{"$error":"#REF!"}},{"$f":"#REF!","v":{"$error":"#REF!"}},{"$f":"CONCATENATE(IF(AP5=\"☑\",AP$3,\"\"),IF(AQ5=\"☑\",AQ$3,\"\"),IF(AR5=\"☑\",AR$3,\"\"),IF(AS5=\"☑\",AS$3,\"\"),IF(AT5=\"☑\",AT$3,\"\"))","v":{"$error":"#REF!"}},{"$f":"#REF!","v":{"$error":"#REF!"}},{"$f":"#REF!","v":{"$error":"#REF!"}},{"$f":"#REF!","v":{"$error":"#REF!"}},{"$f":"#REF!","v":{"$error":"#REF!"}},{"$f":"#REF!","v":{"$error":"#REF!"}},{"$f":"#REF!","v":{"$error":"#REF!"}},{"$f":"#REF!","v":{"$error":"#REF!"}},{"$f":"#REF!","v":{"$error":"#REF!"}},{"$f":"#REF!","v":{"$error":"#REF!"}},{"$f":"#REF!","v":{"$error":"#REF!"}},{"$f":"#REF!","v":{"$error":"#REF!"}},{"$f":"#REF!","v":{"$error":"#REF!"}},{"$f":"#REF!","v":{"$error":"#REF!"}},{"$f":"#REF!","v":{"$error":"#REF!"}},{"$f":"#REF!","v":{"$error":"#REF!"}},{"$f":"#REF!","v":{"$error":"#REF!"}},{"$f":"#REF!","v":{"$error":"#REF!"}},{"$f":"#REF!","v":{"$error":"#REF!"}},{"$f":"#REF!","v":{"$error":"#REF!"}},{"$f":"#REF!","v":{"$error":"#REF!"}},{"$f":"#REF!","v":{"$error":"#REF!"}},{"$f":"#REF!","v":{"$error":"#REF!"}},{"$f":"#REF!","v":{"$error":"#REF!"}},{"$f":"#REF!","v":{"$error":"#REF!"}},{"$f":"#REF!","v":{"$error":"#REF!"}},{"$f":"#REF!","v":{"$error":"#REF!"}},{"$f":"IF(#REF!=\"\",\"\",#REF!)","v":{"$error":"#REF!"}},{"$f":"CONCATENATE(IF(AV5=\"☑\",AV$3,\"\"),IF(AW5=\"☑\",AW$3,\"\"),IF(AX5=\"☑\",AX$3,\"\"),IF(AY5=\"☑\",AY$3,\"\"),IF(AZ5=\"☑\",AZ$3,\"\"),IF(BA5=\"☑\",BA$3,\"\"),IF(BB5=\"☑\",BB$3,\"\"),IF(BC5=\"☑\",BC$3,\"\"),IF(BD5=\"☑\",BD$3,\"\"),IF(BE5=\"☑\",BE$3,\"\"),IF(BF5=\"☑\",BF$3,\"\"),IF(BG5=\"☑\",BG$3,\"\"),IF(BH5=\"☑\",BH$3,\"\"),IF(BI5=\"☑\",BI$3,\"\"),IF(BJ5=\"☑\",BJ$3,\"\"),IF(BK5=\"☑\",BK$3,\"\"),IF(BL5=\"☑\",BL$3,\"\"),IF(BM5=\"☑\",BM$3,\"\"),IF(BN5=\"☑\",BN$3,\"\"),IF(BO5=\"☑\",BO$3,\"\"),IF(BP5=\"☑\",BP$3,\"\"),IF(BQ5=\"☑\",BQ$3,\"\"),IF(BR5=\"☑\",BR$3,\"\"),IF(BS5=\"☑\",BS$3,\"\"),IF(BT5=\"☑\",BT$3,\"\"),IF(BU5=\"☑\",BU$3,\"\"),IF(BV5=\"☑\",BV$3,\"\"),BV5)","v":{"$error":"#REF!"}},{"$f":"IF(#REF!=\"\",\"\",#REF!)","v":{"$error":"#REF!"}},{"$f":"IF(#REF!=\"\",\"\",#REF!)","v":{"$error":"#REF!"}},{"$f":"IF(#REF!=\"\",\"\",#REF!)","v":{"$error":"#REF!"}},{"$f":"IF(#REF!=\"\",\"\",#REF!)","v":{"$error":"#REF!"}},{"$f":"IF(#REF!=\"\",\"\",#REF!)","v":{"$error":"#REF!"}},{"$f":"#REF!","v":{"$error":"#REF!"}},{"$f":"IF(#REF!=\"\",\"\",#REF!)","v":{"$error":"#REF!"}},{"$f":"#REF!","v":{"$error":"#REF!"}},{"$f":"IF(#REF!=\"\",\"\",#REF!)","v":{"$error":"#REF!"}},{"$f":"IF(#REF!=\"\",\"\",#REF!)","v":{"$error":"#REF!"}},{"$f":"#REF!","v":{"$error":"#REF!"}},{"$f":"#REF!","v":{"$error":"#REF!"}},{"$f":"IF(#REF!=\"\",\"\",#REF!)","v":{"$error":"#REF!"}},{"$f":"#REF!","v":{"$error":"#REF!"}},{"$f":"#REF!","v":{"$error":"#REF!"}},{"$f":"#REF!","v":{"$error":"#REF!"}},{"$f":"#REF!","v":{"$error":"#REF!"}},{"$f":"#REF!","v":{"$error":"#REF!"}},{"$f":"#REF!","v":{"$error":"#REF!"}},{"$f":"#REF!","v":{"$error":"#REF!"}},{"$f":"#REF!","v":{"$error":"#REF!"}},{"$f":"#REF!","v":{"$error":"#REF!"}},{"$f":"#REF!","v":{"$error":"#REF!"}},{"$f":"#REF!","v":{"$error":"#REF!"}},{"$f":"#REF!","v":{"$error":"#REF!"}},{"$f":"#REF!","v":{"$error":"#REF!"}},{"$f":"#REF!","v":{"$error":"#REF!"}},{"$f":"#REF!","v":{"$error":"#REF!"}},null,null,null,null,null,null,null,null,null,null,null,null,null,null,null,null,null,null,null,null,null,null,{"$f":"IF(#REF!=\"\",\"\",#REF!)","v":{"$error":"#REF!"}},{"$f":"IF(#REF!=\"\",\"\",#REF!)","v":{"$error":"#REF!"}},{"$f":"IF(#REF!=\"\",\"\",#REF!)","v":{"$error":"#REF!"}},null,{"$f":"IF(#REF!=\"\",\"\",#REF!)","v":{"$error":"#REF!"}},{"$f":"IF(#REF!=\"\",\"\",#REF!)","v":{"$error":"#REF!"}},{"$f":"IF(#REF!=\"\",\"\",#REF!)","v":{"$error":"#REF!"}},{"$f":"IF(#REF!=\"\",\"\",#REF!)","v":{"$error":"#REF!"}},null,{"$f":"IF(#REF!=\"\",\"\",#REF!)","v":{"$error":"#REF!"}},{"$f":"IF(#REF!=\"\",\"\",#REF!)","v":{"$error":"#REF!"}},{"$f":"IF(#REF!=\"\",\"\",#REF!)","v":{"$error":"#REF!"}},{"$f":"IF(#REF!=\"\",\"\",#REF!)","v":{"$error":"#REF!"}},null,{"$f":"IF(#REF!=\"\",\"\",#REF!)","v":{"$error":"#REF!"}},null,null,null,null,null,null,null,{"$f":"CONCATENATE(IF(EP5=\"5. その他\",CONCATENATE(\"5. その他（\",EQ5,\"）\"),EP5))","v":""},{"$f":"IF(#REF!=\"\",\"\",#REF!)","v":{"$error":"#REF!"}}]
[null,{"$error":"#REF!"},{"$f":"IF(#REF!=\"\",\"\",VLOOKUP(D6,code!$A$1:$B$47,2,FALSE))","v":{"$error":"#REF!"}},{"$f":"IF(#REF!=\"\",\"\",#REF!)","v":{"$error":"#REF!"}},{"$f":"IF(#REF!=\"\",\"\",VLOOKUP((D6&F6),code!$E$1:$F$1741,2,FALSE))","v":{"$error":"#REF!"}},{"$f":"IF(#REF!=\"\",\"\",#REF!)","v":{"$error":"#REF!"}},{"$f":"IF(#REF!=\"\",\"\",#REF!)","v":{"$error":"#REF!"}},{"$f":"IF(#REF!=\"\",\"\",#REF!)","v":{"$error":"#REF!"}},{"$f":"IF(#REF!=\"\",\"\",#REF!)","v":{"$error":"#REF!"}},{"$f":"IF(#REF!=\"\",\"\",#REF!)","v":{"$error":"#REF!"}},{"$f":"IF(#REF!=\"\",\"\",#REF!)","v":{"$error":"#REF!"}},{"$f":"IF(#REF!=\"\",\"\",#REF!)","v":{"$error":"#REF!"}},{"$f":"IF(#REF!=\"\",\"\",#REF!)","v":{"$error":"#REF!"}},{"$f":"IF(#REF!=\"\",\"\",#REF!)","v":{"$error":"#REF!"}},{"$f":"IF(#REF!=\"\",\"\",#REF!)","v":{"$error":"#REF!"}},{"$f":"IF(#REF!=\"\",\"\",#REF!)","v":{"$error":"#REF!"}},{"$f":"IF(#REF!=\"\",\"\",#REF!)","v":{"$error":"#REF!"}},{"$f":"IF(#REF!=\"\",\"\",#REF!)","v":{"$error":"#REF!"}},{"$f":"IF(#REF!=\"\",\"\",#REF!)","v":{"$error":"#REF!"}},{"$f":"IF(#REF!=\"\",\"\",#REF!)","v":{"$error":"#REF!"}},{"$f":"IF(#REF!=\"\",\"\",#REF!)","v":{"$error":"#REF!"}},{"$f":"IF(#REF!=\"\",\"\",#REF!)","v":{"$error":"#REF!"}},{"$f":"IF(#REF!=\"\",\"\",#REF!)","v":{"$error":"#REF!"}},{"$f":"IF(#REF!=\"\",\"\",#REF!)","v":{"$error":"#REF!"}},{"$f":"IF(#REF!=\"\",\"\",#REF!)","v":{"$error":"#REF!"}},{"$f":"IF(#REF!=\"\",\"\",#REF!)","v":{"$error":"#REF!"}},{"$f":"IF(#REF!=\"\",\"\",#REF!)","v":{"$error":"#REF!"}},{"$f":"IF(#REF!=\"\",\"\",#REF!)","v":{"$error":"#REF!"}},{"$f":"IF(#REF!=\"\",\"\",#REF!)","v":{"$error":"#REF!"}},{"$f":"IF(#REF!=\"\",\"\",#REF!)","v":{"$error":"#REF!"}},{"$error":"#REF!"},{"$f":"IF(#REF!=\"\",\"\",#REF!)","v":{"$error":"#REF!"}},{"$f":"IF(#REF!=\"\",\"\",#REF!)","v":{"$error":"#REF!"}},{"$f":"IF(#REF!=\"\",\"\",#REF!)","v":{"$error":"#REF!"}},{"$f":"IF(#REF!=\"\",\"\",#REF!)","v":{"$error":"#REF!"}},{"$f":"IF(#REF!=\"\",\"\",#REF!)","v":{"$error":"#REF!"}},{"$f":"#REF!","v":{"$error":"#REF!"}},{"$f":"#REF!","v":{"$error":"#REF!"}},{"$f":"#REF!","v":{"$error":"#REF!"}},{"$f":"#REF!","v":{"$error":"#REF!"}},{"$error":"#REF!"},{"$f":"#REF!","v":{"$error":"#REF!"}},{"$f":"#REF!","v":{"$error":"#REF!"}},{"$f":"#REF!","v":{"$error":"#REF!"}},{"$f":"#REF!","v":{"$error":"#REF!"}},{"$f":"#REF!","v":{"$error":"#REF!"}},{"$error":"#REF!"},{"$f":"#REF!","v":{"$error":"#REF!"}},{"$f":"#REF!","v":{"$error":"#REF!"}},{"$f":"#REF!","v":{"$error":"#REF!"}},{"$f":"#REF!","v":{"$error":"#REF!"}},{"$f":"#REF!","v":{"$error":"#REF!"}},{"$f":"#REF!","v":{"$error":"#REF!"}},{"$f":"#REF!","v":{"$error":"#REF!"}},{"$f":"#REF!","v":{"$error":"#REF!"}},{"$f":"#REF!","v":{"$error":"#REF!"}},{"$f":"#REF!","v":{"$error":"#REF!"}},{"$f":"#REF!","v":{"$error":"#REF!"}},{"$f":"#REF!","v":{"$error":"#REF!"}},{"$f":"#REF!","v":{"$error":"#REF!"}},{"$f":"#REF!","v":{"$error":"#REF!"}},{"$f":"#REF!","v":{"$error":"#REF!"}},{"$f":"#REF!","v":{"$error":"#REF!"}},{"$f":"#REF!","v":{"$error":"#REF!"}},{"$f":"#REF!","v":{"$error":"#REF!"}},{"$f":"#REF!","v":{"$error":"#REF!"}},{"$f":"#REF!","v":{"$error":"#REF!"}},{"$f":"#REF!","v":{"$error":"#REF!"}},{"$f":"#REF!","v":{"$error":"#REF!"}},{"$f":"#REF!","v":{"$error":"#REF!"}},{"$f":"#REF!","v":{"$error":"#REF!"}},{"$f":"#REF!","v":{"$error":"#REF!"}},{"$f":"#REF!","v":{"$error":"#REF!"}},{"$f":"IF(#REF!=\"\",\"\",#REF!)","v":{"$error":"#REF!"}},{"$error":"#REF!"},{"$f":"IF(#REF!=\"\",\"\",#REF!)","v":{"$error":"#REF!"}},{"$f":"IF(#REF!=\"\",\"\",#REF!)","v":{"$error":"#REF!"}},{"$f":"IF(#REF!=\"\",\"\",#REF!)","v":{"$error":"#REF!"}},{"$f":"IF(#REF!=\"\",\"\",#REF!)","v":{"$error":"#REF!"}},{"$f":"IF(#REF!=\"\",\"\",#REF!)","v":{"$error":"#REF!"}},{"$f":"#REF!","v":{"$error":"#REF!"}},{"$f":"IF(#REF!=\"\",\"\",#REF!)","v":{"$error":"#REF!"}},{"$f":"#REF!","v":{"$error":"#REF!"}},{"$f":"IF(#REF!=\"\",\"\",#REF!)","v":{"$error":"#REF!"}},{"$f":"IF(#REF!=\"\",\"\",#REF!)","v":{"$error":"#REF!"}},{"$f":"#REF!","v":{"$error":"#REF!"}},{"$f":"#REF!","v":{"$error":"#REF!"}},{"$f":"IF(#REF!=\"\",\"\",#REF!)","v":{"$error":"#REF!"}},{"$f":"#REF!","v":{"$error":"#REF!"}},{"$f":"#REF!","v":{"$error":"#REF!"}},{"$f":"#REF!","v":{"$error":"#REF!"}},{"$f":"#REF!","v":{"$error":"#REF!"}},{"$f":"#REF!","v":{"$error":"#REF!"}},{"$f":"#REF!","v":{"$error":"#REF!"}},{"$f":"#REF!","v":{"$error":"#REF!"}},{"$f":"#REF!","v":{"$error":"#REF!"}},{"$f":"#REF!","v":{"$error":"#REF!"}},{"$f":"#REF!","v":{"$error":"#REF!"}},{"$f":"#REF!","v":{"$error":"#REF!"}},{"$f":"#REF!","v":{"$error":"#REF!"}},{"$f":"#REF!","v":{"$error":"#REF!"}},{"$f":"#REF!","v":{"$error":"#REF!"}},{"$f":"#REF!","v":{"$error":"#REF!"}},null,null,null,null,null,null,null,null,null,null,null,null,null,null,null,null,null,null,null,null,null,null,{"$f":"IF(#REF!=\"\",\"\",#REF!)","v":{"$error":"#REF!"}},{"$f":"IF(#REF!=\"\",\"\",#REF!)","v":{"$error":"#REF!"}},{"$f":"IF(#REF!=\"\",\"\",#REF!)","v":{"$error":"#REF!"}},null,{"$f":"IF(#REF!=\"\",\"\",#REF!)","v":{"$error":"#REF!"}},{"$f":"IF(#REF!=\"\",\"\",#REF!)","v":{"$error":"#REF!"}},{"$f":"IF(#REF!=\"\",\"\",#REF!)","v":{"$error":"#REF!"}},{"$f":"IF(#REF!=\"\",\"\",#REF!)","v":{"$error":"#REF!"}},null,{"$f":"IF(#REF!=\"\",\"\",#REF!)","v":{"$error":"#REF!"}},{"$f":"IF(#REF!=\"\",\"\",#REF!)","v":{"$error":"#REF!"}},{"$f":"IF(#REF!=\"\",\"\",#REF!)","v":{"$error":"#REF!"}},{"$f":"IF(#REF!=\"\",\"\",#REF!)","v":{"$error":"#REF!"}},null,{"$f":"IF(#REF!=\"\",\"\",#REF!)","v":{"$error":"#REF!"}},null,null,null,null,null,null,null,"",{"$f":"IF(#REF!=\"\",\"\",#REF!)","v":{"$error":"#REF!"}}]
[null,{"$error":"#REF!"},{"$f":"IF(#REF!=\"\",\"\",VLOOKUP(D7,code!$A$1:$B$47,2,FALSE))","v":{"$error":"#REF!"}},{"$f":"IF(#REF!=\"\",\"\",#REF!)","v":{"$error":"#REF!"}},{"$f":"IF(#REF!=\"\",\"\",VLOOKUP((D7&F7),code!$E$1:$F$1741,2,FALSE))","v":{"$error":"#REF!"}},{"$f":"IF(#REF!=\"\",\"\",#REF!)","v":{"$error":"#REF!"}},{"$f":"IF(#REF!=\"\",\"\",#REF!)","v":{"$error":"#REF!"}},{"$f":"IF(#REF!=\"\",\"\",#REF!)","v":{"$error":"#REF!"}},{"$f":"IF(#REF!=\"\",\"\",#REF!)","v":{"$error":"#REF!"}},{"$f":"IF(#REF!=\"\",\"\",#REF!)","v":{"$error":"#REF!"}},{"$f":"IF(#REF!=\"\",\"\",#REF!)","v":{"$error":"#REF!"}},{"$f":"IF(#REF!=\"\",\"\",#REF!)","v":{"$error":"#REF!"}},{"$f":"IF(#REF!=\"\",\"\",#REF!)","v":{"$error":"#REF!"}},{"$f":"IF(#REF!=\"\",\"\",#REF!)","v":{"$error":"#REF!"}},{"$f":"IF(#REF!=\"\",\"\",#REF!)","v":{"$error":"#REF!"}},{"$f":"IF(#REF!=\"\",\"\",#REF!)","v":{"$error":"#REF!"}},{"$f":"IF(#REF!=\"\",\"\",#REF!)","v":{"$error":"#REF!"}},{"$f":"IF(#REF!=\"\",\"\",#REF!)","v":{"$error":"#REF!"}},{"$f":"IF(#REF!=\"\",\"\",#REF!)","v":{"$error":"#REF!"}},{"$f":"IF(#REF!=\"\",\"\",#REF!)","v":{"$error":"#REF!"}},{"$f":"IF(#REF!=\"\",\"\",#REF!)","v":{"$error":"#REF!"}},{"$f":"IF(#REF!=\"\",\"\",#REF!)","v":{"$error":"#REF!"}},{"$f":"IF(#REF!=\"\",\"\",#REF!)","v":{"$error":"#REF!"}},{"$f":"IF(#REF!=\"\",\"\",#REF!)","v":{"$error":"#REF!"}},{"$f":"IF(#REF!=\"\",\"\",#REF!)","v":{"$error":"#REF!"}},{"$f":"IF(#REF!=\"\",\"\",#REF!)","v":{"$error":"#REF!"}},{"$f":"IF(#REF!=\"\",\"\",#REF!)","v":{"$error":"#REF!"}},{"$f":"IF(#REF!=\"\",\"\",#REF!)","v":{"$error":"#REF!"}},{"$f":"IF(#REF!=\"\",\"\",#REF!)","v":{"$error":"#REF!"}},{"$f":"IF(#REF!=\"\",\"\",#REF!)","v":{"$error":"#REF!"}},{"$error":"#REF!"},{"$f":"IF(#REF!=\"\",\"\",#REF!)","v":{"$error":"#REF!"}},{"$f":"IF(#REF!=\"\",\"\",#REF!)","v":{"$error":"#REF!"}},{"$f":"IF(#REF!=\"\",\"\",#REF!)","v":{"$error":"#REF!"}},{"$f":"IF(#REF!=\"\",\"\",#REF!)","v":{"$error":"#REF!"}},{"$f":"IF(#REF!=\"\",\"\",#REF!)","v":{"$error":"#REF!"}},{"$f":"#REF!","v":{"$error":"#REF!"}},{"$f":"#REF!","v":{"$error":"#REF!"}},{"$f":"#REF!","v":{"$error":"#REF!"}},{"$f":"#REF!","v":{"$error":"#REF!"}},{"$error":"#REF!"},{"$f":"#REF!","v":{"$error":"#REF!"}},{"$f":"#REF!","v":{"$error":"#REF!"}},{"$f":"#REF!","v":{"$error":"#REF!"}},{"$f":"#REF!","v":{"$error":"#REF!"}},{"$f":"#REF!","v":{"$error":"#REF!"}},{"$error":"#REF!"},{"$f":"#REF!","v":{"$error":"#REF!"}},{"$f":"#REF!","v":{"$error":"#REF!"}},{"$f":"#REF!","v":{"$error":"#REF!"}},{"$f":"#REF!","v":{"$error":"#REF!"}},{"$f":"#REF!","v":{"$error":"#REF!"}},{"$f":"#REF!","v":{"$error":"#REF!"}},{"$f":"#REF!","v":{"$error":"#REF!"}},{"$f":"#REF!","v":{"$error":"#REF!"}},{"$f":"#REF!","v":{"$error":"#REF!"}},{"$f":"#REF!","v":{"$error":"#REF!"}},{"$f":"#REF!","v":{"$error":"#REF!"}},{"$f":"#REF!","v":{"$error":"#REF!"}},{"$f":"#REF!","v":{"$error":"#REF!"}},{"$f":"#REF!","v":{"$error":"#REF!"}},{"$f":"#REF!","v":{"$error":"#REF!"}},{"$f":"#REF!","v":{"$error":"#REF!"}},{"$f":"#REF!","v":{"$error":"#REF!"}},{"$f":"#REF!","v":{"$error":"#REF!"}},{"$f":"#REF!","v":{"$error":"#REF!"}},{"$f":"#REF!","v":{"$error":"#REF!"}},{"$f":"#REF!","v":{"$error":"#REF!"}},{"$f":"#REF!","v":{"$error":"#REF!"}},{"$f":"#REF!","v":{"$error":"#REF!"}},{"$f":"#REF!","v":{"$error":"#REF!"}},{"$f":"#REF!","v":{"$error":"#REF!"}},{"$f":"#REF!","v":{"$error":"#REF!"}},{"$f":"IF(#REF!=\"\",\"\",#REF!)","v":{"$error":"#REF!"}},{"$error":"#REF!"},{"$f":"IF(#REF!=\"\",\"\",#REF!)","v":{"$error":"#REF!"}},{"$f":"IF(#REF!=\"\",\"\",#REF!)","v":{"$error":"#REF!"}},{"$f":"IF(#REF!=\"\",\"\",#REF!)","v":{"$error":"#REF!"}},{"$f":"IF(#REF!=\"\",\"\",#REF!)","v":{"$error":"#REF!"}},{"$f":"IF(#REF!=\"\",\"\",#REF!)","v":{"$error":"#REF!"}},{"$f":"#REF!","v":{"$error":"#REF!"}},{"$f":"IF(#REF!=\"\",\"\",#REF!)","v":{"$error":"#REF!"}},{"$f":"#REF!","v":{"$error":"#REF!"}},{"$f":"IF(#REF!=\"\",\"\",#REF!)","v":{"$error":"#REF!"}},{"$f":"IF(#REF!=\"\",\"\",#REF!)","v":{"$error":"#REF!"}},{"$f":"#REF!","v":{"$error":"#REF!"}},{"$f":"#REF!","v":{"$error":"#REF!"}},{"$f":"IF(#REF!=\"\",\"\",#REF!)","v":{"$error":"#REF!"}},{"$f":"#REF!","v":{"$error":"#REF!"}},{"$f":"#REF!","v":{"$error":"#REF!"}},{"$f":"#REF!","v":{"$error":"#REF!"}},{"$f":"#REF!","v":{"$error":"#REF!"}},{"$f":"#REF!","v":{"$error":"#REF!"}},{"$f":"#REF!","v":{"$error":"#REF!"}},{"$f":"#REF!","v":{"$error":"#REF!"}},{"$f":"#REF!","v":{"$error":"#REF!"}},{"$f":"#REF!","v":{"$error":"#REF!"}},{"$f":"#REF!","v":{"$error":"#REF!"}},{"$f":"#REF!","v":{"$error":"#REF!"}},{"$f":"#REF!","v":{"$error":"#REF!"}},{"$f":"#REF!","v":{"$error":"#REF!"}},{"$f":"#REF!","v":{"$error":"#REF!"}},{"$f":"#REF!","v":{"$error":"#REF!"}},null,null,null,null,null,null,null,null,null,null,null,null,null,null,null,null,null,null,null,null,null,null,{"$f":"IF(#REF!=\"\",\"\",#REF!)","v":{"$error":"#REF!"}},{"$f":"IF(#REF!=\"\",\"\",#REF!)","v":{"$error":"#REF!"}},{"$f":"IF(#REF!=\"\",\"\",#REF!)","v":{"$error":"#REF!"}},null,{"$f":"IF(#REF!=\"\",\"\",#REF!)","v":{"$error":"#REF!"}},{"$f":"IF(#REF!=\"\",\"\",#REF!)","v":{"$error":"#REF!"}},{"$f":"IF(#REF!=\"\",\"\",#REF!)","v":{"$error":"#REF!"}},{"$f":"IF(#REF!=\"\",\"\",#REF!)","v":{"$error":"#REF!"}},null,{"$f":"IF(#REF!=\"\",\"\",#REF!)","v":{"$error":"#REF!"}},{"$f":"IF(#REF!=\"\",\"\",#REF!)","v":{"$error":"#REF!"}},{"$f":"IF(#REF!=\"\",\"\",#REF!)","v":{"$error":"#REF!"}},{"$f":"IF(#REF!=\"\",\"\",#REF!)","v":{"$error":"#REF!"}},null,{"$f":"IF(#REF!=\"\",\"\",#REF!)","v":{"$error":"#REF!"}},null,null,null,null,null,null,null,"",{"$f":"IF(#REF!=\"\",\"\",#REF!)","v":{"$error":"#REF!"}}]
[null,{"$error":"#REF!"},{"$f":"IF(#REF!=\"\",\"\",VLOOKUP(D8,code!$A$1:$B$47,2,FALSE))","v":{"$error":"#REF!"}},{"$f":"IF(#REF!=\"\",\"\",#REF!)","v":{"$error":"#REF!"}},{"$f":"IF(#REF!=\"\",\"\",VLOOKUP((D8&F8),code!$E$1:$F$1741,2,FALSE))","v":{"$error":"#REF!"}},{"$f":"IF(#REF!=\"\",\"\",#REF!)","v":{"$error":"#REF!"}},{"$f":"IF(#REF!=\"\",\"\",#REF!)","v":{"$error":"#REF!"}},{"$f":"IF(#REF!=\"\",\"\",#REF!)","v":{"$error":"#REF!"}},{"$f":"IF(#REF!=\"\",\"\",#REF!)","v":{"$error":"#REF!"}},{"$f":"IF(#REF!=\"\",\"\",#REF!)","v":{"$error":"#REF!"}},{"$f":"IF(#REF!=\"\",\"\",#REF!)","v":{"$error":"#REF!"}},{"$f":"IF(#REF!=\"\",\"\",#REF!)","v":{"$error":"#REF!"}},{"$f":"IF(#REF!=\"\",\"\",#REF!)","v":{"$error":"#REF!"}},{"$f":"IF(#REF!=\"\",\"\",#REF!)","v":{"$error":"#REF!"}},{"$f":"IF(#REF!=\"\",\"\",#REF!)","v":{"$error":"#REF!"}},{"$f":"IF(#REF!=\"\",\"\",#REF!)","v":{"$error":"#REF!"}},{"$f":"IF(#REF!=\"\",\"\",#REF!)","v":{"$error":"#REF!"}},{"$f":"IF(#REF!=\"\",\"\",#REF!)","v":{"$error":"#REF!"}},{"$f":"IF(#REF!=\"\",\"\",#REF!)","v":{"$error":"#REF!"}},{"$f":"IF(#REF!=\"\",\"\",#REF!)","v":{"$error":"#REF!"}},{"$f":"IF(#REF!=\"\",\"\",#REF!)","v":{"$error":"#REF!"}},{"$f":"IF(#REF!=\"\",\"\",#REF!)","v":{"$error":"#REF!"}},{"$f":"IF(#REF!=\"\",\"\",#REF!)","v":{"$error":"#REF!"}},{"$f":"IF(#REF!=\"\",\"\",#REF!)","v":{"$error":"#REF!"}},{"$f":"IF(#REF!=\"\",\"\",#REF!)","v":{"$error":"#REF!"}},{"$f":"IF(#REF!=\"\",\"\",#REF!)","v":{"$error":"#REF!"}},{"$f":"IF(#REF!=\"\",\"\",#REF!)","v":{"$error":"#REF!"}},{"$f":"IF(#REF!=\"\",\"\",#REF!)","v":{"$error":"#REF!"}},{"$f":"IF(#REF!=\"\",\"\",#REF!)","v":{"$error":"#REF!"}},{"$f":"IF(#REF!=\"\",\"\",#REF!)","v":{"$error":"#REF!"}},{"$error":"#REF!"},{"$f":"IF(#REF!=\"\",\"\",#REF!)","v":{"$error":"#REF!"}},{"$f":"IF(#REF!=\"\",\"\",#REF!)","v":{"$error":"#REF!"}},{"$f":"IF(#REF!=\"\",\"\",#REF!)","v":{"$error":"#REF!"}},{"$f":"IF(#REF!=\"\",\"\",#REF!)","v":{"$error":"#REF!"}},{"$f":"IF(#REF!=\"\",\"\",#REF!)","v":{"$error":"#REF!"}},{"$f":"#REF!","v":{"$error":"#REF!"}},{"$f":"#REF!","v":{"$error":"#REF!"}},{"$f":"#REF!","v":{"$error":"#REF!"}},{"$f":"#REF!","v":{"$error":"#REF!"}},{"$error":"#REF!"},{"$f":"#REF!","v":{"$error":"#REF!"}},{"$f":"#REF!","v":{"$error":"#REF!"}},{"$f":"#REF!","v":{"$error":"#REF!"}},{"$f":"#REF!","v":{"$error":"#REF!"}},{"$f":"#REF!","v":{"$error":"#REF!"}},{"$error":"#REF!"},{"$f":"#REF!","v":{"$error":"#REF!"}},{"$f":"#REF!","v":{"$error":"#REF!"}},{"$f":"#REF!","v":{"$error":"#REF!"}},{"$f":"#REF!","v":{"$error":"#REF!"}},{"$f":"#REF!","v":{"$error":"#REF!"}},{"$f":"#REF!","v":{"$error":"#REF!"}},{"$f":"#REF!","v":{"$error":"#REF!"}},{"$f":"#REF!","v":{"$error":"#REF!"}},{"$f":"#REF!","v":{"$error":"#REF!"}},{"$f":"#REF!","v":{"$error":"#REF!"}},{"$f":"#REF!","v":{"$error":"#REF!"}},{"$f":"#REF!","v":{"$error":"#REF!"}},{"$f":"#REF!","v":{"$error":"#REF!"}},{"$f":"#REF!","v":{"$error":"#REF!"}},{"$f":"#REF!","v":{"$error":"#REF!"}},{"$f":"#REF!","v":{"$error":"#REF!"}},{"$f":"#REF!","v":{"$error":"#REF!"}},{"$f":"#REF!","v":{"$error":"#REF!"}},{"$f":"#REF!","v":{"$error":"#REF!"}},{"$f":"#REF!","v":{"$error":"#REF!"}},{"$f":"#REF!","v":{"$error":"#REF!"}},{"$f":"#REF!","v":{"$error":"#REF!"}},{"$f":"#REF!","v":{"$error":"#REF!"}},{"$f":"#REF!","v":{"$error":"#REF!"}},{"$f":"#REF!","v":{"$error":"#REF!"}},{"$f":"#REF!","v":{"$error":"#REF!"}},{"$f":"IF(#REF!=\"\",\"\",#REF!)","v":{"$error":"#REF!"}},{"$error":"#REF!"},{"$f":"IF(#REF!=\"\",\"\",#REF!)","v":{"$error":"#REF!"}},{"$f":"IF(#REF!=\"\",\"\",#REF!)","v":{"$error":"#REF!"}},{"$f":"IF(#REF!=\"\",\"\",#REF!)","v":{"$error":"#REF!"}},{"$f":"IF(#REF!=\"\",\"\",#REF!)","v":{"$error":"#REF!"}},{"$f":"IF(#REF!=\"\",\"\",#REF!)","v":{"$error":"#REF!"}},{"$f":"#REF!","v":{"$error":"#REF!"}},{"$f":"IF(#REF!=\"\",\"\",#REF!)","v":{"$error":"#REF!"}},{"$f":"#REF!","v":{"$error":"#REF!"}},{"$f":"IF(#REF!=\"\",\"\",#REF!)","v":{"$error":"#REF!"}},{"$f":"IF(#REF!=\"\",\"\",#REF!)","v":{"$error":"#REF!"}},{"$f":"#REF!","v":{"$error":"#REF!"}},{"$f":"#REF!","v":{"$error":"#REF!"}},{"$f":"IF(#REF!=\"\",\"\",#REF!)","v":{"$error":"#REF!"}},{"$f":"#REF!","v":{"$error":"#REF!"}},{"$f":"#REF!","v":{"$error":"#REF!"}},{"$f":"#REF!","v":{"$error":"#REF!"}},{"$f":"#REF!","v":{"$error":"#REF!"}},{"$f":"#REF!","v":{"$error":"#REF!"}},{"$f":"#REF!","v":{"$error":"#REF!"}},{"$f":"#REF!","v":{"$error":"#REF!"}},{"$f":"#REF!","v":{"$error":"#REF!"}},{"$f":"#REF!","v":{"$error":"#REF!"}},{"$f":"#REF!","v":{"$error":"#REF!"}},{"$f":"#REF!","v":{"$error":"#REF!"}},{"$f":"#REF!","v":{"$error":"#REF!"}},{"$f":"#REF!","v":{"$error":"#REF!"}},{"$f":"#REF!","v":{"$error":"#REF!"}},{"$f":"#REF!","v":{"$error":"#REF!"}},null,null,null,null,null,null,null,null,null,null,null,null,null,null,null,null,null,null,null,null,null,null,{"$f":"IF(#REF!=\"\",\"\",#REF!)","v":{"$error":"#REF!"}},{"$f":"IF(#REF!=\"\",\"\",#REF!)","v":{"$error":"#REF!"}},{"$f":"IF(#REF!=\"\",\"\",#REF!)","v":{"$error":"#REF!"}},null,{"$f":"IF(#REF!=\"\",\"\",#REF!)","v":{"$error":"#REF!"}},{"$f":"IF(#REF!=\"\",\"\",#REF!)","v":{"$error":"#REF!"}},{"$f":"IF(#REF!=\"\",\"\",#REF!)","v":{"$error":"#REF!"}},{"$f":"IF(#REF!=\"\",\"\",#REF!)","v":{"$error":"#REF!"}},null,{"$f":"IF(#REF!=\"\",\"\",#REF!)","v":{"$error":"#REF!"}},{"$f":"IF(#REF!=\"\",\"\",#REF!)","v":{"$error":"#REF!"}},{"$f":"IF(#REF!=\"\",\"\",#REF!)","v":{"$error":"#REF!"}},{"$f":"IF(#REF!=\"\",\"\",#REF!)","v":{"$error":"#REF!"}},null,{"$f":"IF(#REF!=\"\",\"\",#REF!)","v":{"$error":"#REF!"}},null,null,null,null,null,null,null,"",{"$f":"IF(#REF!=\"\",\"\",#REF!)","v":{"$error":"#REF!"}}]
[null,{"$error":"#REF!"},{"$f":"IF(#REF!=\"\",\"\",VLOOKUP(D9,code!$A$1:$B$47,2,FALSE))","v":{"$error":"#REF!"}},{"$f":"IF(#REF!=\"\",\"\",#REF!)","v":{"$error":"#REF!"}},{"$f":"IF(#REF!=\"\",\"\",VLOOKUP((D9&F9),code!$E$1:$F$1741,2,FALSE))","v":{"$error":"#REF!"}},{"$f":"IF(#REF!=\"\",\"\",#REF!)","v":{"$error":"#REF!"}},{"$f":"IF(#REF!=\"\",\"\",#REF!)","v":{"$error":"#REF!"}},{"$f":"IF(#REF!=\"\",\"\",#REF!)","v":{"$error":"#REF!"}},{"$f":"IF(#REF!=\"\",\"\",#REF!)","v":{"$error":"#REF!"}},{"$f":"IF(#REF!=\"\",\"\",#REF!)","v":{"$error":"#REF!"}},{"$f":"IF(#REF!=\"\",\"\",#REF!)","v":{"$error":"#REF!"}},{"$f":"IF(#REF!=\"\",\"\",#REF!)","v":{"$error":"#REF!"}},{"$f":"IF(#REF!=\"\",\"\",#REF!)","v":{"$error":"#REF!"}},{"$f":"IF(#REF!=\"\",\"\",#REF!)","v":{"$error":"#REF!"}},{"$f":"IF(#REF!=\"\",\"\",#REF!)","v":{"$error":"#REF!"}},{"$f":"IF(#REF!=\"\",\"\",#REF!)","v":{"$error":"#REF!"}},{"$f":"IF(#REF!=\"\",\"\",#REF!)","v":{"$error":"#REF!"}},{"$f":"IF(#REF!=\"\",\"\",#REF!)","v":{"$error":"#REF!"}},{"$f":"IF(#REF!=\"\",\"\",#REF!)","v":{"$error":"#REF!"}},{"$f":"IF(#REF!=\"\",\"\",#REF!)","v":{"$error":"#REF!"}},{"$f":"IF(#REF!=\"\",\"\",#REF!)","v":{"$error":"#REF!"}},{"$f":"IF(#REF!=\"\",\"\",#REF!)","v":{"$error":"#REF!"}},{"$f":"IF(#REF!=\"\",\"\",#REF!)","v":{"$error":"#REF!"}},{"$f":"IF(#REF!=\"\",\"\",#REF!)","v":{"$error":"#REF!"}},{"$f":"IF(#REF!=\"\",\"\",#REF!)","v":{"$error":"#REF!"}},{"$f":"IF(#REF!=\"\",\"\",#REF!)","v":{"$error":"#REF!"}},{"$f":"IF(#REF!=\"\",\"\",#REF!)","v":{"$error":"#REF!"}},{"$f":"IF(#REF!=\"\",\"\",#REF!)","v":{"$error":"#REF!"}},{"$f":"IF(#REF!=\"\",\"\",#REF!)","v":{"$error":"#REF!"}},{"$f":"IF(#REF!=\"\",\"\",#REF!)","v":{"$error":"#REF!"}},{"$error":"#REF!"},{"$f":"IF(#REF!=\"\",\"\",#REF!)","v":{"$error":"#REF!"}},{"$f":"IF(#REF!=\"\",\"\",#REF!)","v":{"$error":"#REF!"}},{"$f":"IF(#REF!=\"\",\"\",#REF!)","v":{"$error":"#REF!"}},{"$f":"IF(#REF!=\"\",\"\",#REF!)","v":{"$error":"#REF!"}},{"$f":"IF(#REF!=\"\",\"\",#REF!)","v":{"$error":"#REF!"}},{"$f":"#REF!","v":{"$error":"#REF!"}},{"$f":"#REF!","v":{"$error":"#REF!"}},{"$f":"#REF!","v":{"$error":"#REF!"}},{"$f":"#REF!","v":{"$error":"#REF!"}},{"$error":"#REF!"},{"$f":"#REF!","v":{"$error":"#REF!"}},{"$f":"#REF!","v":{"$error":"#REF!"}},{"$f":"#REF!","v":{"$error":"#REF!"}},{"$f":"#REF!","v":{"$error":"#REF!"}},{"$f":"#REF!","v":{"$error":"#REF!"}},{"$error":"#REF!"},{"$f":"#REF!","v":{"$error":"#REF!"}},{"$f":"#REF!","v":{"$error":"#REF!"}},{"$f":"#REF!","v":{"$error":"#REF!"}},{"$f":"#REF!","v":{"$error":"#REF!"}},{"$f":"#REF!","v":{"$error":"#REF!"}},{"$f":"#REF!","v":{"$error":"#REF!"}},{"$f":"#REF!","v":{"$error":"#REF!"}},{"$f":"#REF!","v":{"$error":"#REF!"}},{"$f":"#REF!","v":{"$error":"#REF!"}},{"$f":"#REF!","v":{"$error":"#REF!"}},{"$f":"#REF!","v":{"$error":"#REF!"}},{"$f":"#REF!","v":{"$error":"#REF!"}},{"$f":"#REF!","v":{"$error":"#REF!"}},{"$f":"#REF!","v":{"$error":"#REF!"}},{"$f":"#REF!","v":{"$error":"#REF!"}},{"$f":"#REF!","v":{"$error":"#REF!"}},{"$f":"#REF!","v":{"$error":"#REF!"}},{"$f":"#REF!","v":{"$error":"#REF!"}},{"$f":"#REF!","v":{"$error":"#REF!"}},{"$f":"#REF!","v":{"$error":"#REF!"}},{"$f":"#REF!","v":{"$error":"#REF!"}},{"$f":"#REF!","v":{"$error":"#REF!"}},{"$f":"#REF!","v":{"$error":"#REF!"}},{"$f":"#REF!","v":{"$error":"#REF!"}},{"$f":"#REF!","v":{"$error":"#REF!"}},{"$f":"#REF!","v":{"$error":"#REF!"}},{"$f":"IF(#REF!=\"\",\"\",#REF!)","v":{"$error":"#REF!"}},{"$error":"#REF!"},{"$f":"IF(#REF!=\"\",\"\",#REF!)","v":{"$error":"#REF!"}},{"$f":"IF(#REF!=\"\",\"\",#REF!)","v":{"$error":"#REF!"}},{"$f":"IF(#REF!=\"\",\"\",#REF!)","v":{"$error":"#REF!"}},{"$f":"IF(#REF!=\"\",\"\",#REF!)","v":{"$error":"#REF!"}},{"$f":"IF(#REF!=\"\",\"\",#REF!)","v":{"$error":"#REF!"}},{"$f":"#REF!","v":{"$error":"#REF!"}},{"$f":"IF(#REF!=\"\",\"\",#REF!)","v":{"$error":"#REF!"}},{"$f":"#REF!","v":{"$error":"#REF!"}},{"$f":"IF(#REF!=\"\",\"\",#REF!)","v":{"$error":"#REF!"}},{"$f":"IF(#REF!=\"\",\"\",#REF!)","v":{"$error":"#REF!"}},{"$f":"#REF!","v":{"$error":"#REF!"}},{"$f":"#REF!","v":{"$error":"#REF!"}},{"$f":"IF(#REF!=\"\",\"\",#REF!)","v":{"$error":"#REF!"}},{"$f":"#REF!","v":{"$error":"#REF!"}},{"$f":"#REF!","v":{"$error":"#REF!"}},{"$f":"#REF!","v":{"$error":"#REF!"}},{"$f":"#REF!","v":{"$error":"#REF!"}},{"$f":"#REF!","v":{"$error":"#REF!"}},{"$f":"#REF!","v":{"$error":"#REF!"}},{"$f":"#REF!","v":{"$error":"#REF!"}},{"$f":"#REF!","v":{"$error":"#REF!"}},{"$f":"#REF!","v":{"$error":"#REF!"}},{"$f":"#REF!","v":{"$error":"#REF!"}},{"$f":"#REF!","v":{"$error":"#REF!"}},{"$f":"#REF!","v":{"$error":"#REF!"}},{"$f":"#REF!","v":{"$error":"#REF!"}},{"$f":"#REF!","v":{"$error":"#REF!"}},{"$f":"#REF!","v":{"$error":"#REF!"}},null,null,null,null,null,null,null,null,null,null,null,null,null,null,null,null,null,null,null,null,null,null,{"$f":"IF(#REF!=\"\",\"\",#REF!)","v":{"$error":"#REF!"}},{"$f":"IF(#REF!=\"\",\"\",#REF!)","v":{"$error":"#REF!"}},{"$f":"IF(#REF!=\"\",\"\",#REF!)","v":{"$error":"#REF!"}},null,{"$f":"IF(#REF!=\"\",\"\",#REF!)","v":{"$error":"#REF!"}},{"$f":"IF(#REF!=\"\",\"\",#REF!)","v":{"$error":"#REF!"}},{"$f":"IF(#REF!=\"\",\"\",#REF!)","v":{"$error":"#REF!"}},{"$f":"IF(#REF!=\"\",\"\",#REF!)","v":{"$error":"#REF!"}},null,{"$f":"IF(#REF!=\"\",\"\",#REF!)","v":{"$error":"#REF!"}},{"$f":"IF(#REF!=\"\",\"\",#REF!)","v":{"$error":"#REF!"}},{"$f":"IF(#REF!=\"\",\"\",#REF!)","v":{"$error":"#REF!"}},{"$f":"IF(#REF!=\"\",\"\",#REF!)","v":{"$error":"#REF!"}},null,{"$f":"IF(#REF!=\"\",\"\",#REF!)","v":{"$error":"#REF!"}},null,null,null,null,null,null,null,"",{"$f":"IF(#REF!=\"\",\"\",#REF!)","v":{"$error":"#REF!"}}]
[null,{"$error":"#REF!"},{"$f":"IF(#REF!=\"\",\"\",VLOOKUP(D10,code!$A$1:$B$47,2,FALSE))","v":{"$error":"#REF!"}},{"$f":"IF(#REF!=\"\",\"\",#REF!)","v":{"$error":"#REF!"}},{"$f":"IF(#REF!=\"\",\"\",VLOOKUP((D10&F10),code!$E$1:$F$1741,2,FALSE))","v":{"$error":"#REF!"}},{"$f":"IF(#REF!=\"\",\"\",#REF!)","v":{"$error":"#REF!"}},{"$f":"IF(#REF!=\"\",\"\",#REF!)","v":{"$error":"#REF!"}},{"$f":"IF(#REF!=\"\",\"\",#REF!)","v":{"$error":"#REF!"}},{"$f":"IF(#REF!=\"\",\"\",#REF!)","v":{"$error":"#REF!"}},{"$f":"IF(#REF!=\"\",\"\",#REF!)","v":{"$error":"#REF!"}},{"$f":"IF(#REF!=\"\",\"\",#REF!)","v":{"$error":"#REF!"}},{"$f":"IF(#REF!=\"\",\"\",#REF!)","v":{"$error":"#REF!"}},{"$f":"IF(#REF!=\"\",\"\",#REF!)","v":{"$error":"#REF!"}},{"$f":"IF(#REF!=\"\",\"\",#REF!)","v":{"$error":"#REF!"}},{"$f":"IF(#REF!=\"\",\"\",#REF!)","v":{"$error":"#REF!"}},{"$f":"IF(#REF!=\"\",\"\",#REF!)","v":{"$error":"#REF!"}},{"$f":"IF(#REF!=\"\",\"\",#REF!)","v":{"$error":"#REF!"}},{"$f":"IF(#REF!=\"\",\"\",#REF!)","v":{"$error":"#REF!"}},{"$f":"IF(#REF!=\"\",\"\",#REF!)","v":{"$error":"#REF!"}},{"$f":"IF(#REF!=\"\",\"\",#REF!)","v":{"$error":"#REF!"}},{"$f":"IF(#REF!=\"\",\"\",#REF!)","v":{"$error":"#REF!"}},{"$f":"IF(#REF!=\"\",\"\",#REF!)","v":{"$error":"#REF!"}},{"$f":"IF(#REF!=\"\",\"\",#REF!)","v":{"$error":"#REF!"}},{"$f":"IF(#REF!=\"\",\"\",#REF!)","v":{"$error":"#REF!"}},{"$f":"IF(#REF!=\"\",\"\",#REF!)","v":{"$error":"#REF!"}},{"$f":"IF(#REF!=\"\",\"\",#REF!)","v":{"$error":"#REF!"}},{"$f":"IF(#REF!=\"\",\"\",#REF!)","v":{"$error":"#REF!"}},{"$f":"IF(#REF!=\"\",\"\",#REF!)","v":{"$error":"#REF!"}},{"$f":"IF(#REF!=\"\",\"\",#REF!)","v":{"$error":"#REF!"}},{"$f":"IF(#REF!=\"\",\"\",#REF!)","v":{"$error":"#REF!"}},{"$error":"#REF!"},{"$f":"IF(#REF!=\"\",\"\",#REF!)","v":{"$error":"#REF!"}},{"$f":"IF(#REF!=\"\",\"\",#REF!)","v":{"$error":"#REF!"}},{"$f":"IF(#REF!=\"\",\"\",#REF!)","v":{"$error":"#REF!"}},{"$f":"IF(#REF!=\"\",\"\",#REF!)","v":{"$error":"#REF!"}},{"$f":"IF(#REF!=\"\",\"\",#REF!)","v":{"$error":"#REF!"}},{"$f":"#REF!","v":{"$error":"#REF!"}},{"$f":"#REF!","v":{"$error":"#REF!"}},{"$f":"#REF!","v":{"$error":"#REF!"}},{"$f":"#REF!","v":{"$error":"#REF!"}},{"$error":"#REF!"},{"$f":"#REF!","v":{"$error":"#REF!"}},{"$f":"#REF!","v":{"$error":"#REF!"}},{"$f":"#REF!","v":{"$error":"#REF!"}},{"$f":"#REF!","v":{"$error":"#REF!"}},{"$f":"#REF!","v":{"$error":"#REF!"}},{"$error":"#REF!"},{"$f":"#REF!","v":{"$error":"#REF!"}},{"$f":"#REF!","v":{"$error":"#REF!"}},{"$f":"#REF!","v":{"$error":"#REF!"}},{"$f":"#REF!","v":{"$error":"#REF!"}},{"$f":"#REF!","v":{"$error":"#REF!"}},{"$f":"#REF!","v":{"$error":"#REF!"}},{"$f":"#REF!","v":{"$error":"#REF!"}},{"$f":"#REF!","v":{"$error":"#REF!"}},{"$f":"#REF!","v":{"$error":"#REF!"}},{"$f":"#REF!","v":{"$error":"#REF!"}},{"$f":"#REF!","v":{"$error":"#REF!"}},{"$f":"#REF!","v":{"$error":"#REF!"}},{"$f":"#REF!","v":{"$error":"#REF!"}},{"$f":"#REF!","v":{"$error":"#REF!"}},{"$f":"#REF!","v":{"$error":"#REF!"}},{"$f":"#REF!","v":{"$error":"#REF!"}},{"$f":"#REF!","v":{"$error":"#REF!"}},{"$f":"#REF!","v":{"$error":"#REF!"}},{"$f":"#REF!","v":{"$error":"#REF!"}},{"$f":"#REF!","v":{"$error":"#REF!"}},{"$f":"#REF!","v":{"$error":"#REF!"}},{"$f":"#REF!","v":{"$error":"#REF!"}},{"$f":"#REF!","v":{"$error":"#REF!"}},{"$f":"#REF!","v":{"$error":"#REF!"}},{"$f":"#REF!","v":{"$error":"#REF!"}},{"$f":"#REF!","v":{"$error":"#REF!"}},{"$f":"IF(#REF!=\"\",\"\",#REF!)","v":{"$error":"#REF!"}},{"$error":"#REF!"},{"$f":"IF(#REF!=\"\",\"\",#REF!)","v":{"$error":"#REF!"}},{"$f":"IF(#REF!=\"\",\"\",#REF!)","v":{"$error":"#REF!"}},{"$f":"IF(#REF!=\"\",\"\",#REF!)","v":{"$error":"#REF!"}},{"$f":"IF(#REF!=\"\",\"\",#REF!)","v":{"$error":"#REF!"}},{"$f":"IF(#REF!=\"\",\"\",#REF!)","v":{"$error":"#REF!"}},{"$f":"#REF!","v":{"$error":"#REF!"}},{"$f":"IF(#REF!=\"\",\"\",#REF!)","v":{"$error":"#REF!"}},{"$f":"#REF!","v":{"$error":"#REF!"}},{"$f":"IF(#REF!=\"\",\"\",#REF!)","v":{"$error":"#REF!"}},{"$f":"IF(#REF!=\"\",\"\",#REF!)","v":{"$error":"#REF!"}},{"$f":"#REF!","v":{"$error":"#REF!"}},{"$f":"#REF!","v":{"$error":"#REF!"}},{"$f":"IF(#REF!=\"\",\"\",#REF!)","v":{"$error":"#REF!"}},{"$f":"#REF!","v":{"$error":"#REF!"}},{"$f":"#REF!","v":{"$error":"#REF!"}},{"$f":"#REF!","v":{"$error":"#REF!"}},{"$f":"#REF!","v":{"$error":"#REF!"}},{"$f":"#REF!","v":{"$error":"#REF!"}},{"$f":"#REF!","v":{"$error":"#REF!"}},{"$f":"#REF!","v":{"$error":"#REF!"}},{"$f":"#REF!","v":{"$error":"#REF!"}},{"$f":"#REF!","v":{"$error":"#REF!"}},{"$f":"#REF!","v":{"$error":"#REF!"}},{"$f":"#REF!","v":{"$error":"#REF!"}},{"$f":"#REF!","v":{"$error":"#REF!"}},{"$f":"#REF!","v":{"$error":"#REF!"}},{"$f":"#REF!","v":{"$error":"#REF!"}},{"$f":"#REF!","v":{"$error":"#REF!"}},null,null,null,null,null,null,null,null,null,null,null,null,null,null,null,null,null,null,null,null,null,null,{"$f":"IF(#REF!=\"\",\"\",#REF!)","v":{"$error":"#REF!"}},{"$f":"IF(#REF!=\"\",\"\",#REF!)","v":{"$error":"#REF!"}},{"$f":"IF(#REF!=\"\",\"\",#REF!)","v":{"$error":"#REF!"}},null,{"$f":"IF(#REF!=\"\",\"\",#REF!)","v":{"$error":"#REF!"}},{"$f":"IF(#REF!=\"\",\"\",#REF!)","v":{"$error":"#REF!"}},{"$f":"IF(#REF!=\"\",\"\",#REF!)","v":{"$error":"#REF!"}},{"$f":"IF(#REF!=\"\",\"\",#REF!)","v":{"$error":"#REF!"}},null,{"$f":"IF(#REF!=\"\",\"\",#REF!)","v":{"$error":"#REF!"}},{"$f":"IF(#REF!=\"\",\"\",#REF!)","v":{"$error":"#REF!"}},{"$f":"IF(#REF!=\"\",\"\",#REF!)","v":{"$error":"#REF!"}},{"$f":"IF(#REF!=\"\",\"\",#REF!)","v":{"$error":"#REF!"}},null,{"$f":"IF(#REF!=\"\",\"\",#REF!)","v":{"$error":"#REF!"}},null,null,null,null,null,null,null,"",{"$f":"IF(#REF!=\"\",\"\",#REF!)","v":{"$error":"#REF!"}}]
[null,{"$error":"#REF!"},{"$f":"IF(#REF!=\"\",\"\",VLOOKUP(D11,code!$A$1:$B$47,2,FALSE))","v":{"$error":"#REF!"}},{"$f":"IF(#REF!=\"\",\"\",#REF!)","v":{"$error":"#REF!"}},{"$f":"IF(#REF!=\"\",\"\",VLOOKUP((D11&F11),code!$E$1:$F$1741,2,FALSE))","v":{"$error":"#REF!"}},{"$f":"IF(#REF!=\"\",\"\",#REF!)","v":{"$error":"#REF!"}},{"$f":"IF(#REF!=\"\",\"\",#REF!)","v":{"$error":"#REF!"}},{"$f":"IF(#REF!=\"\",\"\",#REF!)","v":{"$error":"#REF!"}},{"$f":"IF(#REF!=\"\",\"\",#REF!)","v":{"$error":"#REF!"}},{"$f":"IF(#REF!=\"\",\"\",#REF!)","v":{"$error":"#REF!"}},{"$f":"IF(#REF!=\"\",\"\",#REF!)","v":{"$error":"#REF!"}},{"$f":"IF(#REF!=\"\",\"\",#REF!)","v":{"$error":"#REF!"}},{"$f":"IF(#REF!=\"\",\"\",#REF!)","v":{"$error":"#REF!"}},{"$f":"IF(#REF!=\"\",\"\",#REF!)","v":{"$error":"#REF!"}},{"$f":"IF(#REF!=\"\",\"\",#REF!)","v":{"$error":"#REF!"}},{"$f":"IF(#REF!=\"\",\"\",#REF!)","v":{"$error":"#REF!"}},{"$f":"IF(#REF!=\"\",\"\",#REF!)","v":{"$error":"#REF!"}},{"$f":"IF(#REF!=\"\",\"\",#REF!)","v":{"$error":"#REF!"}},{"$f":"IF(#REF!=\"\",\"\",#REF!)","v":{"$error":"#REF!"}},{"$f":"IF(#REF!=\"\",\"\",#REF!)","v":{"$error":"#REF!"}},{"$f":"IF(#REF!=\"\",\"\",#REF!)","v":{"$error":"#REF!"}},{"$f":"IF(#REF!=\"\",\"\",#REF!)","v":{"$error":"#REF!"}},{"$f":"IF(#REF!=\"\",\"\",#REF!)","v":{"$error":"#REF!"}},{"$f":"IF(#REF!=\"\",\"\",#REF!)","v":{"$error":"#REF!"}},{"$f":"IF(#REF!=\"\",\"\",#REF!)","v":{"$error":"#REF!"}},{"$f":"IF(#REF!=\"\",\"\",#REF!)","v":{"$error":"#REF!"}},{"$f":"IF(#REF!=\"\",\"\",#REF!)","v":{"$error":"#REF!"}},{"$f":"IF(#REF!=\"\",\"\",#REF!)","v":{"$error":"#REF!"}},{"$f":"IF(#REF!=\"\",\"\",#REF!)","v":{"$error":"#REF!"}},{"$f":"IF(#REF!=\"\",\"\",#REF!)","v":{"$error":"#REF!"}},{"$error":"#REF!"},{"$f":"IF(#REF!=\"\",\"\",#REF!)","v":{"$error":"#REF!"}},{"$f":"IF(#REF!=\"\",\"\",#REF!)","v":{"$error":"#REF!"}},{"$f":"IF(#REF!=\"\",\"\",#REF!)","v":{"$error":"#REF!"}},{"$f":"IF(#REF!=\"\",\"\",#REF!)","v":{"$error":"#REF!"}},{"$f":"IF(#REF!=\"\",\"\",#REF!)","v":{"$error":"#REF!"}},{"$f":"#REF!","v":{"$error":"#REF!"}},{"$f":"#REF!","v":{"$error":"#REF!"}},{"$f":"#REF!","v":{"$error":"#REF!"}},{"$f":"#REF!","v":{"$error":"#REF!"}},{"$error":"#REF!"},{"$f":"#REF!","v":{"$error":"#REF!"}},{"$f":"#REF!","v":{"$error":"#REF!"}},{"$f":"#REF!","v":{"$error":"#REF!"}},{"$f":"#REF!","v":{"$error":"#REF!"}},{"$f":"#REF!","v":{"$error":"#REF!"}},{"$error":"#REF!"},{"$f":"#REF!","v":{"$error":"#REF!"}},{"$f":"#REF!","v":{"$error":"#REF!"}},{"$f":"#REF!","v":{"$error":"#REF!"}},{"$f":"#REF!","v":{"$error":"#REF!"}},{"$f":"#REF!","v":{"$error":"#REF!"}},{"$f":"#REF!","v":{"$error":"#REF!"}},{"$f":"#REF!","v":{"$error":"#REF!"}},{"$f":"#REF!","v":{"$error":"#REF!"}},{"$f":"#REF!","v":{"$error":"#REF!"}},{"$f":"#REF!","v":{"$error":"#REF!"}},{"$f":"#REF!","v":{"$error":"#REF!"}},{"$f":"#REF!","v":{"$error":"#REF!"}},{"$f":"#REF!","v":{"$error":"#REF!"}},{"$f":"#REF!","v":{"$error":"#REF!"}},{"$f":"#REF!","v":{"$error":"#REF!"}},{"$f":"#REF!","v":{"$error":"#REF!"}},{"$f":"#REF!","v":{"$error":"#REF!"}},{"$f":"#REF!","v":{"$error":"#REF!"}},{"$f":"#REF!","v":{"$error":"#REF!"}},{"$f":"#REF!","v":{"$error":"#REF!"}},{"$f":"#REF!","v":{"$error":"#REF!"}},{"$f":"#REF!","v":{"$error":"#REF!"}},{"$f":"#REF!","v":{"$error":"#REF!"}},{"$f":"#REF!","v":{"$error":"#REF!"}},{"$f":"#REF!","v":{"$error":"#REF!"}},{"$f":"#REF!","v":{"$error":"#REF!"}},{"$f":"IF(#REF!=\"\",\"\",#REF!)","v":{"$error":"#REF!"}},{"$error":"#REF!"},{"$f":"IF(#REF!=\"\",\"\",#REF!)","v":{"$error":"#REF!"}},{"$f":"IF(#REF!=\"\",\"\",#REF!)","v":{"$error":"#REF!"}},{"$f":"IF(#REF!=\"\",\"\",#REF!)","v":{"$error":"#REF!"}},{"$f":"IF(#REF!=\"\",\"\",#REF!)","v":{"$error":"#REF!"}},{"$f":"IF(#REF!=\"\",\"\",#REF!)","v":{"$error":"#REF!"}},{"$f":"#REF!","v":{"$error":"#REF!"}},{"$f":"IF(#REF!=\"\",\"\",#REF!)","v":{"$error":"#REF!"}},{"$f":"#REF!","v":{"$error":"#REF!"}},{"$f":"IF(#REF!=\"\",\"\",#REF!)","v":{"$error":"#REF!"}},{"$f":"IF(#REF!=\"\",\"\",#REF!)","v":{"$error":"#REF!"}},{"$f":"#REF!","v":{"$error":"#REF!"}},{"$f":"#REF!","v":{"$error":"#REF!"}},{"$f":"IF(#REF!=\"\",\"\",#REF!)","v":{"$error":"#REF!"}},{"$f":"#REF!","v":{"$error":"#REF!"}},{"$f":"#REF!","v":{"$error":"#REF!"}},{"$f":"#REF!","v":{"$error":"#REF!"}},{"$f":"#REF!","v":{"$error":"#REF!"}},{"$f":"#REF!","v":{"$error":"#REF!"}},{"$f":"#REF!","v":{"$error":"#REF!"}},{"$f":"#REF!","v":{"$error":"#REF!"}},{"$f":"#REF!","v":{"$error":"#REF!"}},{"$f":"#REF!","v":{"$error":"#REF!"}},{"$f":"#REF!","v":{"$error":"#REF!"}},{"$f":"#REF!","v":{"$error":"#REF!"}},{"$f":"#REF!","v":{"$error":"#REF!"}},{"$f":"#REF!","v":{"$error":"#REF!"}},{"$f":"#REF!","v":{"$error":"#REF!"}},{"$f":"#REF!","v":{"$error":"#REF!"}},null,null,null,null,null,null,null,null,null,null,null,null,null,null,null,null,null,null,null,null,null,null,{"$f":"IF(#REF!=\"\",\"\",#REF!)","v":{"$error":"#REF!"}},{"$f":"IF(#REF!=\"\",\"\",#REF!)","v":{"$error":"#REF!"}},{"$f":"IF(#REF!=\"\",\"\",#REF!)","v":{"$error":"#REF!"}},null,{"$f":"IF(#REF!=\"\",\"\",#REF!)","v":{"$error":"#REF!"}},{"$f":"IF(#REF!=\"\",\"\",#REF!)","v":{"$error":"#REF!"}},{"$f":"IF(#REF!=\"\",\"\",#REF!)","v":{"$error":"#REF!"}},{"$f":"IF(#REF!=\"\",\"\",#REF!)","v":{"$error":"#REF!"}},null,{"$f":"IF(#REF!=\"\",\"\",#REF!)","v":{"$error":"#REF!"}},{"$f":"IF(#REF!=\"\",\"\",#REF!)","v":{"$error":"#REF!"}},{"$f":"IF(#REF!=\"\",\"\",#REF!)","v":{"$error":"#REF!"}},{"$f":"IF(#REF!=\"\",\"\",#REF!)","v":{"$error":"#REF!"}},null,{"$f":"IF(#REF!=\"\",\"\",#REF!)","v":{"$error":"#REF!"}},null,null,null,null,null,null,null,"",{"$f":"IF(#REF!=\"\",\"\",#REF!)","v":{"$error":"#REF!"}}]
[null,{"$error":"#REF!"},{"$f":"IF(#REF!=\"\",\"\",VLOOKUP(D12,code!$A$1:$B$47,2,FALSE))","v":{"$error":"#REF!"}},{"$f":"IF(#REF!=\"\",\"\",#REF!)","v":{"$error":"#REF!"}},{"$f":"IF(#REF!=\"\",\"\",VLOOKUP((D12&F12),code!$E$1:$F$1741,2,FALSE))","v":{"$error":"#REF!"}},{"$f":"IF(#REF!=\"\",\"\",#REF!)","v":{"$error":"#REF!"}},{"$f":"IF(#REF!=\"\",\"\",#REF!)","v":{"$error":"#REF!"}},{"$f":"IF(#REF!=\"\",\"\",#REF!)","v":{"$error":"#REF!"}},{"$f":"IF(#REF!=\"\",\"\",#REF!)","v":{"$error":"#REF!"}},{"$f":"IF(#REF!=\"\",\"\",#REF!)","v":{"$error":"#REF!"}},{"$f":"IF(#REF!=\"\",\"\",#REF!)","v":{"$error":"#REF!"}},{"$f":"IF(#REF!=\"\",\"\",#REF!)","v":{"$error":"#REF!"}},{"$f":"IF(#REF!=\"\",\"\",#REF!)","v":{"$error":"#REF!"}},{"$f":"IF(#REF!=\"\",\"\",#REF!)","v":{"$error":"#REF!"}},{"$f":"IF(#REF!=\"\",\"\",#REF!)","v":{"$error":"#REF!"}},{"$f":"IF(#REF!=\"\",\"\",#REF!)","v":{"$error":"#REF!"}},{"$f":"IF(#REF!=\"\",\"\",#REF!)","v":{"$error":"#REF!"}},{"$f":"IF(#REF!=\"\",\"\",#REF!)","v":{"$error":"#REF!"}},{"$f":"IF(#REF!=\"\",\"\",#REF!)","v":{"$error":"#REF!"}},{"$f":"IF(#REF!=\"\",\"\",#REF!)","v":{"$error":"#REF!"}},{"$f":"IF(#REF!=\"\",\"\",#REF!)","v":{"$error":"#REF!"}},{"$f":"IF(#REF!=\"\",\"\",#REF!)","v":{"$error":"#REF!"}},{"$f":"IF(#REF!=\"\",\"\",#REF!)","v":{"$error":"#REF!"}},{"$f":"IF(#REF!=\"\",\"\",#REF!)","v":{"$error":"#REF!"}},{"$f":"IF(#REF!=\"\",\"\",#REF!)","v":{"$error":"#REF!"}},{"$f":"IF(#REF!=\"\",\"\",#REF!)","v":{"$error":"#REF!"}},{"$f":"IF(#REF!=\"\",\"\",#REF!)","v":{"$error":"#REF!"}},{"$f":"IF(#REF!=\"\",\"\",#REF!)","v":{"$error":"#REF!"}},{"$f":"IF(#REF!=\"\",\"\",#REF!)","v":{"$error":"#REF!"}},{"$f":"IF(#REF!=\"\",\"\",#REF!)","v":{"$error":"#REF!"}},{"$error":"#REF!"},{"$f":"IF(#REF!=\"\",\"\",#REF!)","v":{"$error":"#REF!"}},{"$f":"IF(#REF!=\"\",\"\",#REF!)","v":{"$error":"#REF!"}},{"$f":"IF(#REF!=\"\",\"\",#REF!)","v":{"$error":"#REF!"}},{"$f":"IF(#REF!=\"\",\"\",#REF!)","v":{"$error":"#REF!"}},{"$f":"IF(#REF!=\"\",\"\",#REF!)","v":{"$error":"#REF!"}},{"$f":"#REF!","v":{"$error":"#REF!"}},{"$f":"#REF!","v":{"$error":"#REF!"}},{"$f":"#REF!","v":{"$error":"#REF!"}},{"$f":"#REF!","v":{"$error":"#REF!"}},{"$error":"#REF!"},{"$f":"#REF!","v":{"$error":"#REF!"}},{"$f":"#REF!","v":{"$error":"#REF!"}},{"$f":"#REF!","v":{"$error":"#REF!"}},{"$f":"#REF!","v":{"$error":"#REF!"}},{"$f":"#REF!","v":{"$error":"#REF!"}},{"$error":"#REF!"},{"$f":"#REF!","v":{"$error":"#REF!"}},{"$f":"#REF!","v":{"$error":"#REF!"}},{"$f":"#REF!","v":{"$error":"#REF!"}},{"$f":"#REF!","v":{"$error":"#REF!"}},{"$f":"#REF!","v":{"$error":"#REF!"}},{"$f":"#REF!","v":{"$error":"#REF!"}},{"$f":"#REF!","v":{"$error":"#REF!"}},{"$f":"#REF!","v":{"$error":"#REF!"}},{"$f":"#REF!","v":{"$error":"#REF!"}},{"$f":"#REF!","v":{"$error":"#REF!"}},{"$f":"#REF!","v":{"$error":"#REF!"}},{"$f":"#REF!","v":{"$error":"#REF!"}},{"$f":"#REF!","v":{"$error":"#REF!"}},{"$f":"#REF!","v":{"$error":"#REF!"}},{"$f":"#REF!","v":{"$error":"#REF!"}},{"$f":"#REF!","v":{"$error":"#REF!"}},{"$f":"#REF!","v":{"$error":"#REF!"}},{"$f":"#REF!","v":{"$error":"#REF!"}},{"$f":"#REF!","v":{"$error":"#REF!"}},{"$f":"#REF!","v":{"$error":"#REF!"}},{"$f":"#REF!","v":{"$error":"#REF!"}},{"$f":"#REF!","v":{"$error":"#REF!"}},{"$f":"#REF!","v":{"$error":"#REF!"}},{"$f":"#REF!","v":{"$error":"#REF!"}},{"$f":"#REF!","v":{"$error":"#REF!"}},{"$f":"#REF!","v":{"$error":"#REF!"}},{"$f":"IF(#REF!=\"\",\"\",#REF!)","v":{"$error":"#REF!"}},{"$error":"#REF!"},{"$f":"IF(#REF!=\"\",\"\",#REF!)","v":{"$error":"#REF!"}},{"$f":"IF(#REF!=\"\",\"\",#REF!)","v":{"$error":"#REF!"}},{"$f":"IF(#REF!=\"\",\"\",#REF!)","v":{"$error":"#REF!"}},{"$f":"IF(#REF!=\"\",\"\",#REF!)","v":{"$error":"#REF!"}},{"$f":"IF(#REF!=\"\",\"\",#REF!)","v":{"$error":"#REF!"}},{"$f":"#REF!","v":{"$error":"#REF!"}},{"$f":"IF(#REF!=\"\",\"\",#REF!)","v":{"$error":"#REF!"}},{"$f":"#REF!","v":{"$error":"#REF!"}},{"$f":"IF(#REF!=\"\",\"\",#REF!)","v":{"$error":"#REF!"}},{"$f":"IF(#REF!=\"\",\"\",#REF!)","v":{"$error":"#REF!"}},{"$f":"#REF!","v":{"$error":"#REF!"}},{"$f":"#REF!","v":{"$error":"#REF!"}},{"$f":"IF(#REF!=\"\",\"\",#REF!)","v":{"$error":"#REF!"}},{"$f":"#REF!","v":{"$error":"#REF!"}},{"$f":"#REF!","v":{"$error":"#REF!"}},{"$f":"#REF!","v":{"$error":"#REF!"}},{"$f":"#REF!","v":{"$error":"#REF!"}},{"$f":"#REF!","v":{"$error":"#REF!"}},{"$f":"#REF!","v":{"$error":"#REF!"}},{"$f":"#REF!","v":{"$error":"#REF!"}},{"$f":"#REF!","v":{"$error":"#REF!"}},{"$f":"#REF!","v":{"$error":"#REF!"}},{"$f":"#REF!","v":{"$error":"#REF!"}},{"$f":"#REF!","v":{"$error":"#REF!"}},{"$f":"#REF!","v":{"$error":"#REF!"}},{"$f":"#REF!","v":{"$error":"#REF!"}},{"$f":"#REF!","v":{"$error":"#REF!"}},{"$f":"#REF!","v":{"$error":"#REF!"}},null,null,null,null,null,null,null,null,null,null,null,null,null,null,null,null,null,null,null,null,null,null,{"$f":"IF(#REF!=\"\",\"\",#REF!)","v":{"$error":"#REF!"}},{"$f":"IF(#REF!=\"\",\"\",#REF!)","v":{"$error":"#REF!"}},{"$f":"IF(#REF!=\"\",\"\",#REF!)","v":{"$error":"#REF!"}},null,{"$f":"IF(#REF!=\"\",\"\",#REF!)","v":{"$error":"#REF!"}},{"$f":"IF(#REF!=\"\",\"\",#REF!)","v":{"$error":"#REF!"}},{"$f":"IF(#REF!=\"\",\"\",#REF!)","v":{"$error":"#REF!"}},{"$f":"IF(#REF!=\"\",\"\",#REF!)","v":{"$error":"#REF!"}},null,{"$f":"IF(#REF!=\"\",\"\",#REF!)","v":{"$error":"#REF!"}},{"$f":"IF(#REF!=\"\",\"\",#REF!)","v":{"$error":"#REF!"}},{"$f":"IF(#REF!=\"\",\"\",#REF!)","v":{"$error":"#REF!"}},{"$f":"IF(#REF!=\"\",\"\",#REF!)","v":{"$error":"#REF!"}},null,{"$f":"IF(#REF!=\"\",\"\",#REF!)","v":{"$error":"#REF!"}},null,null,null,null,null,null,null,"",{"$f":"IF(#REF!=\"\",\"\",#REF!)","v":{"$error":"#REF!"}}]
[null,{"$error":"#REF!"},{"$f":"IF(#REF!=\"\",\"\",VLOOKUP(D13,code!$A$1:$B$47,2,FALSE))","v":{"$error":"#REF!"}},{"$f":"IF(#REF!=\"\",\"\",#REF!)","v":{"$error":"#REF!"}},{"$f":"IF(#REF!=\"\",\"\",VLOOKUP((D13&F13),code!$E$1:$F$1741,2,FALSE))","v":{"$error":"#REF!"}},{"$f":"IF(#REF!=\"\",\"\",#REF!)","v":{"$error":"#REF!"}},{"$f":"IF(#REF!=\"\",\"\",#REF!)","v":{"$error":"#REF!"}},{"$f":"IF(#REF!=\"\",\"\",#REF!)","v":{"$error":"#REF!"}},{"$f":"IF(#REF!=\"\",\"\",#REF!)","v":{"$error":"#REF!"}},{"$f":"IF(#REF!=\"\",\"\",#REF!)","v":{"$error":"#REF!"}},{"$f":"IF(#REF!=\"\",\"\",#REF!)","v":{"$error":"#REF!"}},{"$f":"IF(#REF!=\"\",\"\",#REF!)","v":{"$error":"#REF!"}},{"$f":"IF(#REF!=\"\",\"\",#REF!)","v":{"$error":"#REF!"}},{"$f":"IF(#REF!=\"\",\"\",#REF!)","v":{"$error":"#REF!"}},{"$f":"IF(#REF!=\"\",\"\",#REF!)","v":{"$error":"#REF!"}},{"$f":"IF(#REF!=\"\",\"\",#REF!)","v":{"$error":"#REF!"}},{"$f":"IF(#REF!=\"\",\"\",#REF!)","v":{"$error":"#REF!"}},{"$f":"IF(#REF!=\"\",\"\",#REF!)","v":{"$error":"#REF!"}},{"$f":"IF(#REF!=\"\",\"\",#REF!)","v":{"$error":"#REF!"}},{"$f":"IF(#REF!=\"\",\"\",#REF!)","v":{"$error":"#REF!"}},{"$f":"IF(#REF!=\"\",\"\",#REF!)","v":{"$error":"#REF!"}},{"$f":"IF(#REF!=\"\",\"\",#REF!)","v":{"$error":"#REF!"}},{"$f":"IF(#REF!=\"\",\"\",#REF!)","v":{"$error":"#REF!"}},{"$f":"IF(#REF!=\"\",\"\",#REF!)","v":{"$error":"#REF!"}},{"$f":"IF(#REF!=\"\",\"\",#REF!)","v":{"$error":"#REF!"}},{"$f":"IF(#REF!=\"\",\"\",#REF!)","v":{"$error":"#REF!"}},{"$f":"IF(#REF!=\"\",\"\",#REF!)","v":{"$error":"#REF!"}},{"$f":"IF(#REF!=\"\",\"\",#REF!)","v":{"$error":"#REF!"}},{"$f":"IF(#REF!=\"\",\"\",#REF!)","v":{"$error":"#REF!"}},{"$f":"IF(#REF!=\"\",\"\",#REF!)","v":{"$error":"#REF!"}},{"$error":"#REF!"},{"$f":"IF(#REF!=\"\",\"\",#REF!)","v":{"$error":"#REF!"}},{"$f":"IF(#REF!=\"\",\"\",#REF!)","v":{"$error":"#REF!"}},{"$f":"IF(#REF!=\"\",\"\",#REF!)","v":{"$error":"#REF!"}},{"$f":"IF(#REF!=\"\",\"\",#REF!)","v":{"$error":"#REF!"}},{"$f":"IF(#REF!=\"\",\"\",#REF!)","v":{"$error":"#REF!"}},{"$f":"#REF!","v":{"$error":"#REF!"}},{"$f":"#REF!","v":{"$error":"#REF!"}},{"$f":"#REF!","v":{"$error":"#REF!"}},{"$f":"#REF!","v":{"$error":"#REF!"}},{"$error":"#REF!"},{"$f":"#REF!","v":{"$error":"#REF!"}},{"$f":"#REF!","v":{"$error":"#REF!"}},{"$f":"#REF!","v":{"$error":"#REF!"}},{"$f":"#REF!","v":{"$error":"#REF!"}},{"$f":"#REF!","v":{"$error":"#REF!"}},{"$error":"#REF!"},{"$f":"#REF!","v":{"$error":"#REF!"}},{"$f":"#REF!","v":{"$error":"#REF!"}},{"$f":"#REF!","v":{"$error":"#REF!"}},{"$f":"#REF!","v":{"$error":"#REF!"}},{"$f":"#REF!","v":{"$error":"#REF!"}},{"$f":"#REF!","v":{"$error":"#REF!"}},{"$f":"#REF!","v":{"$error":"#REF!"}},{"$f":"#REF!","v":{"$error":"#REF!"}},{"$f":"#REF!","v":{"$error":"#REF!"}},{"$f":"#REF!","v":{"$error":"#REF!"}},{"$f":"#REF!","v":{"$error":"#REF!"}},{"$f":"#REF!","v":{"$error":"#REF!"}},{"$f":"#REF!","v":{"$error":"#REF!"}},{"$f":"#REF!","v":{"$error":"#REF!"}},{"$f":"#REF!","v":{"$error":"#REF!"}},{"$f":"#REF!","v":{"$error":"#REF!"}},{"$f":"#REF!","v":{"$error":"#REF!"}},{"$f":"#REF!","v":{"$error":"#REF!"}},{"$f":"#REF!","v":{"$error":"#REF!"}},{"$f":"#REF!","v":{"$error":"#REF!"}},{"$f":"#REF!","v":{"$error":"#REF!"}},{"$f":"#REF!","v":{"$error":"#REF!"}},{"$f":"#REF!","v":{"$error":"#REF!"}},{"$f":"#REF!","v":{"$error":"#REF!"}},{"$f":"#REF!","v":{"$error":"#REF!"}},{"$f":"#REF!","v":{"$error":"#REF!"}},{"$f":"IF(#REF!=\"\",\"\",#REF!)","v":{"$error":"#REF!"}},{"$error":"#REF!"},{"$f":"IF(#REF!=\"\",\"\",#REF!)","v":{"$error":"#REF!"}},{"$f":"IF(#REF!=\"\",\"\",#REF!)","v":{"$error":"#REF!"}},{"$f":"IF(#REF!=\"\",\"\",#REF!)","v":{"$error":"#REF!"}},{"$f":"IF(#REF!=\"\",\"\",#REF!)","v":{"$error":"#REF!"}},{"$f":"IF(#REF!=\"\",\"\",#REF!)","v":{"$error":"#REF!"}},{"$f":"#REF!","v":{"$error":"#REF!"}},{"$f":"IF(#REF!=\"\",\"\",#REF!)","v":{"$error":"#REF!"}},{"$f":"#REF!","v":{"$error":"#REF!"}},{"$f":"IF(#REF!=\"\",\"\",#REF!)","v":{"$error":"#REF!"}},{"$f":"IF(#REF!=\"\",\"\",#REF!)","v":{"$error":"#REF!"}},{"$f":"#REF!","v":{"$error":"#REF!"}},{"$f":"#REF!","v":{"$error":"#REF!"}},{"$f":"IF(#REF!=\"\",\"\",#REF!)","v":{"$error":"#REF!"}},{"$f":"#REF!","v":{"$error":"#REF!"}},{"$f":"#REF!","v":{"$error":"#REF!"}},{"$f":"#REF!","v":{"$error":"#REF!"}},{"$f":"#REF!","v":{"$error":"#REF!"}},{"$f":"#REF!","v":{"$error":"#REF!"}},{"$f":"#REF!","v":{"$error":"#REF!"}},{"$f":"#REF!","v":{"$error":"#REF!"}},{"$f":"#REF!","v":{"$error":"#REF!"}},{"$f":"#REF!","v":{"$error":"#REF!"}},{"$f":"#REF!","v":{"$error":"#REF!"}},{"$f":"#REF!","v":{"$error":"#REF!"}},{"$f":"#REF!","v":{"$error":"#REF!"}},{"$f":"#REF!","v":{"$error":"#REF!"}},{"$f":"#REF!","v":{"$error":"#REF!"}},{"$f":"#REF!","v":{"$error":"#REF!"}},null,null,null,null,null,null,null,null,null,null,null,null,null,null,null,null,null,null,null,null,null,null,{"$f":"IF(#REF!=\"\",\"\",#REF!)","v":{"$error":"#REF!"}},{"$f":"IF(#REF!=\"\",\"\",#REF!)","v":{"$error":"#REF!"}},{"$f":"IF(#REF!=\"\",\"\",#REF!)","v":{"$error":"#REF!"}},null,{"$f":"IF(#REF!=\"\",\"\",#REF!)","v":{"$error":"#REF!"}},{"$f":"IF(#REF!=\"\",\"\",#REF!)","v":{"$error":"#REF!"}},{"$f":"IF(#REF!=\"\",\"\",#REF!)","v":{"$error":"#REF!"}},{"$f":"IF(#REF!=\"\",\"\",#REF!)","v":{"$error":"#REF!"}},null,{"$f":"IF(#REF!=\"\",\"\",#REF!)","v":{"$error":"#REF!"}},{"$f":"IF(#REF!=\"\",\"\",#REF!)","v":{"$error":"#REF!"}},{"$f":"IF(#REF!=\"\",\"\",#REF!)","v":{"$error":"#REF!"}},{"$f":"IF(#REF!=\"\",\"\",#REF!)","v":{"$error":"#REF!"}},null,{"$f":"IF(#REF!=\"\",\"\",#REF!)","v":{"$error":"#REF!"}},null,null,null,null,null,null,null,"",{"$f":"IF(#REF!=\"\",\"\",#REF!)","v":{"$error":"#REF!"}}]
[null,{"$error":"#REF!"},{"$f":"IF(#REF!=\"\",\"\",VLOOKUP(D14,code!$A$1:$B$47,2,FALSE))","v":{"$error":"#REF!"}},{"$f":"IF(#REF!=\"\",\"\",#REF!)","v":{"$error":"#REF!"}},{"$f":"IF(#REF!=\"\",\"\",VLOOKUP((D14&F14),code!$E$1:$F$1741,2,FALSE))","v":{"$error":"#REF!"}},{"$f":"IF(#REF!=\"\",\"\",#REF!)","v":{"$error":"#REF!"}},{"$f":"IF(#REF!=\"\",\"\",#REF!)","v":{"$error":"#REF!"}},{"$f":"IF(#REF!=\"\",\"\",#REF!)","v":{"$error":"#REF!"}},{"$f":"IF(#REF!=\"\",\"\",#REF!)","v":{"$error":"#REF!"}},{"$f":"IF(#REF!=\"\",\"\",#REF!)","v":{"$error":"#REF!"}},{"$f":"IF(#REF!=\"\",\"\",#REF!)","v":{"$error":"#REF!"}},{"$f":"IF(#REF!=\"\",\"\",#REF!)","v":{"$error":"#REF!"}},{"$f":"IF(#REF!=\"\",\"\",#REF!)","v":{"$error":"#REF!"}},{"$f":"IF(#REF!=\"\",\"\",#REF!)","v":{"$error":"#REF!"}},{"$f":"IF(#REF!=\"\",\"\",#REF!)","v":{"$error":"#REF!"}},{"$f":"IF(#REF!=\"\",\"\",#REF!)","v":{"$error":"#REF!"}},{"$f":"IF(#REF!=\"\",\"\",#REF!)","v":{"$error":"#REF!"}},{"$f":"IF(#REF!=\"\",\"\",#REF!)","v":{"$error":"#REF!"}},{"$f":"IF(#REF!=\"\",\"\",#REF!)","v":{"$error":"#REF!"}},{"$f":"IF(#REF!=\"\",\"\",#REF!)","v":{"$error":"#REF!"}},{"$f":"IF(#REF!=\"\",\"\",#REF!)","v":{"$error":"#REF!"}},{"$f":"IF(#REF!=\"\",\"\",#REF!)","v":{"$error":"#REF!"}},{"$f":"IF(#REF!=\"\",\"\",#REF!)","v":{"$error":"#REF!"}},{"$f":"IF(#REF!=\"\",\"\",#REF!)","v":{"$error":"#REF!"}},{"$f":"IF(#REF!=\"\",\"\",#REF!)","v":{"$error":"#REF!"}},{"$f":"IF(#REF!=\"\",\"\",#REF!)","v":{"$error":"#REF!"}},{"$f":"IF(#REF!=\"\",\"\",#REF!)","v":{"$error":"#REF!"}},{"$f":"IF(#REF!=\"\",\"\",#REF!)","v":{"$error":"#REF!"}},{"$f":"IF(#REF!=\"\",\"\",#REF!)","v":{"$error":"#REF!"}},{"$f":"IF(#REF!=\"\",\"\",#REF!)","v":{"$error":"#REF!"}},{"$error":"#REF!"},{"$f":"IF(#REF!=\"\",\"\",#REF!)","v":{"$error":"#REF!"}},{"$f":"IF(#REF!=\"\",\"\",#REF!)","v":{"$error":"#REF!"}},{"$f":"IF(#REF!=\"\",\"\",#REF!)","v":{"$error":"#REF!"}},{"$f":"IF(#REF!=\"\",\"\",#REF!)","v":{"$error":"#REF!"}},{"$f":"IF(#REF!=\"\",\"\",#REF!)","v":{"$error":"#REF!"}},{"$f":"#REF!","v":{"$error":"#REF!"}},{"$f":"#REF!","v":{"$error":"#REF!"}},{"$f":"#REF!","v":{"$error":"#REF!"}},{"$f":"#REF!","v":{"$error":"#REF!"}},{"$error":"#REF!"},{"$f":"#REF!","v":{"$error":"#REF!"}},{"$f":"#REF!","v":{"$error":"#REF!"}},{"$f":"#REF!","v":{"$error":"#REF!"}},{"$f":"#REF!","v":{"$error":"#REF!"}},{"$f":"#REF!","v":{"$error":"#REF!"}},{"$error":"#REF!"},{"$f":"#REF!","v":{"$error":"#REF!"}},{"$f":"#REF!","v":{"$error":"#REF!"}},{"$f":"#REF!","v":{"$error":"#REF!"}},{"$f":"#REF!","v":{"$error":"#REF!"}},{"$f":"#REF!","v":{"$error":"#REF!"}},{"$f":"#REF!","v":{"$error":"#REF!"}},{"$f":"#REF!","v":{"$error":"#REF!"}},{"$f":"#REF!","v":{"$error":"#REF!"}},{"$f":"#REF!","v":{"$error":"#REF!"}},{"$f":"#REF!","v":{"$error":"#REF!"}},{"$f":"#REF!","v":{"$error":"#REF!"}},{"$f":"#REF!","v":{"$error":"#REF!"}},{"$f":"#REF!","v":{"$error":"#REF!"}},{"$f":"#REF!","v":{"$error":"#REF!"}},{"$f":"#REF!","v":{"$error":"#REF!"}},{"$f":"#REF!","v":{"$error":"#REF!"}},{"$f":"#REF!","v":{"$error":"#REF!"}},{"$f":"#REF!","v":{"$error":"#REF!"}},{"$f":"#REF!","v":{"$error":"#REF!"}},{"$f":"#REF!","v":{"$error":"#REF!"}},{"$f":"#REF!","v":{"$error":"#REF!"}},{"$f":"#REF!","v":{"$error":"#REF!"}},{"$f":"#REF!","v":{"$error":"#REF!"}},{"$f":"#REF!","v":{"$error":"#REF!"}},{"$f":"#REF!","v":{"$error":"#REF!"}},{"$f":"#REF!","v":{"$error":"#REF!"}},{"$f":"IF(#REF!=\"\",\"\",#REF!)","v":{"$error":"#REF!"}},{"$error":"#REF!"},{"$f":"IF(#REF!=\"\",\"\",#REF!)","v":{"$error":"#REF!"}},{"$f":"IF(#REF!=\"\",\"\",#REF!)","v":{"$error":"#REF!"}},{"$f":"IF(#REF!=\"\",\"\",#REF!)","v":{"$error":"#REF!"}},{"$f":"IF(#REF!=\"\",\"\",#REF!)","v":{"$error":"#REF!"}},{"$f":"IF(#REF!=\"\",\"\",#REF!)","v":{"$error":"#REF!"}},{"$f":"#REF!","v":{"$error":"#REF!"}},{"$f":"IF(#REF!=\"\",\"\",#REF!)","v":{"$error":"#REF!"}},{"$f":"#REF!","v":{"$error":"#REF!"}},{"$f":"IF(#REF!=\"\",\"\",#REF!)","v":{"$error":"#REF!"}},{"$f":"IF(#REF!=\"\",\"\",#REF!)","v":{"$error":"#REF!"}},{"$f":"#REF!","v":{"$error":"#REF!"}},{"$f":"#REF!","v":{"$error":"#REF!"}},{"$f":"IF(#REF!=\"\",\"\",#REF!)","v":{"$error":"#REF!"}},{"$f":"#REF!","v":{"$error":"#REF!"}},{"$f":"#REF!","v":{"$error":"#REF!"}},{"$f":"#REF!","v":{"$error":"#REF!"}},{"$f":"#REF!","v":{"$error":"#REF!"}},{"$f":"#REF!","v":{"$error":"#REF!"}},{"$f":"#REF!","v":{"$error":"#REF!"}},{"$f":"#REF!","v":{"$error":"#REF!"}},{"$f":"#REF!","v":{"$error":"#REF!"}},{"$f":"#REF!","v":{"$error":"#REF!"}},{"$f":"#REF!","v":{"$error":"#REF!"}},{"$f":"#REF!","v":{"$error":"#REF!"}},{"$f":"#REF!","v":{"$error":"#REF!"}},{"$f":"#REF!","v":{"$error":"#REF!"}},{"$f":"#REF!","v":{"$error":"#REF!"}},{"$f":"#REF!","v":{"$error":"#REF!"}},null,null,null,null,null,null,null,null,null,null,null,null,null,null,null,null,null,null,null,null,null,null,{"$f":"IF(#REF!=\"\",\"\",#REF!)","v":{"$error":"#REF!"}},{"$f":"IF(#REF!=\"\",\"\",#REF!)","v":{"$error":"#REF!"}},{"$f":"IF(#REF!=\"\",\"\",#REF!)","v":{"$error":"#REF!"}},null,{"$f":"IF(#REF!=\"\",\"\",#REF!)","v":{"$error":"#REF!"}},{"$f":"IF(#REF!=\"\",\"\",#REF!)","v":{"$error":"#REF!"}},{"$f":"IF(#REF!=\"\",\"\",#REF!)","v":{"$error":"#REF!"}},{"$f":"IF(#REF!=\"\",\"\",#REF!)","v":{"$error":"#REF!"}},null,{"$f":"IF(#REF!=\"\",\"\",#REF!)","v":{"$error":"#REF!"}},{"$f":"IF(#REF!=\"\",\"\",#REF!)","v":{"$error":"#REF!"}},{"$f":"IF(#REF!=\"\",\"\",#REF!)","v":{"$error":"#REF!"}},{"$f":"IF(#REF!=\"\",\"\",#REF!)","v":{"$error":"#REF!"}},null,{"$f":"IF(#REF!=\"\",\"\",#REF!)","v":{"$error":"#REF!"}},null,null,null,null,null,null,null,"",{"$f":"IF(#REF!=\"\",\"\",#REF!)","v":{"$error":"#REF!"}}]
[null,{"$error":"#REF!"},{"$f":"IF(#REF!=\"\",\"\",VLOOKUP(D15,code!$A$1:$B$47,2,FALSE))","v":{"$error":"#REF!"}},{"$f":"IF(#REF!=\"\",\"\",#REF!)","v":{"$error":"#REF!"}},{"$f":"IF(#REF!=\"\",\"\",VLOOKUP((D15&F15),code!$E$1:$F$1741,2,FALSE))","v":{"$error":"#REF!"}},{"$f":"IF(#REF!=\"\",\"\",#REF!)","v":{"$error":"#REF!"}},{"$f":"IF(#REF!=\"\",\"\",#REF!)","v":{"$error":"#REF!"}},{"$f":"IF(#REF!=\"\",\"\",#REF!)","v":{"$error":"#REF!"}},{"$f":"IF(#REF!=\"\",\"\",#REF!)","v":{"$error":"#REF!"}},{"$f":"IF(#REF!=\"\",\"\",#REF!)","v":{"$error":"#REF!"}},{"$f":"IF(#REF!=\"\",\"\",#REF!)","v":{"$error":"#REF!"}},{"$f":"IF(#REF!=\"\",\"\",#REF!)","v":{"$error":"#REF!"}},{"$f":"IF(#REF!=\"\",\"\",#REF!)","v":{"$error":"#REF!"}},{"$f":"IF(#REF!=\"\",\"\",#REF!)","v":{"$error":"#REF!"}},{"$f":"IF(#REF!=\"\",\"\",#REF!)","v":{"$error":"#REF!"}},{"$f":"IF(#REF!=\"\",\"\",#REF!)","v":{"$error":"#REF!"}},{"$f":"IF(#REF!=\"\",\"\",#REF!)","v":{"$error":"#REF!"}},{"$f":"IF(#REF!=\"\",\"\",#REF!)","v":{"$error":"#REF!"}},{"$f":"IF(#REF!=\"\",\"\",#REF!)","v":{"$error":"#REF!"}},{"$f":"IF(#REF!=\"\",\"\",#REF!)","v":{"$error":"#REF!"}},{"$f":"IF(#REF!=\"\",\"\",#REF!)","v":{"$error":"#REF!"}},{"$f":"IF(#REF!=\"\",\"\",#REF!)","v":{"$error":"#REF!"}},{"$f":"IF(#REF!=\"\",\"\",#REF!)","v":{"$error":"#REF!"}},{"$f":"IF(#REF!=\"\",\"\",#REF!)","v":{"$error":"#REF!"}},{"$f":"IF(#REF!=\"\",\"\",#REF!)","v":{"$error":"#REF!"}},{"$f":"IF(#REF!=\"\",\"\",#REF!)","v":{"$error":"#REF!"}},{"$f":"IF(#REF!=\"\",\"\",#REF!)","v":{"$error":"#REF!"}},{"$f":"IF(#REF!=\"\",\"\",#REF!)","v":{"$error":"#REF!"}},{"$f":"IF(#REF!=\"\",\"\",#REF!)","v":{"$error":"#REF!"}},{"$f":"IF(#REF!=\"\",\"\",#REF!)","v":{"$error":"#REF!"}},{"$error":"#REF!"},{"$f":"IF(#REF!=\"\",\"\",#REF!)","v":{"$error":"#REF!"}},{"$f":"IF(#REF!=\"\",\"\",#REF!)","v":{"$error":"#REF!"}},{"$f":"IF(#REF!=\"\",\"\",#REF!)","v":{"$error":"#REF!"}},{"$f":"IF(#REF!=\"\",\"\",#REF!)","v":{"$error":"#REF!"}},{"$f":"IF(#REF!=\"\",\"\",#REF!)","v":{"$error":"#REF!"}},{"$f":"#REF!","v":{"$error":"#REF!"}},{"$f":"#REF!","v":{"$error":"#REF!"}},{"$f":"#REF!","v":{"$error":"#REF!"}},{"$f":"#REF!","v":{"$error":"#REF!"}},{"$error":"#REF!"},{"$f":"#REF!","v":{"$error":"#REF!"}},{"$f":"#REF!","v":{"$error":"#REF!"}},{"$f":"#REF!","v":{"$error":"#REF!"}},{"$f":"#REF!","v":{"$error":"#REF!"}},{"$f":"#REF!","v":{"$error":"#REF!"}},{"$error":"#REF!"},{"$f":"#REF!","v":{"$error":"#REF!"}},{"$f":"#REF!","v":{"$error":"#REF!"}},{"$f":"#REF!","v":{"$error":"#REF!"}},{"$f":"#REF!","v":{"$error":"#REF!"}},{"$f":"#REF!","v":{"$error":"#REF!"}},{"$f":"#REF!","v":{"$error":"#REF!"}},{"$f":"#REF!","v":{"$error":"#REF!"}},{"$f":"#REF!","v":{"$error":"#REF!"}},{"$f":"#REF!","v":{"$error":"#REF!"}},{"$f":"#REF!","v":{"$error":"#REF!"}},{"$f":"#REF!","v":{"$error":"#REF!"}},{"$f":"#REF!","v":{"$error":"#REF!"}},{"$f":"#REF!","v":{"$error":"#REF!"}},{"$f":"#REF!","v":{"$error":"#REF!"}},{"$f":"#REF!","v":{"$error":"#REF!"}},{"$f":"#REF!","v":{"$error":"#REF!"}},{"$f":"#REF!","v":{"$error":"#REF!"}},{"$f":"#REF!","v":{"$error":"#REF!"}},{"$f":"#REF!","v":{"$error":"#REF!"}},{"$f":"#REF!","v":{"$error":"#REF!"}},{"$f":"#REF!","v":{"$error":"#REF!"}},{"$f":"#REF!","v":{"$error":"#REF!"}},{"$f":"#REF!","v":{"$error":"#REF!"}},{"$f":"#REF!","v":{"$error":"#REF!"}},{"$f":"#REF!","v":{"$error":"#REF!"}},{"$f":"#REF!","v":{"$error":"#REF!"}},{"$f":"IF(#REF!=\"\",\"\",#REF!)","v":{"$error":"#REF!"}},{"$error":"#REF!"},{"$f":"IF(#REF!=\"\",\"\",#REF!)","v":{"$error":"#REF!"}},{"$f":"IF(#REF!=\"\",\"\",#REF!)","v":{"$error":"#REF!"}},{"$f":"IF(#REF!=\"\",\"\",#REF!)","v":{"$error":"#REF!"}},{"$f":"IF(#REF!=\"\",\"\",#REF!)","v":{"$error":"#REF!"}},{"$f":"IF(#REF!=\"\",\"\",#REF!)","v":{"$error":"#REF!"}},{"$f":"#REF!","v":{"$error":"#REF!"}},{"$f":"IF(#REF!=\"\",\"\",#REF!)","v":{"$error":"#REF!"}},{"$f":"#REF!","v":{"$error":"#REF!"}},{"$f":"IF(#REF!=\"\",\"\",#REF!)","v":{"$error":"#REF!"}},{"$f":"IF(#REF!=\"\",\"\",#REF!)","v":{"$error":"#REF!"}},{"$f":"#REF!","v":{"$error":"#REF!"}},{"$f":"#REF!","v":{"$error":"#REF!"}},{"$f":"IF(#REF!=\"\",\"\",#REF!)","v":{"$error":"#REF!"}},{"$f":"#REF!","v":{"$error":"#REF!"}},{"$f":"#REF!","v":{"$error":"#REF!"}},{"$f":"#REF!","v":{"$error":"#REF!"}},{"$f":"#REF!","v":{"$error":"#REF!"}},{"$f":"#REF!","v":{"$error":"#REF!"}},{"$f":"#REF!","v":{"$error":"#REF!"}},{"$f":"#REF!","v":{"$error":"#REF!"}},{"$f":"#REF!","v":{"$error":"#REF!"}},{"$f":"#REF!","v":{"$error":"#REF!"}},{"$f":"#REF!","v":{"$error":"#REF!"}},{"$f":"#REF!","v":{"$error":"#REF!"}},{"$f":"#REF!","v":{"$error":"#REF!"}},{"$f":"#REF!","v":{"$error":"#REF!"}},{"$f":"#REF!","v":{"$error":"#REF!"}},{"$f":"#REF!","v":{"$error":"#REF!"}},null,null,null,null,null,null,null,null,null,null,null,null,null,null,null,null,null,null,null,null,null,null,{"$f":"IF(#REF!=\"\",\"\",#REF!)","v":{"$error":"#REF!"}},{"$f":"IF(#REF!=\"\",\"\",#REF!)","v":{"$error":"#REF!"}},{"$f":"IF(#REF!=\"\",\"\",#REF!)","v":{"$error":"#REF!"}},null,{"$f":"IF(#REF!=\"\",\"\",#REF!)","v":{"$error":"#REF!"}},{"$f":"IF(#REF!=\"\",\"\",#REF!)","v":{"$error":"#REF!"}},{"$f":"IF(#REF!=\"\",\"\",#REF!)","v":{"$error":"#REF!"}},{"$f":"IF(#REF!=\"\",\"\",#REF!)","v":{"$error":"#REF!"}},null,{"$f":"IF(#REF!=\"\",\"\",#REF!)","v":{"$error":"#REF!"}},{"$f":"IF(#REF!=\"\",\"\",#REF!)","v":{"$error":"#REF!"}},{"$f":"IF(#REF!=\"\",\"\",#REF!)","v":{"$error":"#REF!"}},{"$f":"IF(#REF!=\"\",\"\",#REF!)","v":{"$error":"#REF!"}},null,{"$f":"IF(#REF!=\"\",\"\",#REF!)","v":{"$error":"#REF!"}},null,null,null,null,null,null,null,"",{"$f":"IF(#REF!=\"\",\"\",#REF!)","v":{"$error":"#REF!"}}]
[null,{"$error":"#REF!"},{"$f":"IF(#REF!=\"\",\"\",VLOOKUP(D16,code!$A$1:$B$47,2,FALSE))","v":{"$error":"#REF!"}},{"$f":"IF(#REF!=\"\",\"\",#REF!)","v":{"$error":"#REF!"}},{"$f":"IF(#REF!=\"\",\"\",VLOOKUP((D16&F16),code!$E$1:$F$1741,2,FALSE))","v":{"$error":"#REF!"}},{"$f":"IF(#REF!=\"\",\"\",#REF!)","v":{"$error":"#REF!"}},{"$f":"IF(#REF!=\"\",\"\",#REF!)","v":{"$error":"#REF!"}},{"$f":"IF(#REF!=\"\",\"\",#REF!)","v":{"$error":"#REF!"}},{"$f":"IF(#REF!=\"\",\"\",#REF!)","v":{"$error":"#REF!"}},{"$f":"IF(#REF!=\"\",\"\",#REF!)","v":{"$error":"#REF!"}},{"$f":"IF(#REF!=\"\",\"\",#REF!)","v":{"$error":"#REF!"}},{"$f":"IF(#REF!=\"\",\"\",#REF!)","v":{"$error":"#REF!"}},{"$f":"IF(#REF!=\"\",\"\",#REF!)","v":{"$error":"#REF!"}},{"$f":"IF(#REF!=\"\",\"\",#REF!)","v":{"$error":"#REF!"}},{"$f":"IF(#REF!=\"\",\"\",#REF!)","v":{"$error":"#REF!"}},{"$f":"IF(#REF!=\"\",\"\",#REF!)","v":{"$error":"#REF!"}},{"$f":"IF(#REF!=\"\",\"\",#REF!)","v":{"$error":"#REF!"}},{"$f":"IF(#REF!=\"\",\"\",#REF!)","v":{"$error":"#REF!"}},{"$f":"IF(#REF!=\"\",\"\",#REF!)","v":{"$error":"#REF!"}},{"$f":"IF(#REF!=\"\",\"\",#REF!)","v":{"$error":"#REF!"}},{"$f":"IF(#REF!=\"\",\"\",#REF!)","v":{"$error":"#REF!"}},{"$f":"IF(#REF!=\"\",\"\",#REF!)","v":{"$error":"#REF!"}},{"$f":"IF(#REF!=\"\",\"\",#REF!)","v":{"$error":"#REF!"}},{"$f":"IF(#REF!=\"\",\"\",#REF!)","v":{"$error":"#REF!"}},{"$f":"IF(#REF!=\"\",\"\",#REF!)","v":{"$error":"#REF!"}},{"$f":"IF(#REF!=\"\",\"\",#REF!)","v":{"$error":"#REF!"}},{"$f":"IF(#REF!=\"\",\"\",#REF!)","v":{"$error":"#REF!"}},{"$f":"IF(#REF!=\"\",\"\",#REF!)","v":{"$error":"#REF!"}},{"$f":"IF(#REF!=\"\",\"\",#REF!)","v":{"$error":"#REF!"}},{"$f":"IF(#REF!=\"\",\"\",#REF!)","v":{"$error":"#REF!"}},{"$error":"#REF!"},{"$f":"IF(#REF!=\"\",\"\",#REF!)","v":{"$error":"#REF!"}},{"$f":"IF(#REF!=\"\",\"\",#REF!)","v":{"$error":"#REF!"}},{"$f":"IF(#REF!=\"\",\"\",#REF!)","v":{"$error":"#REF!"}},{"$f":"IF(#REF!=\"\",\"\",#REF!)","v":{"$error":"#REF!"}},{"$f":"IF(#REF!=\"\",\"\",#REF!)","v":{"$error":"#REF!"}},{"$f":"#REF!","v":{"$error":"#REF!"}},{"$f":"#REF!","v":{"$error":"#REF!"}},{"$f":"#REF!","v":{"$error":"#REF!"}},{"$f":"#REF!","v":{"$error":"#REF!"}},{"$error":"#REF!"},{"$f":"#REF!","v":{"$error":"#REF!"}},{"$f":"#REF!","v":{"$error":"#REF!"}},{"$f":"#REF!","v":{"$error":"#REF!"}},{"$f":"#REF!","v":{"$error":"#REF!"}},{"$f":"#REF!","v":{"$error":"#REF!"}},{"$error":"#REF!"},{"$f":"#REF!","v":{"$error":"#REF!"}},{"$f":"#REF!","v":{"$error":"#REF!"}},{"$f":"#REF!","v":{"$error":"#REF!"}},{"$f":"#REF!","v":{"$error":"#REF!"}},{"$f":"#REF!","v":{"$error":"#REF!"}},{"$f":"#REF!","v":{"$error":"#REF!"}},{"$f":"#REF!","v":{"$error":"#REF!"}},{"$f":"#REF!","v":{"$error":"#REF!"}},{"$f":"#REF!","v":{"$error":"#REF!"}},{"$f":"#REF!","v":{"$error":"#REF!"}},{"$f":"#REF!","v":{"$error":"#REF!"}},{"$f":"#REF!","v":{"$error":"#REF!"}},{"$f":"#REF!","v":{"$error":"#REF!"}},{"$f":"#REF!","v":{"$error":"#REF!"}},{"$f":"#REF!","v":{"$error":"#REF!"}},{"$f":"#REF!","v":{"$error":"#REF!"}},{"$f":"#REF!","v":{"$error":"#REF!"}},{"$f":"#REF!","v":{"$error":"#REF!"}},{"$f":"#REF!","v":{"$error":"#REF!"}},{"$f":"#REF!","v":{"$error":"#REF!"}},{"$f":"#REF!","v":{"$error":"#REF!"}},{"$f":"#REF!","v":{"$error":"#REF!"}},{"$f":"#REF!","v":{"$error":"#REF!"}},{"$f":"#REF!","v":{"$error":"#REF!"}},{"$f":"#REF!","v":{"$error":"#REF!"}},{"$f":"#REF!","v":{"$error":"#REF!"}},{"$f":"IF(#REF!=\"\",\"\",#REF!)","v":{"$error":"#REF!"}},{"$error":"#REF!"},{"$f":"IF(#REF!=\"\",\"\",#REF!)","v":{"$error":"#REF!"}},{"$f":"IF(#REF!=\"\",\"\",#REF!)","v":{"$error":"#REF!"}},{"$f":"IF(#REF!=\"\",\"\",#REF!)","v":{"$error":"#REF!"}},{"$f":"IF(#REF!=\"\",\"\",#REF!)","v":{"$error":"#REF!"}},{"$f":"IF(#REF!=\"\",\"\",#REF!)","v":{"$error":"#REF!"}},{"$f":"#REF!","v":{"$error":"#REF!"}},{"$f":"IF(#REF!=\"\",\"\",#REF!)","v":{"$error":"#REF!"}},{"$f":"#REF!","v":{"$error":"#REF!"}},{"$f":"IF(#REF!=\"\",\"\",#REF!)","v":{"$error":"#REF!"}},{"$f":"IF(#REF!=\"\",\"\",#REF!)","v":{"$error":"#REF!"}},{"$f":"#REF!","v":{"$error":"#REF!"}},{"$f":"#REF!","v":{"$error":"#REF!"}},{"$f":"IF(#REF!=\"\",\"\",#REF!)","v":{"$error":"#REF!"}},{"$f":"#REF!","v":{"$error":"#REF!"}},{"$f":"#REF!","v":{"$error":"#REF!"}},{"$f":"#REF!","v":{"$error":"#REF!"}},{"$f":"#REF!","v":{"$error":"#REF!"}},{"$f":"#REF!","v":{"$error":"#REF!"}},{"$f":"#REF!","v":{"$error":"#REF!"}},{"$f":"#REF!","v":{"$error":"#REF!"}},{"$f":"#REF!","v":{"$error":"#REF!"}},{"$f":"#REF!","v":{"$error":"#REF!"}},{"$f":"#REF!","v":{"$error":"#REF!"}},{"$f":"#REF!","v":{"$error":"#REF!"}},{"$f":"#REF!","v":{"$error":"#REF!"}},{"$f":"#REF!","v":{"$error":"#REF!"}},{"$f":"#REF!","v":{"$error":"#REF!"}},{"$f":"#REF!","v":{"$error":"#REF!"}},null,null,null,null,null,null,null,null,null,null,null,null,null,null,null,null,null,null,null,null,null,null,{"$f":"IF(#REF!=\"\",\"\",#REF!)","v":{"$error":"#REF!"}},{"$f":"IF(#REF!=\"\",\"\",#REF!)","v":{"$error":"#REF!"}},{"$f":"IF(#REF!=\"\",\"\",#REF!)","v":{"$error":"#REF!"}},null,{"$f":"IF(#REF!=\"\",\"\",#REF!)","v":{"$error":"#REF!"}},{"$f":"IF(#REF!=\"\",\"\",#REF!)","v":{"$error":"#REF!"}},{"$f":"IF(#REF!=\"\",\"\",#REF!)","v":{"$error":"#REF!"}},{"$f":"IF(#REF!=\"\",\"\",#REF!)","v":{"$error":"#REF!"}},null,{"$f":"IF(#REF!=\"\",\"\",#REF!)","v":{"$error":"#REF!"}},{"$f":"IF(#REF!=\"\",\"\",#REF!)","v":{"$error":"#REF!"}},{"$f":"IF(#REF!=\"\",\"\",#REF!)","v":{"$error":"#REF!"}},{"$f":"IF(#REF!=\"\",\"\",#REF!)","v":{"$error":"#REF!"}},null,{"$f":"IF(#REF!=\"\",\"\",#REF!)","v":{"$error":"#REF!"}},null,null,null,null,null,null,null,"",{"$f":"IF(#REF!=\"\",\"\",#REF!)","v":{"$error":"#REF!"}}]
[null,{"$error":"#REF!"},{"$f":"IF(#REF!=\"\",\"\",VLOOKUP(D17,code!$A$1:$B$47,2,FALSE))","v":{"$error":"#REF!"}},{"$f":"IF(#REF!=\"\",\"\",#REF!)","v":{"$error":"#REF!"}},{"$f":"IF(#REF!=\"\",\"\",VLOOKUP((D17&F17),code!$E$1:$F$1741,2,FALSE))","v":{"$error":"#REF!"}},{"$f":"IF(#REF!=\"\",\"\",#REF!)","v":{"$error":"#REF!"}},{"$f":"IF(#REF!=\"\",\"\",#REF!)","v":{"$error":"#REF!"}},{"$f":"IF(#REF!=\"\",\"\",#REF!)","v":{"$error":"#REF!"}},{"$f":"IF(#REF!=\"\",\"\",#REF!)","v":{"$error":"#REF!"}},{"$f":"IF(#REF!=\"\",\"\",#REF!)","v":{"$error":"#REF!"}},{"$f":"IF(#REF!=\"\",\"\",#REF!)","v":{"$error":"#REF!"}},{"$f":"IF(#REF!=\"\",\"\",#REF!)","v":{"$error":"#REF!"}},{"$f":"IF(#REF!=\"\",\"\",#REF!)","v":{"$error":"#REF!"}},{"$f":"IF(#REF!=\"\",\"\",#REF!)","v":{"$error":"#REF!"}},{"$f":"IF(#REF!=\"\",\"\",#REF!)","v":{"$error":"#REF!"}},{"$f":"IF(#REF!=\"\",\"\",#REF!)","v":{"$error":"#REF!"}},{"$f":"IF(#REF!=\"\",\"\",#REF!)","v":{"$error":"#REF!"}},{"$f":"IF(#REF!=\"\",\"\",#REF!)","v":{"$error":"#REF!"}},{"$f":"IF(#REF!=\"\",\"\",#REF!)","v":{"$error":"#REF!"}},{"$f":"IF(#REF!=\"\",\"\",#REF!)","v":{"$error":"#REF!"}},{"$f":"IF(#REF!=\"\",\"\",#REF!)","v":{"$error":"#REF!"}},{"$f":"IF(#REF!=\"\",\"\",#REF!)","v":{"$error":"#REF!"}},{"$f":"IF(#REF!=\"\",\"\",#REF!)","v":{"$error":"#REF!"}},{"$f":"IF(#REF!=\"\",\"\",#REF!)","v":{"$error":"#REF!"}},{"$f":"IF(#REF!=\"\",\"\",#REF!)","v":{"$error":"#REF!"}},{"$f":"IF(#REF!=\"\",\"\",#REF!)","v":{"$error":"#REF!"}},{"$f":"IF(#REF!=\"\",\"\",#REF!)","v":{"$error":"#REF!"}},{"$f":"IF(#REF!=\"\",\"\",#REF!)","v":{"$error":"#REF!"}},{"$f":"IF(#REF!=\"\",\"\",#REF!)","v":{"$error":"#REF!"}},{"$f":"IF(#REF!=\"\",\"\",#REF!)","v":{"$error":"#REF!"}},{"$error":"#REF!"},{"$f":"IF(#REF!=\"\",\"\",#REF!)","v":{"$error":"#REF!"}},{"$f":"IF(#REF!=\"\",\"\",#REF!)","v":{"$error":"#REF!"}},{"$f":"IF(#REF!=\"\",\"\",#REF!)","v":{"$error":"#REF!"}},{"$f":"IF(#REF!=\"\",\"\",#REF!)","v":{"$error":"#REF!"}},{"$f":"IF(#REF!=\"\",\"\",#REF!)","v":{"$error":"#REF!"}},{"$f":"#REF!","v":{"$error":"#REF!"}},{"$f":"#REF!","v":{"$error":"#REF!"}},{"$f":"#REF!","v":{"$error":"#REF!"}},{"$f":"#REF!","v":{"$error":"#REF!"}},{"$error":"#REF!"},{"$f":"#REF!","v":{"$error":"#REF!"}},{"$f":"#REF!","v":{"$error":"#REF!"}},{"$f":"#REF!","v":{"$error":"#REF!"}},{"$f":"#REF!","v":{"$error":"#REF!"}},{"$f":"#REF!","v":{"$error":"#REF!"}},{"$error":"#REF!"},{"$f":"#REF!","v":{"$error":"#REF!"}},{"$f":"#REF!","v":{"$error":"#REF!"}},{"$f":"#REF!","v":{"$error":"#REF!"}},{"$f":"#REF!","v":{"$error":"#REF!"}},{"$f":"#REF!","v":{"$error":"#REF!"}},{"$f":"#REF!","v":{"$error":"#REF!"}},{"$f":"#REF!","v":{"$error":"#REF!"}},{"$f":"#REF!","v":{"$error":"#REF!"}},{"$f":"#REF!","v":{"$error":"#REF!"}},{"$f":"#REF!","v":{"$error":"#REF!"}},{"$f":"#REF!","v":{"$error":"#REF!"}},{"$f":"#REF!","v":{"$error":"#REF!"}},{"$f":"#REF!","v":{"$error":"#REF!"}},{"$f":"#REF!","v":{"$error":"#REF!"}},{"$f":"#REF!","v":{"$error":"#REF!"}},{"$f":"#REF!","v":{"$error":"#REF!"}},{"$f":"#REF!","v":{"$error":"#REF!"}},{"$f":"#REF!","v":{"$error":"#REF!"}},{"$f":"#REF!","v":{"$error":"#REF!"}},{"$f":"#REF!","v":{"$error":"#REF!"}},{"$f":"#REF!","v":{"$error":"#REF!"}},{"$f":"#REF!","v":{"$error":"#REF!"}},{"$f":"#REF!","v":{"$error":"#REF!"}},{"$f":"#REF!","v":{"$error":"#REF!"}},{"$f":"#REF!","v":{"$error":"#REF!"}},{"$f":"#REF!","v":{"$error":"#REF!"}},{"$f":"IF(#REF!=\"\",\"\",#REF!)","v":{"$error":"#REF!"}},{"$error":"#REF!"},{"$f":"IF(#REF!=\"\",\"\",#REF!)","v":{"$error":"#REF!"}},{"$f":"IF(#REF!=\"\",\"\",#REF!)","v":{"$error":"#REF!"}},{"$f":"IF(#REF!=\"\",\"\",#REF!)","v":{"$error":"#REF!"}},{"$f":"IF(#REF!=\"\",\"\",#REF!)","v":{"$error":"#REF!"}},{"$f":"IF(#REF!=\"\",\"\",#REF!)","v":{"$error":"#REF!"}},{"$f":"#REF!","v":{"$error":"#REF!"}},{"$f":"IF(#REF!=\"\",\"\",#REF!)","v":{"$error":"#REF!"}},{"$f":"#REF!","v":{"$error":"#REF!"}},{"$f":"IF(#REF!=\"\",\"\",#REF!)","v":{"$error":"#REF!"}},{"$f":"IF(#REF!=\"\",\"\",#REF!)","v":{"$error":"#REF!"}},{"$f":"#REF!","v":{"$error":"#REF!"}},{"$f":"#REF!","v":{"$error":"#REF!"}},{"$f":"IF(#REF!=\"\",\"\",#REF!)","v":{"$error":"#REF!"}},{"$f":"#REF!","v":{"$error":"#REF!"}},{"$f":"#REF!","v":{"$error":"#REF!"}},{"$f":"#REF!","v":{"$error":"#REF!"}},{"$f":"#REF!","v":{"$error":"#REF!"}},{"$f":"#REF!","v":{"$error":"#REF!"}},{"$f":"#REF!","v":{"$error":"#REF!"}},{"$f":"#REF!","v":{"$error":"#REF!"}},{"$f":"#REF!","v":{"$error":"#REF!"}},{"$f":"#REF!","v":{"$error":"#REF!"}},{"$f":"#REF!","v":{"$error":"#REF!"}},{"$f":"#REF!","v":{"$error":"#REF!"}},{"$f":"#REF!","v":{"$error":"#REF!"}},{"$f":"#REF!","v":{"$error":"#REF!"}},{"$f":"#REF!","v":{"$error":"#REF!"}},{"$f":"#REF!","v":{"$error":"#REF!"}},null,null,null,null,null,null,null,null,null,null,null,null,null,null,null,null,null,null,null,null,null,null,{"$f":"IF(#REF!=\"\",\"\",#REF!)","v":{"$error":"#REF!"}},{"$f":"IF(#REF!=\"\",\"\",#REF!)","v":{"$error":"#REF!"}},{"$f":"IF(#REF!=\"\",\"\",#REF!)","v":{"$error":"#REF!"}},null,{"$f":"IF(#REF!=\"\",\"\",#REF!)","v":{"$error":"#REF!"}},{"$f":"IF(#REF!=\"\",\"\",#REF!)","v":{"$error":"#REF!"}},{"$f":"IF(#REF!=\"\",\"\",#REF!)","v":{"$error":"#REF!"}},{"$f":"IF(#REF!=\"\",\"\",#REF!)","v":{"$error":"#REF!"}},null,{"$f":"IF(#REF!=\"\",\"\",#REF!)","v":{"$error":"#REF!"}},{"$f":"IF(#REF!=\"\",\"\",#REF!)","v":{"$error":"#REF!"}},{"$f":"IF(#REF!=\"\",\"\",#REF!)","v":{"$error":"#REF!"}},{"$f":"IF(#REF!=\"\",\"\",#REF!)","v":{"$error":"#REF!"}},null,{"$f":"IF(#REF!=\"\",\"\",#REF!)","v":{"$error":"#REF!"}},null,null,null,null,null,null,null,"",{"$f":"IF(#REF!=\"\",\"\",#REF!)","v":{"$error":"#REF!"}}]
[null,{"$error":"#REF!"},{"$f":"IF(#REF!=\"\",\"\",VLOOKUP(D18,code!$A$1:$B$47,2,FALSE))","v":{"$error":"#REF!"}},{"$f":"IF(#REF!=\"\",\"\",#REF!)","v":{"$error":"#REF!"}},{"$f":"IF(#REF!=\"\",\"\",VLOOKUP((D18&F18),code!$E$1:$F$1741,2,FALSE))","v":{"$error":"#REF!"}},{"$f":"IF(#REF!=\"\",\"\",#REF!)","v":{"$error":"#REF!"}},{"$f":"IF(#REF!=\"\",\"\",#REF!)","v":{"$error":"#REF!"}},{"$f":"IF(#REF!=\"\",\"\",#REF!)","v":{"$error":"#REF!"}},{"$f":"IF(#REF!=\"\",\"\",#REF!)","v":{"$error":"#REF!"}},{"$f":"IF(#REF!=\"\",\"\",#REF!)","v":{"$error":"#REF!"}},{"$f":"IF(#REF!=\"\",\"\",#REF!)","v":{"$error":"#REF!"}},{"$f":"IF(#REF!=\"\",\"\",#REF!)","v":{"$error":"#REF!"}},{"$f":"IF(#REF!=\"\",\"\",#REF!)","v":{"$error":"#REF!"}},{"$f":"IF(#REF!=\"\",\"\",#REF!)","v":{"$error":"#REF!"}},{"$f":"IF(#REF!=\"\",\"\",#REF!)","v":{"$error":"#REF!"}},{"$f":"IF(#REF!=\"\",\"\",#REF!)","v":{"$error":"#REF!"}},{"$f":"IF(#REF!=\"\",\"\",#REF!)","v":{"$error":"#REF!"}},{"$f":"IF(#REF!=\"\",\"\",#REF!)","v":{"$error":"#REF!"}},{"$f":"IF(#REF!=\"\",\"\",#REF!)","v":{"$error":"#REF!"}},{"$f":"IF(#REF!=\"\",\"\",#REF!)","v":{"$error":"#REF!"}},{"$f":"IF(#REF!=\"\",\"\",#REF!)","v":{"$error":"#REF!"}},{"$f":"IF(#REF!=\"\",\"\",#REF!)","v":{"$error":"#REF!"}},{"$f":"IF(#REF!=\"\",\"\",#REF!)","v":{"$error":"#REF!"}},{"$f":"IF(#REF!=\"\",\"\",#REF!)","v":{"$error":"#REF!"}},{"$f":"IF(#REF!=\"\",\"\",#REF!)","v":{"$error":"#REF!"}},{"$f":"IF(#REF!=\"\",\"\",#REF!)","v":{"$error":"#REF!"}},{"$f":"IF(#REF!=\"\",\"\",#REF!)","v":{"$error":"#REF!"}},{"$f":"IF(#REF!=\"\",\"\",#REF!)","v":{"$error":"#REF!"}},{"$f":"IF(#REF!=\"\",\"\",#REF!)","v":{"$error":"#REF!"}},{"$f":"IF(#REF!=\"\",\"\",#REF!)","v":{"$error":"#REF!"}},{"$error":"#REF!"},{"$f":"IF(#REF!=\"\",\"\",#REF!)","v":{"$error":"#REF!"}},{"$f":"IF(#REF!=\"\",\"\",#REF!)","v":{"$error":"#REF!"}},{"$f":"IF(#REF!=\"\",\"\",#REF!)","v":{"$error":"#REF!"}},{"$f":"IF(#REF!=\"\",\"\",#REF!)","v":{"$error":"#REF!"}},{"$f":"IF(#REF!=\"\",\"\",#REF!)","v":{"$error":"#REF!"}},{"$f":"#REF!","v":{"$error":"#REF!"}},{"$f":"#REF!","v":{"$error":"#REF!"}},{"$f":"#REF!","v":{"$error":"#REF!"}},{"$f":"#REF!","v":{"$error":"#REF!"}},{"$error":"#REF!"},{"$f":"#REF!","v":{"$error":"#REF!"}},{"$f":"#REF!","v":{"$error":"#REF!"}},{"$f":"#REF!","v":{"$error":"#REF!"}},{"$f":"#REF!","v":{"$error":"#REF!"}},{"$f":"#REF!","v":{"$error":"#REF!"}},{"$error":"#REF!"},{"$f":"#REF!","v":{"$error":"#REF!"}},{"$f":"#REF!","v":{"$error":"#REF!"}},{"$f":"#REF!","v":{"$error":"#REF!"}},{"$f":"#REF!","v":{"$error":"#REF!"}},{"$f":"#REF!","v":{"$error":"#REF!"}},{"$f":"#REF!","v":{"$error":"#REF!"}},{"$f":"#REF!","v":{"$error":"#REF!"}},{"$f":"#REF!","v":{"$error":"#REF!"}},{"$f":"#REF!","v":{"$error":"#REF!"}},{"$f":"#REF!","v":{"$error":"#REF!"}},{"$f":"#REF!","v":{"$error":"#REF!"}},{"$f":"#REF!","v":{"$error":"#REF!"}},{"$f":"#REF!","v":{"$error":"#REF!"}},{"$f":"#REF!","v":{"$error":"#REF!"}},{"$f":"#REF!","v":{"$error":"#REF!"}},{"$f":"#REF!","v":{"$error":"#REF!"}},{"$f":"#REF!","v":{"$error":"#REF!"}},{"$f":"#REF!","v":{"$error":"#REF!"}},{"$f":"#REF!","v":{"$error":"#REF!"}},{"$f":"#REF!","v":{"$error":"#REF!"}},{"$f":"#REF!","v":{"$error":"#REF!"}},{"$f":"#REF!","v":{"$error":"#REF!"}},{"$f":"#REF!","v":{"$error":"#REF!"}},{"$f":"#REF!","v":{"$error":"#REF!"}},{"$f":"#REF!","v":{"$error":"#REF!"}},{"$f":"#REF!","v":{"$error":"#REF!"}},{"$f":"IF(#REF!=\"\",\"\",#REF!)","v":{"$error":"#REF!"}},{"$error":"#REF!"},{"$f":"IF(#REF!=\"\",\"\",#REF!)","v":{"$error":"#REF!"}},{"$f":"IF(#REF!=\"\",\"\",#REF!)","v":{"$error":"#REF!"}},{"$f":"IF(#REF!=\"\",\"\",#REF!)","v":{"$error":"#REF!"}},{"$f":"IF(#REF!=\"\",\"\",#REF!)","v":{"$error":"#REF!"}},{"$f":"IF(#REF!=\"\",\"\",#REF!)","v":{"$error":"#REF!"}},{"$f":"#REF!","v":{"$error":"#REF!"}},{"$f":"IF(#REF!=\"\",\"\",#REF!)","v":{"$error":"#REF!"}},{"$f":"#REF!","v":{"$error":"#REF!"}},{"$f":"IF(#REF!=\"\",\"\",#REF!)","v":{"$error":"#REF!"}},{"$f":"IF(#REF!=\"\",\"\",#REF!)","v":{"$error":"#REF!"}},{"$f":"#REF!","v":{"$error":"#REF!"}},{"$f":"#REF!","v":{"$error":"#REF!"}},{"$f":"IF(#REF!=\"\",\"\",#REF!)","v":{"$error":"#REF!"}},{"$f":"#REF!","v":{"$error":"#REF!"}},{"$f":"#REF!","v":{"$error":"#REF!"}},{"$f":"#REF!","v":{"$error":"#REF!"}},{"$f":"#REF!","v":{"$error":"#REF!"}},{"$f":"#REF!","v":{"$error":"#REF!"}},{"$f":"#REF!","v":{"$error":"#REF!"}},{"$f":"#REF!","v":{"$error":"#REF!"}},{"$f":"#REF!","v":{"$error":"#REF!"}},{"$f":"#REF!","v":{"$error":"#REF!"}},{"$f":"#REF!","v":{"$error":"#REF!"}},{"$f":"#REF!","v":{"$error":"#REF!"}},{"$f":"#REF!","v":{"$error":"#REF!"}},{"$f":"#REF!","v":{"$error":"#REF!"}},{"$f":"#REF!","v":{"$error":"#REF!"}},{"$f":"#REF!","v":{"$error":"#REF!"}},null,null,null,null,null,null,null,null,null,null,null,null,null,null,null,null,null,null,null,null,null,null,{"$f":"IF(#REF!=\"\",\"\",#REF!)","v":{"$error":"#REF!"}},{"$f":"IF(#REF!=\"\",\"\",#REF!)","v":{"$error":"#REF!"}},{"$f":"IF(#REF!=\"\",\"\",#REF!)","v":{"$error":"#REF!"}},null,{"$f":"IF(#REF!=\"\",\"\",#REF!)","v":{"$error":"#REF!"}},{"$f":"IF(#REF!=\"\",\"\",#REF!)","v":{"$error":"#REF!"}},{"$f":"IF(#REF!=\"\",\"\",#REF!)","v":{"$error":"#REF!"}},{"$f":"IF(#REF!=\"\",\"\",#REF!)","v":{"$error":"#REF!"}},null,{"$f":"IF(#REF!=\"\",\"\",#REF!)","v":{"$error":"#REF!"}},{"$f":"IF(#REF!=\"\",\"\",#REF!)","v":{"$error":"#REF!"}},{"$f":"IF(#REF!=\"\",\"\",#REF!)","v":{"$error":"#REF!"}},{"$f":"IF(#REF!=\"\",\"\",#REF!)","v":{"$error":"#REF!"}},null,{"$f":"IF(#REF!=\"\",\"\",#REF!)","v":{"$error":"#REF!"}},null,null,null,null,null,null,null,"",{"$f":"IF(#REF!=\"\",\"\",#REF!)","v":{"$error":"#REF!"}}]
[null,{"$error":"#REF!"},{"$f":"IF(#REF!=\"\",\"\",VLOOKUP(D19,code!$A$1:$B$47,2,FALSE))","v":{"$error":"#REF!"}},{"$f":"IF(#REF!=\"\",\"\",#REF!)","v":{"$error":"#REF!"}},{"$f":"IF(#REF!=\"\",\"\",VLOOKUP((D19&F19),code!$E$1:$F$1741,2,FALSE))","v":{"$error":"#REF!"}},{"$f":"IF(#REF!=\"\",\"\",#REF!)","v":{"$error":"#REF!"}},{"$f":"IF(#REF!=\"\",\"\",#REF!)","v":{"$error":"#REF!"}},{"$f":"IF(#REF!=\"\",\"\",#REF!)","v":{"$error":"#REF!"}},{"$f":"IF(#REF!=\"\",\"\",#REF!)","v":{"$error":"#REF!"}},{"$f":"IF(#REF!=\"\",\"\",#REF!)","v":{"$error":"#REF!"}},{"$f":"IF(#REF!=\"\",\"\",#REF!)","v":{"$error":"#REF!"}},{"$f":"IF(#REF!=\"\",\"\",#REF!)","v":{"$error":"#REF!"}},{"$f":"IF(#REF!=\"\",\"\",#REF!)","v":{"$error":"#REF!"}},{"$f":"IF(#REF!=\"\",\"\",#REF!)","v":{"$error":"#REF!"}},{"$f":"IF(#REF!=\"\",\"\",#REF!)","v":{"$error":"#REF!"}},{"$f":"IF(#REF!=\"\",\"\",#REF!)","v":{"$error":"#REF!"}},{"$f":"IF(#REF!=\"\",\"\",#REF!)","v":{"$error":"#REF!"}},{"$f":"IF(#REF!=\"\",\"\",#REF!)","v":{"$error":"#REF!"}},{"$f":"IF(#REF!=\"\",\"\",#REF!)","v":{"$error":"#REF!"}},{"$f":"IF(#REF!=\"\",\"\",#REF!)","v":{"$error":"#REF!"}},{"$f":"IF(#REF!=\"\",\"\",#REF!)","v":{"$error":"#REF!"}},{"$f":"IF(#REF!=\"\",\"\",#REF!)","v":{"$error":"#REF!"}},{"$f":"IF(#REF!=\"\",\"\",#REF!)","v":{"$error":"#REF!"}},{"$f":"IF(#REF!=\"\",\"\",#REF!)","v":{"$error":"#REF!"}},{"$f":"IF(#REF!=\"\",\"\",#REF!)","v":{"$error":"#REF!"}},{"$f":"IF(#REF!=\"\",\"\",#REF!)","v":{"$error":"#REF!"}},{"$f":"IF(#REF!=\"\",\"\",#REF!)","v":{"$error":"#REF!"}},{"$f":"IF(#REF!=\"\",\"\",#REF!)","v":{"$error":"#REF!"}},{"$f":"IF(#REF!=\"\",\"\",#REF!)","v":{"$error":"#REF!"}},{"$f":"IF(#REF!=\"\",\"\",#REF!)","v":{"$error":"#REF!"}},{"$error":"#REF!"},{"$f":"IF(#REF!=\"\",\"\",#REF!)","v":{"$error":"#REF!"}},{"$f":"IF(#REF!=\"\",\"\",#REF!)","v":{"$error":"#REF!"}},{"$f":"IF(#REF!=\"\",\"\",#REF!)","v":{"$error":"#REF!"}},{"$f":"IF(#REF!=\"\",\"\",#REF!)","v":{"$error":"#REF!"}},{"$f":"IF(#REF!=\"\",\"\",#REF!)","v":{"$error":"#REF!"}},{"$f":"#REF!","v":{"$error":"#REF!"}},{"$f":"#REF!","v":{"$error":"#REF!"}},{"$f":"#REF!","v":{"$error":"#REF!"}},{"$f":"#REF!","v":{"$error":"#REF!"}},{"$error":"#REF!"},{"$f":"#REF!","v":{"$error":"#REF!"}},{"$f":"#REF!","v":{"$error":"#REF!"}},{"$f":"#REF!","v":{"$error":"#REF!"}},{"$f":"#REF!","v":{"$error":"#REF!"}},{"$f":"#REF!","v":{"$error":"#REF!"}},{"$error":"#REF!"},{"$f":"#REF!","v":{"$error":"#REF!"}},{"$f":"#REF!","v":{"$error":"#REF!"}},{"$f":"#REF!","v":{"$error":"#REF!"}},{"$f":"#REF!","v":{"$error":"#REF!"}},{"$f":"#REF!","v":{"$error":"#REF!"}},{"$f":"#REF!","v":{"$error":"#REF!"}},{"$f":"#REF!","v":{"$error":"#REF!"}},{"$f":"#REF!","v":{"$error":"#REF!"}},{"$f":"#REF!","v":{"$error":"#REF!"}},{"$f":"#REF!","v":{"$error":"#REF!"}},{"$f":"#REF!","v":{"$error":"#REF!"}},{"$f":"#REF!","v":{"$error":"#REF!"}},{"$f":"#REF!","v":{"$error":"#REF!"}},{"$f":"#REF!","v":{"$error":"#REF!"}},{"$f":"#REF!","v":{"$error":"#REF!"}},{"$f":"#REF!","v":{"$error":"#REF!"}},{"$f":"#REF!","v":{"$error":"#REF!"}},{"$f":"#REF!","v":{"$error":"#REF!"}},{"$f":"#REF!","v":{"$error":"#REF!"}},{"$f":"#REF!","v":{"$error":"#REF!"}},{"$f":"#REF!","v":{"$error":"#REF!"}},{"$f":"#REF!","v":{"$error":"#REF!"}},{"$f":"#REF!","v":{"$error":"#REF!"}},{"$f":"#REF!","v":{"$error":"#REF!"}},{"$f":"#REF!","v":{"$error":"#REF!"}},{"$f":"#REF!","v":{"$error":"#REF!"}},{"$f":"IF(#REF!=\"\",\"\",#REF!)","v":{"$error":"#REF!"}},{"$error":"#REF!"},{"$f":"IF(#REF!=\"\",\"\",#REF!)","v":{"$error":"#REF!"}},{"$f":"IF(#REF!=\"\",\"\",#REF!)","v":{"$error":"#REF!"}},{"$f":"IF(#REF!=\"\",\"\",#REF!)","v":{"$error":"#REF!"}},{"$f":"IF(#REF!=\"\",\"\",#REF!)","v":{"$error":"#REF!"}},{"$f":"IF(#REF!=\"\",\"\",#REF!)","v":{"$error":"#REF!"}},{"$f":"#REF!","v":{"$error":"#REF!"}},{"$f":"IF(#REF!=\"\",\"\",#REF!)","v":{"$error":"#REF!"}},{"$f":"#REF!","v":{"$error":"#REF!"}},{"$f":"IF(#REF!=\"\",\"\",#REF!)","v":{"$error":"#REF!"}},{"$f":"IF(#REF!=\"\",\"\",#REF!)","v":{"$error":"#REF!"}},{"$f":"#REF!","v":{"$error":"#REF!"}},{"$f":"#REF!","v":{"$error":"#REF!"}},{"$f":"IF(#REF!=\"\",\"\",#REF!)","v":{"$error":"#REF!"}},{"$f":"#REF!","v":{"$error":"#REF!"}},{"$f":"#REF!","v":{"$error":"#REF!"}},{"$f":"#REF!","v":{"$error":"#REF!"}},{"$f":"#REF!","v":{"$error":"#REF!"}},{"$f":"#REF!","v":{"$error":"#REF!"}},{"$f":"#REF!","v":{"$error":"#REF!"}},{"$f":"#REF!","v":{"$error":"#REF!"}},{"$f":"#REF!","v":{"$error":"#REF!"}},{"$f":"#REF!","v":{"$error":"#REF!"}},{"$f":"#REF!","v":{"$error":"#REF!"}},{"$f":"#REF!","v":{"$error":"#REF!"}},{"$f":"#REF!","v":{"$error":"#REF!"}},{"$f":"#REF!","v":{"$error":"#REF!"}},{"$f":"#REF!","v":{"$error":"#REF!"}},{"$f":"#REF!","v":{"$error":"#REF!"}},null,null,null,null,null,null,null,null,null,null,null,null,null,null,null,null,null,null,null,null,null,null,{"$f":"IF(#REF!=\"\",\"\",#REF!)","v":{"$error":"#REF!"}},{"$f":"IF(#REF!=\"\",\"\",#REF!)","v":{"$error":"#REF!"}},{"$f":"IF(#REF!=\"\",\"\",#REF!)","v":{"$error":"#REF!"}},null,{"$f":"IF(#REF!=\"\",\"\",#REF!)","v":{"$error":"#REF!"}},{"$f":"IF(#REF!=\"\",\"\",#REF!)","v":{"$error":"#REF!"}},{"$f":"IF(#REF!=\"\",\"\",#REF!)","v":{"$error":"#REF!"}},{"$f":"IF(#REF!=\"\",\"\",#REF!)","v":{"$error":"#REF!"}},null,{"$f":"IF(#REF!=\"\",\"\",#REF!)","v":{"$error":"#REF!"}},{"$f":"IF(#REF!=\"\",\"\",#REF!)","v":{"$error":"#REF!"}},{"$f":"IF(#REF!=\"\",\"\",#REF!)","v":{"$error":"#REF!"}},{"$f":"IF(#REF!=\"\",\"\",#REF!)","v":{"$error":"#REF!"}},null,{"$f":"IF(#REF!=\"\",\"\",#REF!)","v":{"$error":"#REF!"}},null,null,null,null,null,null,null,"",{"$f":"IF(#REF!=\"\",\"\",#REF!)","v":{"$error":"#REF!"}}]
[null,{"$error":"#REF!"},{"$f":"IF(#REF!=\"\",\"\",VLOOKUP(D20,code!$A$1:$B$47,2,FALSE))","v":{"$error":"#REF!"}},{"$f":"IF(#REF!=\"\",\"\",#REF!)","v":{"$error":"#REF!"}},{"$f":"IF(#REF!=\"\",\"\",VLOOKUP((D20&F20),code!$E$1:$F$1741,2,FALSE))","v":{"$error":"#REF!"}},{"$f":"IF(#REF!=\"\",\"\",#REF!)","v":{"$error":"#REF!"}},{"$f":"IF(#REF!=\"\",\"\",#REF!)","v":{"$error":"#REF!"}},{"$f":"IF(#REF!=\"\",\"\",#REF!)","v":{"$error":"#REF!"}},{"$f":"IF(#REF!=\"\",\"\",#REF!)","v":{"$error":"#REF!"}},{"$f":"IF(#REF!=\"\",\"\",#REF!)","v":{"$error":"#REF!"}},{"$f":"IF(#REF!=\"\",\"\",#REF!)","v":{"$error":"#REF!"}},{"$f":"IF(#REF!=\"\",\"\",#REF!)","v":{"$error":"#REF!"}},{"$f":"IF(#REF!=\"\",\"\",#REF!)","v":{"$error":"#REF!"}},{"$f":"IF(#REF!=\"\",\"\",#REF!)","v":{"$error":"#REF!"}},{"$f":"IF(#REF!=\"\",\"\",#REF!)","v":{"$error":"#REF!"}},{"$f":"IF(#REF!=\"\",\"\",#REF!)","v":{"$error":"#REF!"}},{"$f":"IF(#REF!=\"\",\"\",#REF!)","v":{"$error":"#REF!"}},{"$f":"IF(#REF!=\"\",\"\",#REF!)","v":{"$error":"#REF!"}},{"$f":"IF(#REF!=\"\",\"\",#REF!)","v":{"$error":"#REF!"}},{"$f":"IF(#REF!=\"\",\"\",#REF!)","v":{"$error":"#REF!"}},{"$f":"IF(#REF!=\"\",\"\",#REF!)","v":{"$error":"#REF!"}},{"$f":"IF(#REF!=\"\",\"\",#REF!)","v":{"$error":"#REF!"}},{"$f":"IF(#REF!=\"\",\"\",#REF!)","v":{"$error":"#REF!"}},{"$f":"IF(#REF!=\"\",\"\",#REF!)","v":{"$error":"#REF!"}},{"$f":"IF(#REF!=\"\",\"\",#REF!)","v":{"$error":"#REF!"}},{"$f":"IF(#REF!=\"\",\"\",#REF!)","v":{"$error":"#REF!"}},{"$f":"IF(#REF!=\"\",\"\",#REF!)","v":{"$error":"#REF!"}},{"$f":"IF(#REF!=\"\",\"\",#REF!)","v":{"$error":"#REF!"}},{"$f":"IF(#REF!=\"\",\"\",#REF!)","v":{"$error":"#REF!"}},{"$f":"IF(#REF!=\"\",\"\",#REF!)","v":{"$error":"#REF!"}},{"$error":"#REF!"},{"$f":"IF(#REF!=\"\",\"\",#REF!)","v":{"$error":"#REF!"}},{"$f":"IF(#REF!=\"\",\"\",#REF!)","v":{"$error":"#REF!"}},{"$f":"IF(#REF!=\"\",\"\",#REF!)","v":{"$error":"#REF!"}},{"$f":"IF(#REF!=\"\",\"\",#REF!)","v":{"$error":"#REF!"}},{"$f":"IF(#REF!=\"\",\"\",#REF!)","v":{"$error":"#REF!"}},{"$f":"#REF!","v":{"$error":"#REF!"}},{"$f":"#REF!","v":{"$error":"#REF!"}},{"$f":"#REF!","v":{"$error":"#REF!"}},{"$f":"#REF!","v":{"$error":"#REF!"}},{"$error":"#REF!"},{"$f":"#REF!","v":{"$error":"#REF!"}},{"$f":"#REF!","v":{"$error":"#REF!"}},{"$f":"#REF!","v":{"$error":"#REF!"}},{"$f":"#REF!","v":{"$error":"#REF!"}},{"$f":"#REF!","v":{"$error":"#REF!"}},{"$error":"#REF!"},{"$f":"#REF!","v":{"$error":"#REF!"}},{"$f":"#REF!","v":{"$error":"#REF!"}},{"$f":"#REF!","v":{"$error":"#REF!"}},{"$f":"#REF!","v":{"$error":"#REF!"}},{"$f":"#REF!","v":{"$error":"#REF!"}},{"$f":"#REF!","v":{"$error":"#REF!"}},{"$f":"#REF!","v":{"$error":"#REF!"}},{"$f":"#REF!","v":{"$error":"#REF!"}},{"$f":"#REF!","v":{"$error":"#REF!"}},{"$f":"#REF!","v":{"$error":"#REF!"}},{"$f":"#REF!","v":{"$error":"#REF!"}},{"$f":"#REF!","v":{"$error":"#REF!"}},{"$f":"#REF!","v":{"$error":"#REF!"}},{"$f":"#REF!","v":{"$error":"#REF!"}},{"$f":"#REF!","v":{"$error":"#REF!"}},{"$f":"#REF!","v":{"$error":"#REF!"}},{"$f":"#REF!","v":{"$error":"#REF!"}},{"$f":"#REF!","v":{"$error":"#REF!"}},{"$f":"#REF!","v":{"$error":"#REF!"}},{"$f":"#REF!","v":{"$error":"#REF!"}},{"$f":"#REF!","v":{"$error":"#REF!"}},{"$f":"#REF!","v":{"$error":"#REF!"}},{"$f":"#REF!","v":{"$error":"#REF!"}},{"$f":"#REF!","v":{"$error":"#REF!"}},{"$f":"#REF!","v":{"$error":"#REF!"}},{"$f":"#REF!","v":{"$error":"#REF!"}},{"$f":"IF(#REF!=\"\",\"\",#REF!)","v":{"$error":"#REF!"}},{"$error":"#REF!"},{"$f":"IF(#REF!=\"\",\"\",#REF!)","v":{"$error":"#REF!"}},{"$f":"IF(#REF!=\"\",\"\",#REF!)","v":{"$error":"#REF!"}},{"$f":"IF(#REF!=\"\",\"\",#REF!)","v":{"$error":"#REF!"}},{"$f":"IF(#REF!=\"\",\"\",#REF!)","v":{"$error":"#REF!"}},{"$f":"IF(#REF!=\"\",\"\",#REF!)","v":{"$error":"#REF!"}},{"$f":"#REF!","v":{"$error":"#REF!"}},{"$f":"IF(#REF!=\"\",\"\",#REF!)","v":{"$error":"#REF!"}},{"$f":"#REF!","v":{"$error":"#REF!"}},{"$f":"IF(#REF!=\"\",\"\",#REF!)","v":{"$error":"#REF!"}},{"$f":"IF(#REF!=\"\",\"\",#REF!)","v":{"$error":"#REF!"}},{"$f":"#REF!","v":{"$error":"#REF!"}},{"$f":"#REF!","v":{"$error":"#REF!"}},{"$f":"IF(#REF!=\"\",\"\",#REF!)","v":{"$error":"#REF!"}},{"$f":"#REF!","v":{"$error":"#REF!"}},{"$f":"#REF!","v":{"$error":"#REF!"}},{"$f":"#REF!","v":{"$error":"#REF!"}},{"$f":"#REF!","v":{"$error":"#REF!"}},{"$f":"#REF!","v":{"$error":"#REF!"}},{"$f":"#REF!","v":{"$error":"#REF!"}},{"$f":"#REF!","v":{"$error":"#REF!"}},{"$f":"#REF!","v":{"$error":"#REF!"}},{"$f":"#REF!","v":{"$error":"#REF!"}},{"$f":"#REF!","v":{"$error":"#REF!"}},{"$f":"#REF!","v":{"$error":"#REF!"}},{"$f":"#REF!","v":{"$error":"#REF!"}},{"$f":"#REF!","v":{"$error":"#REF!"}},{"$f":"#REF!","v":{"$error":"#REF!"}},{"$f":"#REF!","v":{"$error":"#REF!"}},null,null,null,null,null,null,null,null,null,null,null,null,null,null,null,null,null,null,null,null,null,null,{"$f":"IF(#REF!=\"\",\"\",#REF!)","v":{"$error":"#REF!"}},{"$f":"IF(#REF!=\"\",\"\",#REF!)","v":{"$error":"#REF!"}},{"$f":"IF(#REF!=\"\",\"\",#REF!)","v":{"$error":"#REF!"}},null,{"$f":"IF(#REF!=\"\",\"\",#REF!)","v":{"$error":"#REF!"}},{"$f":"IF(#REF!=\"\",\"\",#REF!)","v":{"$error":"#REF!"}},{"$f":"IF(#REF!=\"\",\"\",#REF!)","v":{"$error":"#REF!"}},{"$f":"IF(#REF!=\"\",\"\",#REF!)","v":{"$error":"#REF!"}},null,{"$f":"IF(#REF!=\"\",\"\",#REF!)","v":{"$error":"#REF!"}},{"$f":"IF(#REF!=\"\",\"\",#REF!)","v":{"$error":"#REF!"}},{"$f":"IF(#REF!=\"\",\"\",#REF!)","v":{"$error":"#REF!"}},{"$f":"IF(#REF!=\"\",\"\",#REF!)","v":{"$error":"#REF!"}},null,{"$f":"IF(#REF!=\"\",\"\",#REF!)","v":{"$error":"#REF!"}},null,null,null,null,null,null,null,"",{"$f":"IF(#REF!=\"\",\"\",#REF!)","v":{"$error":"#REF!"}}]
[null,{"$error":"#REF!"},{"$f":"IF(#REF!=\"\",\"\",VLOOKUP(D21,code!$A$1:$B$47,2,FALSE))","v":{"$error":"#REF!"}},{"$f":"IF(#REF!=\"\",\"\",#REF!)","v":{"$error":"#REF!"}},{"$f":"IF(#REF!=\"\",\"\",VLOOKUP((D21&F21),code!$E$1:$F$1741,2,FALSE))","v":{"$error":"#REF!"}},{"$f":"IF(#REF!=\"\",\"\",#REF!)","v":{"$error":"#REF!"}},{"$f":"IF(#REF!=\"\",\"\",#REF!)","v":{"$error":"#REF!"}},{"$f":"IF(#REF!=\"\",\"\",#REF!)","v":{"$error":"#REF!"}},{"$f":"IF(#REF!=\"\",\"\",#REF!)","v":{"$error":"#REF!"}},{"$f":"IF(#REF!=\"\",\"\",#REF!)","v":{"$error":"#REF!"}},{"$f":"IF(#REF!=\"\",\"\",#REF!)","v":{"$error":"#REF!"}},{"$f":"IF(#REF!=\"\",\"\",#REF!)","v":{"$error":"#REF!"}},{"$f":"IF(#REF!=\"\",\"\",#REF!)","v":{"$error":"#REF!"}},{"$f":"IF(#REF!=\"\",\"\",#REF!)","v":{"$error":"#REF!"}},{"$f":"IF(#REF!=\"\",\"\",#REF!)","v":{"$error":"#REF!"}},{"$f":"IF(#REF!=\"\",\"\",#REF!)","v":{"$error":"#REF!"}},{"$f":"IF(#REF!=\"\",\"\",#REF!)","v":{"$error":"#REF!"}},{"$f":"IF(#REF!=\"\",\"\",#REF!)","v":{"$error":"#REF!"}},{"$f":"IF(#REF!=\"\",\"\",#REF!)","v":{"$error":"#REF!"}},{"$f":"IF(#REF!=\"\",\"\",#REF!)","v":{"$error":"#REF!"}},{"$f":"IF(#REF!=\"\",\"\",#REF!)","v":{"$error":"#REF!"}},{"$f":"IF(#REF!=\"\",\"\",#REF!)","v":{"$error":"#REF!"}},{"$f":"IF(#REF!=\"\",\"\",#REF!)","v":{"$error":"#REF!"}},{"$f":"IF(#REF!=\"\",\"\",#REF!)","v":{"$error":"#REF!"}},{"$f":"IF(#REF!=\"\",\"\",#REF!)","v":{"$error":"#REF!"}},{"$f":"IF(#REF!=\"\",\"\",#REF!)","v":{"$error":"#REF!"}},{"$f":"IF(#REF!=\"\",\"\",#REF!)","v":{"$error":"#REF!"}},{"$f":"IF(#REF!=\"\",\"\",#REF!)","v":{"$error":"#REF!"}},{"$f":"IF(#REF!=\"\",\"\",#REF!)","v":{"$error":"#REF!"}},{"$f":"IF(#REF!=\"\",\"\",#REF!)","v":{"$error":"#REF!"}},{"$error":"#REF!"},{"$f":"IF(#REF!=\"\",\"\",#REF!)","v":{"$error":"#REF!"}},{"$f":"IF(#REF!=\"\",\"\",#REF!)","v":{"$error":"#REF!"}},{"$f":"IF(#REF!=\"\",\"\",#REF!)","v":{"$error":"#REF!"}},{"$f":"IF(#REF!=\"\",\"\",#REF!)","v":{"$error":"#REF!"}},{"$f":"IF(#REF!=\"\",\"\",#REF!)","v":{"$error":"#REF!"}},{"$f":"#REF!","v":{"$error":"#REF!"}},{"$f":"#REF!","v":{"$error":"#REF!"}},{"$f":"#REF!","v":{"$error":"#REF!"}},{"$f":"#REF!","v":{"$error":"#REF!"}},{"$error":"#REF!"},{"$f":"#REF!","v":{"$error":"#REF!"}},{"$f":"#REF!","v":{"$error":"#REF!"}},{"$f":"#REF!","v":{"$error":"#REF!"}},{"$f":"#REF!","v":{"$error":"#REF!"}},{"$f":"#REF!","v":{"$error":"#REF!"}},{"$error":"#REF!"},{"$f":"#REF!","v":{"$error":"#REF!"}},{"$f":"#REF!","v":{"$error":"#REF!"}},{"$f":"#REF!","v":{"$error":"#REF!"}},{"$f":"#REF!","v":{"$error":"#REF!"}},{"$f":"#REF!","v":{"$error":"#REF!"}},{"$f":"#REF!","v":{"$error":"#REF!"}},{"$f":"#REF!","v":{"$error":"#REF!"}},{"$f":"#REF!","v":{"$error":"#REF!"}},{"$f":"#REF!","v":{"$error":"#REF!"}},{"$f":"#REF!","v":{"$error":"#REF!"}},{"$f":"#REF!","v":{"$error":"#REF!"}},{"$f":"#REF!","v":{"$error":"#REF!"}},{"$f":"#REF!","v":{"$error":"#REF!"}},{"$f":"#REF!","v":{"$error":"#REF!"}},{"$f":"#REF!","v":{"$error":"#REF!"}},{"$f":"#REF!","v":{"$error":"#REF!"}},{"$f":"#REF!","v":{"$error":"#REF!"}},{"$f":"#REF!","v":{"$error":"#REF!"}},{"$f":"#REF!","v":{"$error":"#REF!"}},{"$f":"#REF!","v":{"$error":"#REF!"}},{"$f":"#REF!","v":{"$error":"#REF!"}},{"$f":"#REF!","v":{"$error":"#REF!"}},{"$f":"#REF!","v":{"$error":"#REF!"}},{"$f":"#REF!","v":{"$error":"#REF!"}},{"$f":"#REF!","v":{"$error":"#REF!"}},{"$f":"#REF!","v":{"$error":"#REF!"}},{"$f":"IF(#REF!=\"\",\"\",#REF!)","v":{"$error":"#REF!"}},{"$error":"#REF!"},{"$f":"IF(#REF!=\"\",\"\",#REF!)","v":{"$error":"#REF!"}},{"$f":"IF(#REF!=\"\",\"\",#REF!)","v":{"$error":"#REF!"}},{"$f":"IF(#REF!=\"\",\"\",#REF!)","v":{"$error":"#REF!"}},{"$f":"IF(#REF!=\"\",\"\",#REF!)","v":{"$error":"#REF!"}},{"$f":"IF(#REF!=\"\",\"\",#REF!)","v":{"$error":"#REF!"}},{"$f":"#REF!","v":{"$error":"#REF!"}},{"$f":"IF(#REF!=\"\",\"\",#REF!)","v":{"$error":"#REF!"}},{"$f":"#REF!","v":{"$error":"#REF!"}},{"$f":"IF(#REF!=\"\",\"\",#REF!)","v":{"$error":"#REF!"}},{"$f":"IF(#REF!=\"\",\"\",#REF!)","v":{"$error":"#REF!"}},{"$f":"#REF!","v":{"$error":"#REF!"}},{"$f":"#REF!","v":{"$error":"#REF!"}},{"$f":"IF(#REF!=\"\",\"\",#REF!)","v":{"$error":"#REF!"}},{"$f":"#REF!","v":{"$error":"#REF!"}},{"$f":"#REF!","v":{"$error":"#REF!"}},{"$f":"#REF!","v":{"$error":"#REF!"}},{"$f":"#REF!","v":{"$error":"#REF!"}},{"$f":"#REF!","v":{"$error":"#REF!"}},{"$f":"#REF!","v":{"$error":"#REF!"}},{"$f":"#REF!","v":{"$error":"#REF!"}},{"$f":"#REF!","v":{"$error":"#REF!"}},{"$f":"#REF!","v":{"$error":"#REF!"}},{"$f":"#REF!","v":{"$error":"#REF!"}},{"$f":"#REF!","v":{"$error":"#REF!"}},{"$f":"#REF!","v":{"$error":"#REF!"}},{"$f":"#REF!","v":{"$error":"#REF!"}},{"$f":"#REF!","v":{"$error":"#REF!"}},{"$f":"#REF!","v":{"$error":"#REF!"}},null,null,null,null,null,null,null,null,null,null,null,null,null,null,null,null,null,null,null,null,null,null,{"$f":"IF(#REF!=\"\",\"\",#REF!)","v":{"$error":"#REF!"}},{"$f":"IF(#REF!=\"\",\"\",#REF!)","v":{"$error":"#REF!"}},{"$f":"IF(#REF!=\"\",\"\",#REF!)","v":{"$error":"#REF!"}},null,{"$f":"IF(#REF!=\"\",\"\",#REF!)","v":{"$error":"#REF!"}},{"$f":"IF(#REF!=\"\",\"\",#REF!)","v":{"$error":"#REF!"}},{"$f":"IF(#REF!=\"\",\"\",#REF!)","v":{"$error":"#REF!"}},{"$f":"IF(#REF!=\"\",\"\",#REF!)","v":{"$error":"#REF!"}},null,{"$f":"IF(#REF!=\"\",\"\",#REF!)","v":{"$error":"#REF!"}},{"$f":"IF(#REF!=\"\",\"\",#REF!)","v":{"$error":"#REF!"}},{"$f":"IF(#REF!=\"\",\"\",#REF!)","v":{"$error":"#REF!"}},{"$f":"IF(#REF!=\"\",\"\",#REF!)","v":{"$error":"#REF!"}},null,{"$f":"IF(#REF!=\"\",\"\",#REF!)","v":{"$error":"#REF!"}},null,null,null,null,null,null,null,"",{"$f":"IF(#REF!=\"\",\"\",#REF!)","v":{"$error":"#REF!"}}]
[null,{"$error":"#REF!"},{"$f":"IF(#REF!=\"\",\"\",VLOOKUP(D22,code!$A$1:$B$47,2,FALSE))","v":{"$error":"#REF!"}},{"$f":"IF(#REF!=\"\",\"\",#REF!)","v":{"$error":"#REF!"}},{"$f":"IF(#REF!=\"\",\"\",VLOOKUP((D22&F22),code!$E$1:$F$1741,2,FALSE))","v":{"$error":"#REF!"}},{"$f":"IF(#REF!=\"\",\"\",#REF!)","v":{"$error":"#REF!"}},{"$f":"IF(#REF!=\"\",\"\",#REF!)","v":{"$error":"#REF!"}},{"$f":"IF(#REF!=\"\",\"\",#REF!)","v":{"$error":"#REF!"}},{"$f":"IF(#REF!=\"\",\"\",#REF!)","v":{"$error":"#REF!"}},{"$f":"IF(#REF!=\"\",\"\",#REF!)","v":{"$error":"#REF!"}},{"$f":"IF(#REF!=\"\",\"\",#REF!)","v":{"$error":"#REF!"}},{"$f":"IF(#REF!=\"\",\"\",#REF!)","v":{"$error":"#REF!"}},{"$f":"IF(#REF!=\"\",\"\",#REF!)","v":{"$error":"#REF!"}},{"$f":"IF(#REF!=\"\",\"\",#REF!)","v":{"$error":"#REF!"}},{"$f":"IF(#REF!=\"\",\"\",#REF!)","v":{"$error":"#REF!"}},{"$f":"IF(#REF!=\"\",\"\",#REF!)","v":{"$error":"#REF!"}},{"$f":"IF(#REF!=\"\",\"\",#REF!)","v":{"$error":"#REF!"}},{"$f":"IF(#REF!=\"\",\"\",#REF!)","v":{"$error":"#REF!"}},{"$f":"IF(#REF!=\"\",\"\",#REF!)","v":{"$error":"#REF!"}},{"$f":"IF(#REF!=\"\",\"\",#REF!)","v":{"$error":"#REF!"}},{"$f":"IF(#REF!=\"\",\"\",#REF!)","v":{"$error":"#REF!"}},{"$f":"IF(#REF!=\"\",\"\",#REF!)","v":{"$error":"#REF!"}},{"$f":"IF(#REF!=\"\",\"\",#REF!)","v":{"$error":"#REF!"}},{"$f":"IF(#REF!=\"\",\"\",#REF!)","v":{"$error":"#REF!"}},{"$f":"IF(#REF!=\"\",\"\",#REF!)","v":{"$error":"#REF!"}},{"$f":"IF(#REF!=\"\",\"\",#REF!)","v":{"$error":"#REF!"}},{"$f":"IF(#REF!=\"\",\"\",#REF!)","v":{"$error":"#REF!"}},{"$f":"IF(#REF!=\"\",\"\",#REF!)","v":{"$error":"#REF!"}},{"$f":"IF(#REF!=\"\",\"\",#REF!)","v":{"$error":"#REF!"}},{"$f":"IF(#REF!=\"\",\"\",#REF!)","v":{"$error":"#REF!"}},{"$error":"#REF!"},{"$f":"IF(#REF!=\"\",\"\",#REF!)","v":{"$error":"#REF!"}},{"$f":"IF(#REF!=\"\",\"\",#REF!)","v":{"$error":"#REF!"}},{"$f":"IF(#REF!=\"\",\"\",#REF!)","v":{"$error":"#REF!"}},{"$f":"IF(#REF!=\"\",\"\",#REF!)","v":{"$error":"#REF!"}},{"$f":"IF(#REF!=\"\",\"\",#REF!)","v":{"$error":"#REF!"}},{"$f":"#REF!","v":{"$error":"#REF!"}},{"$f":"#REF!","v":{"$error":"#REF!"}},{"$f":"#REF!","v":{"$error":"#REF!"}},{"$f":"#REF!","v":{"$error":"#REF!"}},{"$error":"#REF!"},{"$f":"#REF!","v":{"$error":"#REF!"}},{"$f":"#REF!","v":{"$error":"#REF!"}},{"$f":"#REF!","v":{"$error":"#REF!"}},{"$f":"#REF!","v":{"$error":"#REF!"}},{"$f":"#REF!","v":{"$error":"#REF!"}},{"$error":"#REF!"},{"$f":"#REF!","v":{"$error":"#REF!"}},{"$f":"#REF!","v":{"$error":"#REF!"}},{"$f":"#REF!","v":{"$error":"#REF!"}},{"$f":"#REF!","v":{"$error":"#REF!"}},{"$f":"#REF!","v":{"$error":"#REF!"}},{"$f":"#REF!","v":{"$error":"#REF!"}},{"$f":"#REF!","v":{"$error":"#REF!"}},{"$f":"#REF!","v":{"$error":"#REF!"}},{"$f":"#REF!","v":{"$error":"#REF!"}},{"$f":"#REF!","v":{"$error":"#REF!"}},{"$f":"#REF!","v":{"$error":"#REF!"}},{"$f":"#REF!","v":{"$error":"#REF!"}},{"$f":"#REF!","v":{"$error":"#REF!"}},{"$f":"#REF!","v":{"$error":"#REF!"}},{"$f":"#REF!","v":{"$error":"#REF!"}},{"$f":"#REF!","v":{"$error":"#REF!"}},{"$f":"#REF!","v":{"$error":"#REF!"}},{"$f":"#REF!","v":{"$error":"#REF!"}},{"$f":"#REF!","v":{"$error":"#REF!"}},{"$f":"#REF!","v":{"$error":"#REF!"}},{"$f":"#REF!","v":{"$error":"#REF!"}},{"$f":"#REF!","v":{"$error":"#REF!"}},{"$f":"#REF!","v":{"$error":"#REF!"}},{"$f":"#REF!","v":{"$error":"#REF!"}},{"$f":"#REF!","v":{"$error":"#REF!"}},{"$f":"#REF!","v":{"$error":"#REF!"}},{"$f":"IF(#REF!=\"\",\"\",#REF!)","v":{"$error":"#REF!"}},{"$error":"#REF!"},{"$f":"IF(#REF!=\"\",\"\",#REF!)","v":{"$error":"#REF!"}},{"$f":"IF(#REF!=\"\",\"\",#REF!)","v":{"$error":"#REF!"}},{"$f":"IF(#REF!=\"\",\"\",#REF!)","v":{"$error":"#REF!"}},{"$f":"IF(#REF!=\"\",\"\",#REF!)","v":{"$error":"#REF!"}},{"$f":"IF(#REF!=\"\",\"\",#REF!)","v":{"$error":"#REF!"}},{"$f":"#REF!","v":{"$error":"#REF!"}},{"$f":"IF(#REF!=\"\",\"\",#REF!)","v":{"$error":"#REF!"}},{"$f":"#REF!","v":{"$error":"#REF!"}},{"$f":"IF(#REF!=\"\",\"\",#REF!)","v":{"$error":"#REF!"}},{"$f":"IF(#REF!=\"\",\"\",#REF!)","v":{"$error":"#REF!"}},{"$f":"#REF!","v":{"$error":"#REF!"}},{"$f":"#REF!","v":{"$error":"#REF!"}},{"$f":"IF(#REF!=\"\",\"\",#REF!)","v":{"$error":"#REF!"}},{"$f":"#REF!","v":{"$error":"#REF!"}},{"$f":"#REF!","v":{"$error":"#REF!"}},{"$f":"#REF!","v":{"$error":"#REF!"}},{"$f":"#REF!","v":{"$error":"#REF!"}},{"$f":"#REF!","v":{"$error":"#REF!"}},{"$f":"#REF!","v":{"$error":"#REF!"}},{"$f":"#REF!","v":{"$error":"#REF!"}},{"$f":"#REF!","v":{"$error":"#REF!"}},{"$f":"#REF!","v":{"$error":"#REF!"}},{"$f":"#REF!","v":{"$error":"#REF!"}},{"$f":"#REF!","v":{"$error":"#REF!"}},{"$f":"#REF!","v":{"$error":"#REF!"}},{"$f":"#REF!","v":{"$error":"#REF!"}},{"$f":"#REF!","v":{"$error":"#REF!"}},{"$f":"#REF!","v":{"$error":"#REF!"}},null,null,null,null,null,null,null,null,null,null,null,null,null,null,null,null,null,null,null,null,null,null,{"$f":"IF(#REF!=\"\",\"\",#REF!)","v":{"$error":"#REF!"}},{"$f":"IF(#REF!=\"\",\"\",#REF!)","v":{"$error":"#REF!"}},{"$f":"IF(#REF!=\"\",\"\",#REF!)","v":{"$error":"#REF!"}},null,{"$f":"IF(#REF!=\"\",\"\",#REF!)","v":{"$error":"#REF!"}},{"$f":"IF(#REF!=\"\",\"\",#REF!)","v":{"$error":"#REF!"}},{"$f":"IF(#REF!=\"\",\"\",#REF!)","v":{"$error":"#REF!"}},{"$f":"IF(#REF!=\"\",\"\",#REF!)","v":{"$error":"#REF!"}},null,{"$f":"IF(#REF!=\"\",\"\",#REF!)","v":{"$error":"#REF!"}},{"$f":"IF(#REF!=\"\",\"\",#REF!)","v":{"$error":"#REF!"}},{"$f":"IF(#REF!=\"\",\"\",#REF!)","v":{"$error":"#REF!"}},{"$f":"IF(#REF!=\"\",\"\",#REF!)","v":{"$error":"#REF!"}},null,{"$f":"IF(#REF!=\"\",\"\",#REF!)","v":{"$error":"#REF!"}},null,null,null,null,null,null,null,"",{"$f":"IF(#REF!=\"\",\"\",#REF!)","v":{"$error":"#REF!"}}]
[null,{"$error":"#REF!"},{"$f":"IF(#REF!=\"\",\"\",VLOOKUP(D23,code!$A$1:$B$47,2,FALSE))","v":{"$error":"#REF!"}},{"$f":"IF(#REF!=\"\",\"\",#REF!)","v":{"$error":"#REF!"}},{"$f":"IF(#REF!=\"\",\"\",VLOOKUP((D23&F23),code!$E$1:$F$1741,2,FALSE))","v":{"$error":"#REF!"}},{"$f":"IF(#REF!=\"\",\"\",#REF!)","v":{"$error":"#REF!"}},{"$f":"IF(#REF!=\"\",\"\",#REF!)","v":{"$error":"#REF!"}},{"$f":"IF(#REF!=\"\",\"\",#REF!)","v":{"$error":"#REF!"}},{"$f":"IF(#REF!=\"\",\"\",#REF!)","v":{"$error":"#REF!"}},{"$f":"IF(#REF!=\"\",\"\",#REF!)","v":{"$error":"#REF!"}},{"$f":"IF(#REF!=\"\",\"\",#REF!)","v":{"$error":"#REF!"}},{"$f":"IF(#REF!=\"\",\"\",#REF!)","v":{"$error":"#REF!"}},{"$f":"IF(#REF!=\"\",\"\",#REF!)","v":{"$error":"#REF!"}},{"$f":"IF(#REF!=\"\",\"\",#REF!)","v":{"$error":"#REF!"}},{"$f":"IF(#REF!=\"\",\"\",#REF!)","v":{"$error":"#REF!"}},{"$f":"IF(#REF!=\"\",\"\",#REF!)","v":{"$error":"#REF!"}},{"$f":"IF(#REF!=\"\",\"\",#REF!)","v":{"$error":"#REF!"}},{"$f":"IF(#REF!=\"\",\"\",#REF!)","v":{"$error":"#REF!"}},{"$f":"IF(#REF!=\"\",\"\",#REF!)","v":{"$error":"#REF!"}},{"$f":"IF(#REF!=\"\",\"\",#REF!)","v":{"$error":"#REF!"}},{"$f":"IF(#REF!=\"\",\"\",#REF!)","v":{"$error":"#REF!"}},{"$f":"IF(#REF!=\"\",\"\",#REF!)","v":{"$error":"#REF!"}},{"$f":"IF(#REF!=\"\",\"\",#REF!)","v":{"$error":"#REF!"}},{"$f":"IF(#REF!=\"\",\"\",#REF!)","v":{"$error":"#REF!"}},{"$f":"IF(#REF!=\"\",\"\",#REF!)","v":{"$error":"#REF!"}},{"$f":"IF(#REF!=\"\",\"\",#REF!)","v":{"$error":"#REF!"}},{"$f":"IF(#REF!=\"\",\"\",#REF!)","v":{"$error":"#REF!"}},{"$f":"IF(#REF!=\"\",\"\",#REF!)","v":{"$error":"#REF!"}},{"$f":"IF(#REF!=\"\",\"\",#REF!)","v":{"$error":"#REF!"}},{"$f":"IF(#REF!=\"\",\"\",#REF!)","v":{"$error":"#REF!"}},{"$error":"#REF!"},{"$f":"IF(#REF!=\"\",\"\",#REF!)","v":{"$error":"#REF!"}},{"$f":"IF(#REF!=\"\",\"\",#REF!)","v":{"$error":"#REF!"}},{"$f":"IF(#REF!=\"\",\"\",#REF!)","v":{"$error":"#REF!"}},{"$f":"IF(#REF!=\"\",\"\",#REF!)","v":{"$error":"#REF!"}},{"$f":"IF(#REF!=\"\",\"\",#REF!)","v":{"$error":"#REF!"}},{"$f":"#REF!","v":{"$error":"#REF!"}},{"$f":"#REF!","v":{"$error":"#REF!"}},{"$f":"#REF!","v":{"$error":"#REF!"}},{"$f":"#REF!","v":{"$error":"#REF!"}},{"$error":"#REF!"},{"$f":"#REF!","v":{"$error":"#REF!"}},{"$f":"#REF!","v":{"$error":"#REF!"}},{"$f":"#REF!","v":{"$error":"#REF!"}},{"$f":"#REF!","v":{"$error":"#REF!"}},{"$f":"#REF!","v":{"$error":"#REF!"}},{"$error":"#REF!"},{"$f":"#REF!","v":{"$error":"#REF!"}},{"$f":"#REF!","v":{"$error":"#REF!"}},{"$f":"#REF!","v":{"$error":"#REF!"}},{"$f":"#REF!","v":{"$error":"#REF!"}},{"$f":"#REF!","v":{"$error":"#REF!"}},{"$f":"#REF!","v":{"$error":"#REF!"}},{"$f":"#REF!","v":{"$error":"#REF!"}},{"$f":"#REF!","v":{"$error":"#REF!"}},{"$f":"#REF!","v":{"$error":"#REF!"}},{"$f":"#REF!","v":{"$error":"#REF!"}},{"$f":"#REF!","v":{"$error":"#REF!"}},{"$f":"#REF!","v":{"$error":"#REF!"}},{"$f":"#REF!","v":{"$error":"#REF!"}},{"$f":"#REF!","v":{"$error":"#REF!"}},{"$f":"#REF!","v":{"$error":"#REF!"}},{"$f":"#REF!","v":{"$error":"#REF!"}},{"$f":"#REF!","v":{"$error":"#REF!"}},{"$f":"#REF!","v":{"$error":"#REF!"}},{"$f":"#REF!","v":{"$error":"#REF!"}},{"$f":"#REF!","v":{"$error":"#REF!"}},{"$f":"#REF!","v":{"$error":"#REF!"}},{"$f":"#REF!","v":{"$error":"#REF!"}},{"$f":"#REF!","v":{"$error":"#REF!"}},{"$f":"#REF!","v":{"$error":"#REF!"}},{"$f":"#REF!","v":{"$error":"#REF!"}},{"$f":"#REF!","v":{"$error":"#REF!"}},{"$f":"IF(#REF!=\"\",\"\",#REF!)","v":{"$error":"#REF!"}},{"$error":"#REF!"},{"$f":"IF(#REF!=\"\",\"\",#REF!)","v":{"$error":"#REF!"}},{"$f":"IF(#REF!=\"\",\"\",#REF!)","v":{"$error":"#REF!"}},{"$f":"IF(#REF!=\"\",\"\",#REF!)","v":{"$error":"#REF!"}},{"$f":"IF(#REF!=\"\",\"\",#REF!)","v":{"$error":"#REF!"}},{"$f":"IF(#REF!=\"\",\"\",#REF!)","v":{"$error":"#REF!"}},{"$f":"#REF!","v":{"$error":"#REF!"}},{"$f":"IF(#REF!=\"\",\"\",#REF!)","v":{"$error":"#REF!"}},{"$f":"#REF!","v":{"$error":"#REF!"}},{"$f":"IF(#REF!=\"\",\"\",#REF!)","v":{"$error":"#REF!"}},{"$f":"IF(#REF!=\"\",\"\",#REF!)","v":{"$error":"#REF!"}},{"$f":"#REF!","v":{"$error":"#REF!"}},{"$f":"#REF!","v":{"$error":"#REF!"}},{"$f":"IF(#REF!=\"\",\"\",#REF!)","v":{"$error":"#REF!"}},{"$f":"#REF!","v":{"$error":"#REF!"}},{"$f":"#REF!","v":{"$error":"#REF!"}},{"$f":"#REF!","v":{"$error":"#REF!"}},{"$f":"#REF!","v":{"$error":"#REF!"}},{"$f":"#REF!","v":{"$error":"#REF!"}},{"$f":"#REF!","v":{"$error":"#REF!"}},{"$f":"#REF!","v":{"$error":"#REF!"}},{"$f":"#REF!","v":{"$error":"#REF!"}},{"$f":"#REF!","v":{"$error":"#REF!"}},{"$f":"#REF!","v":{"$error":"#REF!"}},{"$f":"#REF!","v":{"$error":"#REF!"}},{"$f":"#REF!","v":{"$error":"#REF!"}},{"$f":"#REF!","v":{"$error":"#REF!"}},{"$f":"#REF!","v":{"$error":"#REF!"}},{"$f":"#REF!","v":{"$error":"#REF!"}},null,null,null,null,null,null,null,null,null,null,null,null,null,null,null,null,null,null,null,null,null,null,{"$f":"IF(#REF!=\"\",\"\",#REF!)","v":{"$error":"#REF!"}},{"$f":"IF(#REF!=\"\",\"\",#REF!)","v":{"$error":"#REF!"}},{"$f":"IF(#REF!=\"\",\"\",#REF!)","v":{"$error":"#REF!"}},null,{"$f":"IF(#REF!=\"\",\"\",#REF!)","v":{"$error":"#REF!"}},{"$f":"IF(#REF!=\"\",\"\",#REF!)","v":{"$error":"#REF!"}},{"$f":"IF(#REF!=\"\",\"\",#REF!)","v":{"$error":"#REF!"}},{"$f":"IF(#REF!=\"\",\"\",#REF!)","v":{"$error":"#REF!"}},null,{"$f":"IF(#REF!=\"\",\"\",#REF!)","v":{"$error":"#REF!"}},{"$f":"IF(#REF!=\"\",\"\",#REF!)","v":{"$error":"#REF!"}},{"$f":"IF(#REF!=\"\",\"\",#REF!)","v":{"$error":"#REF!"}},{"$f":"IF(#REF!=\"\",\"\",#REF!)","v":{"$error":"#REF!"}},null,{"$f":"IF(#REF!=\"\",\"\",#REF!)","v":{"$error":"#REF!"}},null,null,null,null,null,null,null,"",{"$f":"IF(#REF!=\"\",\"\",#REF!)","v":{"$error":"#REF!"}}]
[null,{"$error":"#REF!"},{"$f":"IF(#REF!=\"\",\"\",VLOOKUP(D24,code!$A$1:$B$47,2,FALSE))","v":{"$error":"#REF!"}},{"$f":"IF(#REF!=\"\",\"\",#REF!)","v":{"$error":"#REF!"}},{"$f":"IF(#REF!=\"\",\"\",VLOOKUP((D24&F24),code!$E$1:$F$1741,2,FALSE))","v":{"$error":"#REF!"}},{"$f":"IF(#REF!=\"\",\"\",#REF!)","v":{"$error":"#REF!"}},{"$f":"IF(#REF!=\"\",\"\",#REF!)","v":{"$error":"#REF!"}},{"$f":"IF(#REF!=\"\",\"\",#REF!)","v":{"$error":"#REF!"}},{"$f":"IF(#REF!=\"\",\"\",#REF!)","v":{"$error":"#REF!"}},{"$f":"IF(#REF!=\"\",\"\",#REF!)","v":{"$error":"#REF!"}},{"$f":"IF(#REF!=\"\",\"\",#REF!)","v":{"$error":"#REF!"}},{"$f":"IF(#REF!=\"\",\"\",#REF!)","v":{"$error":"#REF!"}},{"$f":"IF(#REF!=\"\",\"\",#REF!)","v":{"$error":"#REF!"}},{"$f":"IF(#REF!=\"\",\"\",#REF!)","v":{"$error":"#REF!"}},{"$f":"IF(#REF!=\"\",\"\",#REF!)","v":{"$error":"#REF!"}},{"$f":"IF(#REF!=\"\",\"\",#REF!)","v":{"$error":"#REF!"}},{"$f":"IF(#REF!=\"\",\"\",#REF!)","v":{"$error":"#REF!"}},{"$f":"IF(#REF!=\"\",\"\",#REF!)","v":{"$error":"#REF!"}},{"$f":"IF(#REF!=\"\",\"\",#REF!)","v":{"$error":"#REF!"}},{"$f":"IF(#REF!=\"\",\"\",#REF!)","v":{"$error":"#REF!"}},{"$f":"IF(#REF!=\"\",\"\",#REF!)","v":{"$error":"#REF!"}},{"$f":"IF(#REF!=\"\",\"\",#REF!)","v":{"$error":"#REF!"}},{"$f":"IF(#REF!=\"\",\"\",#REF!)","v":{"$error":"#REF!"}},{"$f":"IF(#REF!=\"\",\"\",#REF!)","v":{"$error":"#REF!"}},{"$f":"IF(#REF!=\"\",\"\",#REF!)","v":{"$error":"#REF!"}},{"$f":"IF(#REF!=\"\",\"\",#REF!)","v":{"$error":"#REF!"}},{"$f":"IF(#REF!=\"\",\"\",#REF!)","v":{"$error":"#REF!"}},{"$f":"IF(#REF!=\"\",\"\",#REF!)","v":{"$error":"#REF!"}},{"$f":"IF(#REF!=\"\",\"\",#REF!)","v":{"$error":"#REF!"}},{"$f":"IF(#REF!=\"\",\"\",#REF!)","v":{"$error":"#REF!"}},{"$error":"#REF!"},{"$f":"IF(#REF!=\"\",\"\",#REF!)","v":{"$error":"#REF!"}},{"$f":"IF(#REF!=\"\",\"\",#REF!)","v":{"$error":"#REF!"}},{"$f":"IF(#REF!=\"\",\"\",#REF!)","v":{"$error":"#REF!"}},{"$f":"IF(#REF!=\"\",\"\",#REF!)","v":{"$error":"#REF!"}},{"$f":"IF(#REF!=\"\",\"\",#REF!)","v":{"$error":"#REF!"}},{"$f":"#REF!","v":{"$error":"#REF!"}},{"$f":"#REF!","v":{"$error":"#REF!"}},{"$f":"#REF!","v":{"$error":"#REF!"}},{"$f":"#REF!","v":{"$error":"#REF!"}},{"$error":"#REF!"},{"$f":"#REF!","v":{"$error":"#REF!"}},{"$f":"#REF!","v":{"$error":"#REF!"}},{"$f":"#REF!","v":{"$error":"#REF!"}},{"$f":"#REF!","v":{"$error":"#REF!"}},{"$f":"#REF!","v":{"$error":"#REF!"}},{"$error":"#REF!"},{"$f":"#REF!","v":{"$error":"#REF!"}},{"$f":"#REF!","v":{"$error":"#REF!"}},{"$f":"#REF!","v":{"$error":"#REF!"}},{"$f":"#REF!","v":{"$error":"#REF!"}},{"$f":"#REF!","v":{"$error":"#REF!"}},{"$f":"#REF!","v":{"$error":"#REF!"}},{"$f":"#REF!","v":{"$error":"#REF!"}},{"$f":"#REF!","v":{"$error":"#REF!"}},{"$f":"#REF!","v":{"$error":"#REF!"}},{"$f":"#REF!","v":{"$error":"#REF!"}},{"$f":"#REF!","v":{"$error":"#REF!"}},{"$f":"#REF!","v":{"$error":"#REF!"}},{"$f":"#REF!","v":{"$error":"#REF!"}},{"$f":"#REF!","v":{"$error":"#REF!"}},{"$f":"#REF!","v":{"$error":"#REF!"}},{"$f":"#REF!","v":{"$error":"#REF!"}},{"$f":"#REF!","v":{"$error":"#REF!"}},{"$f":"#REF!","v":{"$error":"#REF!"}},{"$f":"#REF!","v":{"$error":"#REF!"}},{"$f":"#REF!","v":{"$error":"#REF!"}},{"$f":"#REF!","v":{"$error":"#REF!"}},{"$f":"#REF!","v":{"$error":"#REF!"}},{"$f":"#REF!","v":{"$error":"#REF!"}},{"$f":"#REF!","v":{"$error":"#REF!"}},{"$f":"#REF!","v":{"$error":"#REF!"}},{"$f":"#REF!","v":{"$error":"#REF!"}},{"$f":"IF(#REF!=\"\",\"\",#REF!)","v":{"$error":"#REF!"}},{"$error":"#REF!"},{"$f":"IF(#REF!=\"\",\"\",#REF!)","v":{"$error":"#REF!"}},{"$f":"IF(#REF!=\"\",\"\",#REF!)","v":{"$error":"#REF!"}},{"$f":"IF(#REF!=\"\",\"\",#REF!)","v":{"$error":"#REF!"}},{"$f":"IF(#REF!=\"\",\"\",#REF!)","v":{"$error":"#REF!"}},{"$f":"IF(#REF!=\"\",\"\",#REF!)","v":{"$error":"#REF!"}},{"$f":"#REF!","v":{"$error":"#REF!"}},{"$f":"IF(#REF!=\"\",\"\",#REF!)","v":{"$error":"#REF!"}},{"$f":"#REF!","v":{"$error":"#REF!"}},{"$f":"IF(#REF!=\"\",\"\",#REF!)","v":{"$error":"#REF!"}},{"$f":"IF(#REF!=\"\",\"\",#REF!)","v":{"$error":"#REF!"}},{"$f":"#REF!","v":{"$error":"#REF!"}},{"$f":"#REF!","v":{"$error":"#REF!"}},{"$f":"IF(#REF!=\"\",\"\",#REF!)","v":{"$error":"#REF!"}},{"$f":"#REF!","v":{"$error":"#REF!"}},{"$f":"#REF!","v":{"$error":"#REF!"}},{"$f":"#REF!","v":{"$error":"#REF!"}},{"$f":"#REF!","v":{"$error":"#REF!"}},{"$f":"#REF!","v":{"$error":"#REF!"}},{"$f":"#REF!","v":{"$error":"#REF!"}},{"$f":"#REF!","v":{"$error":"#REF!"}},{"$f":"#REF!","v":{"$error":"#REF!"}},{"$f":"#REF!","v":{"$error":"#REF!"}},{"$f":"#REF!","v":{"$error":"#REF!"}},{"$f":"#REF!","v":{"$error":"#REF!"}},{"$f":"#REF!","v":{"$error":"#REF!"}},{"$f":"#REF!","v":{"$error":"#REF!"}},{"$f":"#REF!","v":{"$error":"#REF!"}},{"$f":"#REF!","v":{"$error":"#REF!"}},null,null,null,null,null,null,null,null,null,null,null,null,null,null,null,null,null,null,null,null,null,null,{"$f":"IF(#REF!=\"\",\"\",#REF!)","v":{"$error":"#REF!"}},{"$f":"IF(#REF!=\"\",\"\",#REF!)","v":{"$error":"#REF!"}},{"$f":"IF(#REF!=\"\",\"\",#REF!)","v":{"$error":"#REF!"}},null,{"$f":"IF(#REF!=\"\",\"\",#REF!)","v":{"$error":"#REF!"}},{"$f":"IF(#REF!=\"\",\"\",#REF!)","v":{"$error":"#REF!"}},{"$f":"IF(#REF!=\"\",\"\",#REF!)","v":{"$error":"#REF!"}},{"$f":"IF(#REF!=\"\",\"\",#REF!)","v":{"$error":"#REF!"}},null,{"$f":"IF(#REF!=\"\",\"\",#REF!)","v":{"$error":"#REF!"}},{"$f":"IF(#REF!=\"\",\"\",#REF!)","v":{"$error":"#REF!"}},{"$f":"IF(#REF!=\"\",\"\",#REF!)","v":{"$error":"#REF!"}},{"$f":"IF(#REF!=\"\",\"\",#REF!)","v":{"$error":"#REF!"}},null,{"$f":"IF(#REF!=\"\",\"\",#REF!)","v":{"$error":"#REF!"}},null,null,null,null,null,null,null,"",{"$f":"IF(#REF!=\"\",\"\",#REF!)","v":{"$error":"#REF!"}}]
[null,{"$error":"#REF!"},{"$f":"IF(#REF!=\"\",\"\",VLOOKUP(D25,code!$A$1:$B$47,2,FALSE))","v":{"$error":"#REF!"}},{"$f":"IF(#REF!=\"\",\"\",#REF!)","v":{"$error":"#REF!"}},{"$f":"IF(#REF!=\"\",\"\",VLOOKUP((D25&F25),code!$E$1:$F$1741,2,FALSE))","v":{"$error":"#REF!"}},{"$f":"IF(#REF!=\"\",\"\",#REF!)","v":{"$error":"#REF!"}},{"$f":"IF(#REF!=\"\",\"\",#REF!)","v":{"$error":"#REF!"}},{"$f":"IF(#REF!=\"\",\"\",#REF!)","v":{"$error":"#REF!"}},{"$f":"IF(#REF!=\"\",\"\",#REF!)","v":{"$error":"#REF!"}},{"$f":"IF(#REF!=\"\",\"\",#REF!)","v":{"$error":"#REF!"}},{"$f":"IF(#REF!=\"\",\"\",#REF!)","v":{"$error":"#REF!"}},{"$f":"IF(#REF!=\"\",\"\",#REF!)","v":{"$error":"#REF!"}},{"$f":"IF(#REF!=\"\",\"\",#REF!)","v":{"$error":"#REF!"}},{"$f":"IF(#REF!=\"\",\"\",#REF!)","v":{"$error":"#REF!"}},{"$f":"IF(#REF!=\"\",\"\",#REF!)","v":{"$error":"#REF!"}},{"$f":"IF(#REF!=\"\",\"\",#REF!)","v":{"$error":"#REF!"}},{"$f":"IF(#REF!=\"\",\"\",#REF!)","v":{"$error":"#REF!"}},{"$f":"IF(#REF!=\"\",\"\",#REF!)","v":{"$error":"#REF!"}},{"$f":"IF(#REF!=\"\",\"\",#REF!)","v":{"$error":"#REF!"}},{"$f":"IF(#REF!=\"\",\"\",#REF!)","v":{"$error":"#REF!"}},{"$f":"IF(#REF!=\"\",\"\",#REF!)","v":{"$error":"#REF!"}},{"$f":"IF(#REF!=\"\",\"\",#REF!)","v":{"$error":"#REF!"}},{"$f":"IF(#REF!=\"\",\"\",#REF!)","v":{"$error":"#REF!"}},{"$f":"IF(#REF!=\"\",\"\",#REF!)","v":{"$error":"#REF!"}},{"$f":"IF(#REF!=\"\",\"\",#REF!)","v":{"$error":"#REF!"}},{"$f":"IF(#REF!=\"\",\"\",#REF!)","v":{"$error":"#REF!"}},{"$f":"IF(#REF!=\"\",\"\",#REF!)","v":{"$error":"#REF!"}},{"$f":"IF(#REF!=\"\",\"\",#REF!)","v":{"$error":"#REF!"}},{"$f":"IF(#REF!=\"\",\"\",#REF!)","v":{"$error":"#REF!"}},{"$f":"IF(#REF!=\"\",\"\",#REF!)","v":{"$error":"#REF!"}},{"$error":"#REF!"},{"$f":"IF(#REF!=\"\",\"\",#REF!)","v":{"$error":"#REF!"}},{"$f":"IF(#REF!=\"\",\"\",#REF!)","v":{"$error":"#REF!"}},{"$f":"IF(#REF!=\"\",\"\",#REF!)","v":{"$error":"#REF!"}},{"$f":"IF(#REF!=\"\",\"\",#REF!)","v":{"$error":"#REF!"}},{"$f":"IF(#REF!=\"\",\"\",#REF!)","v":{"$error":"#REF!"}},{"$f":"#REF!","v":{"$error":"#REF!"}},{"$f":"#REF!","v":{"$error":"#REF!"}},{"$f":"#REF!","v":{"$error":"#REF!"}},{"$f":"#REF!","v":{"$error":"#REF!"}},{"$error":"#REF!"},{"$f":"#REF!","v":{"$error":"#REF!"}},{"$f":"#REF!","v":{"$error":"#REF!"}},{"$f":"#REF!","v":{"$error":"#REF!"}},{"$f":"#REF!","v":{"$error":"#REF!"}},{"$f":"#REF!","v":{"$error":"#REF!"}},{"$error":"#REF!"},{"$f":"#REF!","v":{"$error":"#REF!"}},{"$f":"#REF!","v":{"$error":"#REF!"}},{"$f":"#REF!","v":{"$error":"#REF!"}},{"$f":"#REF!","v":{"$error":"#REF!"}},{"$f":"#REF!","v":{"$error":"#REF!"}},{"$f":"#REF!","v":{"$error":"#REF!"}},{"$f":"#REF!","v":{"$error":"#REF!"}},{"$f":"#REF!","v":{"$error":"#REF!"}},{"$f":"#REF!","v":{"$error":"#REF!"}},{"$f":"#REF!","v":{"$error":"#REF!"}},{"$f":"#REF!","v":{"$error":"#REF!"}},{"$f":"#REF!","v":{"$error":"#REF!"}},{"$f":"#REF!","v":{"$error":"#REF!"}},{"$f":"#REF!","v":{"$error":"#REF!"}},{"$f":"#REF!","v":{"$error":"#REF!"}},{"$f":"#REF!","v":{"$error":"#REF!"}},{"$f":"#REF!","v":{"$error":"#REF!"}},{"$f":"#REF!","v":{"$error":"#REF!"}},{"$f":"#REF!","v":{"$error":"#REF!"}},{"$f":"#REF!","v":{"$error":"#REF!"}},{"$f":"#REF!","v":{"$error":"#REF!"}},{"$f":"#REF!","v":{"$error":"#REF!"}},{"$f":"#REF!","v":{"$error":"#REF!"}},{"$f":"#REF!","v":{"$error":"#REF!"}},{"$f":"#REF!","v":{"$error":"#REF!"}},{"$f":"#REF!","v":{"$error":"#REF!"}},{"$f":"IF(#REF!=\"\",\"\",#REF!)","v":{"$error":"#REF!"}},{"$error":"#REF!"},{"$f":"IF(#REF!=\"\",\"\",#REF!)","v":{"$error":"#REF!"}},{"$f":"IF(#REF!=\"\",\"\",#REF!)","v":{"$error":"#REF!"}},{"$f":"IF(#REF!=\"\",\"\",#REF!)","v":{"$error":"#REF!"}},{"$f":"IF(#REF!=\"\",\"\",#REF!)","v":{"$error":"#REF!"}},{"$f":"IF(#REF!=\"\",\"\",#REF!)","v":{"$error":"#REF!"}},{"$f":"#REF!","v":{"$error":"#REF!"}},{"$f":"IF(#REF!=\"\",\"\",#REF!)","v":{"$error":"#REF!"}},{"$f":"#REF!","v":{"$error":"#REF!"}},{"$f":"IF(#REF!=\"\",\"\",#REF!)","v":{"$error":"#REF!"}},{"$f":"IF(#REF!=\"\",\"\",#REF!)","v":{"$error":"#REF!"}},{"$f":"#REF!","v":{"$error":"#REF!"}},{"$f":"#REF!","v":{"$error":"#REF!"}},{"$f":"IF(#REF!=\"\",\"\",#REF!)","v":{"$error":"#REF!"}},{"$f":"#REF!","v":{"$error":"#REF!"}},{"$f":"#REF!","v":{"$error":"#REF!"}},{"$f":"#REF!","v":{"$error":"#REF!"}},{"$f":"#REF!","v":{"$error":"#REF!"}},{"$f":"#REF!","v":{"$error":"#REF!"}},{"$f":"#REF!","v":{"$error":"#REF!"}},{"$f":"#REF!","v":{"$error":"#REF!"}},{"$f":"#REF!","v":{"$error":"#REF!"}},{"$f":"#REF!","v":{"$error":"#REF!"}},{"$f":"#REF!","v":{"$error":"#REF!"}},{"$f":"#REF!","v":{"$error":"#REF!"}},{"$f":"#REF!","v":{"$error":"#REF!"}},{"$f":"#REF!","v":{"$error":"#REF!"}},{"$f":"#REF!","v":{"$error":"#REF!"}},{"$f":"#REF!","v":{"$error":"#REF!"}},null,null,null,null,null,null,null,null,null,null,null,null,null,null,null,null,null,null,null,null,null,null,{"$f":"IF(#REF!=\"\",\"\",#REF!)","v":{"$error":"#REF!"}},{"$f":"IF(#REF!=\"\",\"\",#REF!)","v":{"$error":"#REF!"}},{"$f":"IF(#REF!=\"\",\"\",#REF!)","v":{"$error":"#REF!"}},null,{"$f":"IF(#REF!=\"\",\"\",#REF!)","v":{"$error":"#REF!"}},{"$f":"IF(#REF!=\"\",\"\",#REF!)","v":{"$error":"#REF!"}},{"$f":"IF(#REF!=\"\",\"\",#REF!)","v":{"$error":"#REF!"}},{"$f":"IF(#REF!=\"\",\"\",#REF!)","v":{"$error":"#REF!"}},null,{"$f":"IF(#REF!=\"\",\"\",#REF!)","v":{"$error":"#REF!"}},{"$f":"IF(#REF!=\"\",\"\",#REF!)","v":{"$error":"#REF!"}},{"$f":"IF(#REF!=\"\",\"\",#REF!)","v":{"$error":"#REF!"}},{"$f":"IF(#REF!=\"\",\"\",#REF!)","v":{"$error":"#REF!"}},null,{"$f":"IF(#REF!=\"\",\"\",#REF!)","v":{"$error":"#REF!"}},null,null,null,null,null,null,null,"",{"$f":"IF(#REF!=\"\",\"\",#REF!)","v":{"$error":"#REF!"}}]
[null,{"$error":"#REF!"},{"$f":"IF(#REF!=\"\",\"\",VLOOKUP(D26,code!$A$1:$B$47,2,FALSE))","v":{"$error":"#REF!"}},{"$f":"IF(#REF!=\"\",\"\",#REF!)","v":{"$error":"#REF!"}},{"$f":"IF(#REF!=\"\",\"\",VLOOKUP((D26&F26),code!$E$1:$F$1741,2,FALSE))","v":{"$error":"#REF!"}},{"$f":"IF(#REF!=\"\",\"\",#REF!)","v":{"$error":"#REF!"}},{"$f":"IF(#REF!=\"\",\"\",#REF!)","v":{"$error":"#REF!"}},{"$f":"IF(#REF!=\"\",\"\",#REF!)","v":{"$error":"#REF!"}},{"$f":"IF(#REF!=\"\",\"\",#REF!)","v":{"$error":"#REF!"}},{"$f":"IF(#REF!=\"\",\"\",#REF!)","v":{"$error":"#REF!"}},{"$f":"IF(#REF!=\"\",\"\",#REF!)","v":{"$error":"#REF!"}},{"$f":"IF(#REF!=\"\",\"\",#REF!)","v":{"$error":"#REF!"}},{"$f":"IF(#REF!=\"\",\"\",#REF!)","v":{"$error":"#REF!"}},{"$f":"IF(#REF!=\"\",\"\",#REF!)","v":{"$error":"#REF!"}},{"$f":"IF(#REF!=\"\",\"\",#REF!)","v":{"$error":"#REF!"}},{"$f":"IF(#REF!=\"\",\"\",#REF!)","v":{"$error":"#REF!"}},{"$f":"IF(#REF!=\"\",\"\",#REF!)","v":{"$error":"#REF!"}},{"$f":"IF(#REF!=\"\",\"\",#REF!)","v":{"$error":"#REF!"}},{"$f":"IF(#REF!=\"\",\"\",#REF!)","v":{"$error":"#REF!"}},{"$f":"IF(#REF!=\"\",\"\",#REF!)","v":{"$error":"#REF!"}},{"$f":"IF(#REF!=\"\",\"\",#REF!)","v":{"$error":"#REF!"}},{"$f":"IF(#REF!=\"\",\"\",#REF!)","v":{"$error":"#REF!"}},{"$f":"IF(#REF!=\"\",\"\",#REF!)","v":{"$error":"#REF!"}},{"$f":"IF(#REF!=\"\",\"\",#REF!)","v":{"$error":"#REF!"}},{"$f":"IF(#REF!=\"\",\"\",#REF!)","v":{"$error":"#REF!"}},{"$f":"IF(#REF!=\"\",\"\",#REF!)","v":{"$error":"#REF!"}},{"$f":"IF(#REF!=\"\",\"\",#REF!)","v":{"$error":"#REF!"}},{"$f":"IF(#REF!=\"\",\"\",#REF!)","v":{"$error":"#REF!"}},{"$f":"IF(#REF!=\"\",\"\",#REF!)","v":{"$error":"#REF!"}},{"$f":"IF(#REF!=\"\",\"\",#REF!)","v":{"$error":"#REF!"}},{"$error":"#REF!"},{"$f":"IF(#REF!=\"\",\"\",#REF!)","v":{"$error":"#REF!"}},{"$f":"IF(#REF!=\"\",\"\",#REF!)","v":{"$error":"#REF!"}},{"$f":"IF(#REF!=\"\",\"\",#REF!)","v":{"$error":"#REF!"}},{"$f":"IF(#REF!=\"\",\"\",#REF!)","v":{"$error":"#REF!"}},{"$f":"IF(#REF!=\"\",\"\",#REF!)","v":{"$error":"#REF!"}},{"$f":"#REF!","v":{"$error":"#REF!"}},{"$f":"#REF!","v":{"$error":"#REF!"}},{"$f":"#REF!","v":{"$error":"#REF!"}},{"$f":"#REF!","v":{"$error":"#REF!"}},{"$error":"#REF!"},{"$f":"#REF!","v":{"$error":"#REF!"}},{"$f":"#REF!","v":{"$error":"#REF!"}},{"$f":"#REF!","v":{"$error":"#REF!"}},{"$f":"#REF!","v":{"$error":"#REF!"}},{"$f":"#REF!","v":{"$error":"#REF!"}},{"$error":"#REF!"},{"$f":"#REF!","v":{"$error":"#REF!"}},{"$f":"#REF!","v":{"$error":"#REF!"}},{"$f":"#REF!","v":{"$error":"#REF!"}},{"$f":"#REF!","v":{"$error":"#REF!"}},{"$f":"#REF!","v":{"$error":"#REF!"}},{"$f":"#REF!","v":{"$error":"#REF!"}},{"$f":"#REF!","v":{"$error":"#REF!"}},{"$f":"#REF!","v":{"$error":"#REF!"}},{"$f":"#REF!","v":{"$error":"#REF!"}},{"$f":"#REF!","v":{"$error":"#REF!"}},{"$f":"#REF!","v":{"$error":"#REF!"}},{"$f":"#REF!","v":{"$error":"#REF!"}},{"$f":"#REF!","v":{"$error":"#REF!"}},{"$f":"#REF!","v":{"$error":"#REF!"}},{"$f":"#REF!","v":{"$error":"#REF!"}},{"$f":"#REF!","v":{"$error":"#REF!"}},{"$f":"#REF!","v":{"$error":"#REF!"}},{"$f":"#REF!","v":{"$error":"#REF!"}},{"$f":"#REF!","v":{"$error":"#REF!"}},{"$f":"#REF!","v":{"$error":"#REF!"}},{"$f":"#REF!","v":{"$error":"#REF!"}},{"$f":"#REF!","v":{"$error":"#REF!"}},{"$f":"#REF!","v":{"$error":"#REF!"}},{"$f":"#REF!","v":{"$error":"#REF!"}},{"$f":"#REF!","v":{"$error":"#REF!"}},{"$f":"#REF!","v":{"$error":"#REF!"}},{"$f":"IF(#REF!=\"\",\"\",#REF!)","v":{"$error":"#REF!"}},{"$error":"#REF!"},{"$f":"IF(#REF!=\"\",\"\",#REF!)","v":{"$error":"#REF!"}},{"$f":"IF(#REF!=\"\",\"\",#REF!)","v":{"$error":"#REF!"}},{"$f":"IF(#REF!=\"\",\"\",#REF!)","v":{"$error":"#REF!"}},{"$f":"IF(#REF!=\"\",\"\",#REF!)","v":{"$error":"#REF!"}},{"$f":"IF(#REF!=\"\",\"\",#REF!)","v":{"$error":"#REF!"}},{"$f":"#REF!","v":{"$error":"#REF!"}},{"$f":"IF(#REF!=\"\",\"\",#REF!)","v":{"$error":"#REF!"}},{"$f":"#REF!","v":{"$error":"#REF!"}},{"$f":"IF(#REF!=\"\",\"\",#REF!)","v":{"$error":"#REF!"}},{"$f":"IF(#REF!=\"\",\"\",#REF!)","v":{"$error":"#REF!"}},{"$f":"#REF!","v":{"$error":"#REF!"}},{"$f":"#REF!","v":{"$error":"#REF!"}},{"$f":"IF(#REF!=\"\",\"\",#REF!)","v":{"$error":"#REF!"}},{"$f":"#REF!","v":{"$error":"#REF!"}},{"$f":"#REF!","v":{"$error":"#REF!"}},{"$f":"#REF!","v":{"$error":"#REF!"}},{"$f":"#REF!","v":{"$error":"#REF!"}},{"$f":"#REF!","v":{"$error":"#REF!"}},{"$f":"#REF!","v":{"$error":"#REF!"}},{"$f":"#REF!","v":{"$error":"#REF!"}},{"$f":"#REF!","v":{"$error":"#REF!"}},{"$f":"#REF!","v":{"$error":"#REF!"}},{"$f":"#REF!","v":{"$error":"#REF!"}},{"$f":"#REF!","v":{"$error":"#REF!"}},{"$f":"#REF!","v":{"$error":"#REF!"}},{"$f":"#REF!","v":{"$error":"#REF!"}},{"$f":"#REF!","v":{"$error":"#REF!"}},{"$f":"#REF!","v":{"$error":"#REF!"}},null,null,null,null,null,null,null,null,null,null,null,null,null,null,null,null,null,null,null,null,null,null,{"$f":"IF(#REF!=\"\",\"\",#REF!)","v":{"$error":"#REF!"}},{"$f":"IF(#REF!=\"\",\"\",#REF!)","v":{"$error":"#REF!"}},{"$f":"IF(#REF!=\"\",\"\",#REF!)","v":{"$error":"#REF!"}},null,{"$f":"IF(#REF!=\"\",\"\",#REF!)","v":{"$error":"#REF!"}},{"$f":"IF(#REF!=\"\",\"\",#REF!)","v":{"$error":"#REF!"}},{"$f":"IF(#REF!=\"\",\"\",#REF!)","v":{"$error":"#REF!"}},{"$f":"IF(#REF!=\"\",\"\",#REF!)","v":{"$error":"#REF!"}},null,{"$f":"IF(#REF!=\"\",\"\",#REF!)","v":{"$error":"#REF!"}},{"$f":"IF(#REF!=\"\",\"\",#REF!)","v":{"$error":"#REF!"}},{"$f":"IF(#REF!=\"\",\"\",#REF!)","v":{"$error":"#REF!"}},{"$f":"IF(#REF!=\"\",\"\",#REF!)","v":{"$error":"#REF!"}},null,{"$f":"IF(#REF!=\"\",\"\",#REF!)","v":{"$error":"#REF!"}},null,null,null,null,null,null,null,"",{"$f":"IF(#REF!=\"\",\"\",#REF!)","v":{"$error":"#REF!"}}]
[null,{"$error":"#REF!"},{"$f":"IF(#REF!=\"\",\"\",VLOOKUP(D27,code!$A$1:$B$47,2,FALSE))","v":{"$error":"#REF!"}},{"$f":"IF(#REF!=\"\",\"\",#REF!)","v":{"$error":"#REF!"}},{"$f":"IF(#REF!=\"\",\"\",VLOOKUP((D27&F27),code!$E$1:$F$1741,2,FALSE))","v":{"$error":"#REF!"}},{"$f":"IF(#REF!=\"\",\"\",#REF!)","v":{"$error":"#REF!"}},{"$f":"IF(#REF!=\"\",\"\",#REF!)","v":{"$error":"#REF!"}},{"$f":"IF(#REF!=\"\",\"\",#REF!)","v":{"$error":"#REF!"}},{"$f":"IF(#REF!=\"\",\"\",#REF!)","v":{"$error":"#REF!"}},{"$f":"IF(#REF!=\"\",\"\",#REF!)","v":{"$error":"#REF!"}},{"$f":"IF(#REF!=\"\",\"\",#REF!)","v":{"$error":"#REF!"}},{"$f":"IF(#REF!=\"\",\"\",#REF!)","v":{"$error":"#REF!"}},{"$f":"IF(#REF!=\"\",\"\",#REF!)","v":{"$error":"#REF!"}},{"$f":"IF(#REF!=\"\",\"\",#REF!)","v":{"$error":"#REF!"}},{"$f":"IF(#REF!=\"\",\"\",#REF!)","v":{"$error":"#REF!"}},{"$f":"IF(#REF!=\"\",\"\",#REF!)","v":{"$error":"#REF!"}},{"$f":"IF(#REF!=\"\",\"\",#REF!)","v":{"$error":"#REF!"}},{"$f":"IF(#REF!=\"\",\"\",#REF!)","v":{"$error":"#REF!"}},{"$f":"IF(#REF!=\"\",\"\",#REF!)","v":{"$error":"#REF!"}},{"$f":"IF(#REF!=\"\",\"\",#REF!)","v":{"$error":"#REF!"}},{"$f":"IF(#REF!=\"\",\"\",#REF!)","v":{"$error":"#REF!"}},{"$f":"IF(#REF!=\"\",\"\",#REF!)","v":{"$error":"#REF!"}},{"$f":"IF(#REF!=\"\",\"\",#REF!)","v":{"$error":"#REF!"}},{"$f":"IF(#REF!=\"\",\"\",#REF!)","v":{"$error":"#REF!"}},{"$f":"IF(#REF!=\"\",\"\",#REF!)","v":{"$error":"#REF!"}},{"$f":"IF(#REF!=\"\",\"\",#REF!)","v":{"$error":"#REF!"}},{"$f":"IF(#REF!=\"\",\"\",#REF!)","v":{"$error":"#REF!"}},{"$f":"IF(#REF!=\"\",\"\",#REF!)","v":{"$error":"#REF!"}},{"$f":"IF(#REF!=\"\",\"\",#REF!)","v":{"$error":"#REF!"}},{"$f":"IF(#REF!=\"\",\"\",#REF!)","v":{"$error":"#REF!"}},{"$error":"#REF!"},{"$f":"IF(#REF!=\"\",\"\",#REF!)","v":{"$error":"#REF!"}},{"$f":"IF(#REF!=\"\",\"\",#REF!)","v":{"$error":"#REF!"}},{"$f":"IF(#REF!=\"\",\"\",#REF!)","v":{"$error":"#REF!"}},{"$f":"IF(#REF!=\"\",\"\",#REF!)","v":{"$error":"#REF!"}},{"$f":"IF(#REF!=\"\",\"\",#REF!)","v":{"$error":"#REF!"}},{"$f":"#REF!","v":{"$error":"#REF!"}},{"$f":"#REF!","v":{"$error":"#REF!"}},{"$f":"#REF!","v":{"$error":"#REF!"}},{"$f":"#REF!","v":{"$error":"#REF!"}},{"$error":"#REF!"},{"$f":"#REF!","v":{"$error":"#REF!"}},{"$f":"#REF!","v":{"$error":"#REF!"}},{"$f":"#REF!","v":{"$error":"#REF!"}},{"$f":"#REF!","v":{"$error":"#REF!"}},{"$f":"#REF!","v":{"$error":"#REF!"}},{"$error":"#REF!"},{"$f":"#REF!","v":{"$error":"#REF!"}},{"$f":"#REF!","v":{"$error":"#REF!"}},{"$f":"#REF!","v":{"$error":"#REF!"}},{"$f":"#REF!","v":{"$error":"#REF!"}},{"$f":"#REF!","v":{"$error":"#REF!"}},{"$f":"#REF!","v":{"$error":"#REF!"}},{"$f":"#REF!","v":{"$error":"#REF!"}},{"$f":"#REF!","v":{"$error":"#REF!"}},{"$f":"#REF!","v":{"$error":"#REF!"}},{"$f":"#REF!","v":{"$error":"#REF!"}},{"$f":"#REF!","v":{"$error":"#REF!"}},{"$f":"#REF!","v":{"$error":"#REF!"}},{"$f":"#REF!","v":{"$error":"#REF!"}},{"$f":"#REF!","v":{"$error":"#REF!"}},{"$f":"#REF!","v":{"$error":"#REF!"}},{"$f":"#REF!","v":{"$error":"#REF!"}},{"$f":"#REF!","v":{"$error":"#REF!"}},{"$f":"#REF!","v":{"$error":"#REF!"}},{"$f":"#REF!","v":{"$error":"#REF!"}},{"$f":"#REF!","v":{"$error":"#REF!"}},{"$f":"#REF!","v":{"$error":"#REF!"}},{"$f":"#REF!","v":{"$error":"#REF!"}},{"$f":"#REF!","v":{"$error":"#REF!"}},{"$f":"#REF!","v":{"$error":"#REF!"}},{"$f":"#REF!","v":{"$error":"#REF!"}},{"$f":"#REF!","v":{"$error":"#REF!"}},{"$f":"IF(#REF!=\"\",\"\",#REF!)","v":{"$error":"#REF!"}},{"$error":"#REF!"},{"$f":"IF(#REF!=\"\",\"\",#REF!)","v":{"$error":"#REF!"}},{"$f":"IF(#REF!=\"\",\"\",#REF!)","v":{"$error":"#REF!"}},{"$f":"IF(#REF!=\"\",\"\",#REF!)","v":{"$error":"#REF!"}},{"$f":"IF(#REF!=\"\",\"\",#REF!)","v":{"$error":"#REF!"}},{"$f":"IF(#REF!=\"\",\"\",#REF!)","v":{"$error":"#REF!"}},{"$f":"#REF!","v":{"$error":"#REF!"}},{"$f":"IF(#REF!=\"\",\"\",#REF!)","v":{"$error":"#REF!"}},{"$f":"#REF!","v":{"$error":"#REF!"}},{"$f":"IF(#REF!=\"\",\"\",#REF!)","v":{"$error":"#REF!"}},{"$f":"IF(#REF!=\"\",\"\",#REF!)","v":{"$error":"#REF!"}},{"$f":"#REF!","v":{"$error":"#REF!"}},{"$f":"#REF!","v":{"$error":"#REF!"}},{"$f":"IF(#REF!=\"\",\"\",#REF!)","v":{"$error":"#REF!"}},{"$f":"#REF!","v":{"$error":"#REF!"}},{"$f":"#REF!","v":{"$error":"#REF!"}},{"$f":"#REF!","v":{"$error":"#REF!"}},{"$f":"#REF!","v":{"$error":"#REF!"}},{"$f":"#REF!","v":{"$error":"#REF!"}},{"$f":"#REF!","v":{"$error":"#REF!"}},{"$f":"#REF!","v":{"$error":"#REF!"}},{"$f":"#REF!","v":{"$error":"#REF!"}},{"$f":"#REF!","v":{"$error":"#REF!"}},{"$f":"#REF!","v":{"$error":"#REF!"}},{"$f":"#REF!","v":{"$error":"#REF!"}},{"$f":"#REF!","v":{"$error":"#REF!"}},{"$f":"#REF!","v":{"$error":"#REF!"}},{"$f":"#REF!","v":{"$error":"#REF!"}},{"$f":"#REF!","v":{"$error":"#REF!"}},null,null,null,null,null,null,null,null,null,null,null,null,null,null,null,null,null,null,null,null,null,null,{"$f":"IF(#REF!=\"\",\"\",#REF!)","v":{"$error":"#REF!"}},{"$f":"IF(#REF!=\"\",\"\",#REF!)","v":{"$error":"#REF!"}},{"$f":"IF(#REF!=\"\",\"\",#REF!)","v":{"$error":"#REF!"}},null,{"$f":"IF(#REF!=\"\",\"\",#REF!)","v":{"$error":"#REF!"}},{"$f":"IF(#REF!=\"\",\"\",#REF!)","v":{"$error":"#REF!"}},{"$f":"IF(#REF!=\"\",\"\",#REF!)","v":{"$error":"#REF!"}},{"$f":"IF(#REF!=\"\",\"\",#REF!)","v":{"$error":"#REF!"}},null,{"$f":"IF(#REF!=\"\",\"\",#REF!)","v":{"$error":"#REF!"}},{"$f":"IF(#REF!=\"\",\"\",#REF!)","v":{"$error":"#REF!"}},{"$f":"IF(#REF!=\"\",\"\",#REF!)","v":{"$error":"#REF!"}},{"$f":"IF(#REF!=\"\",\"\",#REF!)","v":{"$error":"#REF!"}},null,{"$f":"IF(#REF!=\"\",\"\",#REF!)","v":{"$error":"#REF!"}},null,null,null,null,null,null,null,"",{"$f":"IF(#REF!=\"\",\"\",#REF!)","v":{"$error":"#REF!"}}]
[null,{"$error":"#REF!"},{"$f":"IF(#REF!=\"\",\"\",VLOOKUP(D28,code!$A$1:$B$47,2,FALSE))","v":{"$error":"#REF!"}},{"$f":"IF(#REF!=\"\",\"\",#REF!)","v":{"$error":"#REF!"}},{"$f":"IF(#REF!=\"\",\"\",VLOOKUP((D28&F28),code!$E$1:$F$1741,2,FALSE))","v":{"$error":"#REF!"}},{"$f":"IF(#REF!=\"\",\"\",#REF!)","v":{"$error":"#REF!"}},{"$f":"IF(#REF!=\"\",\"\",#REF!)","v":{"$error":"#REF!"}},{"$f":"IF(#REF!=\"\",\"\",#REF!)","v":{"$error":"#REF!"}},{"$f":"IF(#REF!=\"\",\"\",#REF!)","v":{"$error":"#REF!"}},{"$f":"IF(#REF!=\"\",\"\",#REF!)","v":{"$error":"#REF!"}},{"$f":"IF(#REF!=\"\",\"\",#REF!)","v":{"$error":"#REF!"}},{"$f":"IF(#REF!=\"\",\"\",#REF!)","v":{"$error":"#REF!"}},{"$f":"IF(#REF!=\"\",\"\",#REF!)","v":{"$error":"#REF!"}},{"$f":"IF(#REF!=\"\",\"\",#REF!)","v":{"$error":"#REF!"}},{"$f":"IF(#REF!=\"\",\"\",#REF!)","v":{"$error":"#REF!"}},{"$f":"IF(#REF!=\"\",\"\",#REF!)","v":{"$error":"#REF!"}},{"$f":"IF(#REF!=\"\",\"\",#REF!)","v":{"$error":"#REF!"}},{"$f":"IF(#REF!=\"\",\"\",#REF!)","v":{"$error":"#REF!"}},{"$f":"IF(#REF!=\"\",\"\",#REF!)","v":{"$error":"#REF!"}},{"$f":"IF(#REF!=\"\",\"\",#REF!)","v":{"$error":"#REF!"}},{"$f":"IF(#REF!=\"\",\"\",#REF!)","v":{"$error":"#REF!"}},{"$f":"IF(#REF!=\"\",\"\",#REF!)","v":{"$error":"#REF!"}},{"$f":"IF(#REF!=\"\",\"\",#REF!)","v":{"$error":"#REF!"}},{"$f":"IF(#REF!=\"\",\"\",#REF!)","v":{"$error":"#REF!"}},{"$f":"IF(#REF!=\"\",\"\",#REF!)","v":{"$error":"#REF!"}},{"$f":"IF(#REF!=\"\",\"\",#REF!)","v":{"$error":"#REF!"}},{"$f":"IF(#REF!=\"\",\"\",#REF!)","v":{"$error":"#REF!"}},{"$f":"IF(#REF!=\"\",\"\",#REF!)","v":{"$error":"#REF!"}},{"$f":"IF(#REF!=\"\",\"\",#REF!)","v":{"$error":"#REF!"}},{"$f":"IF(#REF!=\"\",\"\",#REF!)","v":{"$error":"#REF!"}},{"$error":"#REF!"},{"$f":"IF(#REF!=\"\",\"\",#REF!)","v":{"$error":"#REF!"}},{"$f":"IF(#REF!=\"\",\"\",#REF!)","v":{"$error":"#REF!"}},{"$f":"IF(#REF!=\"\",\"\",#REF!)","v":{"$error":"#REF!"}},{"$f":"IF(#REF!=\"\",\"\",#REF!)","v":{"$error":"#REF!"}},{"$f":"IF(#REF!=\"\",\"\",#REF!)","v":{"$error":"#REF!"}},{"$f":"#REF!","v":{"$error":"#REF!"}},{"$f":"#REF!","v":{"$error":"#REF!"}},{"$f":"#REF!","v":{"$error":"#REF!"}},{"$f":"#REF!","v":{"$error":"#REF!"}},{"$error":"#REF!"},{"$f":"#REF!","v":{"$error":"#REF!"}},{"$f":"#REF!","v":{"$error":"#REF!"}},{"$f":"#REF!","v":{"$error":"#REF!"}},{"$f":"#REF!","v":{"$error":"#REF!"}},{"$f":"#REF!","v":{"$error":"#REF!"}},{"$error":"#REF!"},{"$f":"#REF!","v":{"$error":"#REF!"}},{"$f":"#REF!","v":{"$error":"#REF!"}},{"$f":"#REF!","v":{"$error":"#REF!"}},{"$f":"#REF!","v":{"$error":"#REF!"}},{"$f":"#REF!","v":{"$error":"#REF!"}},{"$f":"#REF!","v":{"$error":"#REF!"}},{"$f":"#REF!","v":{"$error":"#REF!"}},{"$f":"#REF!","v":{"$error":"#REF!"}},{"$f":"#REF!","v":{"$error":"#REF!"}},{"$f":"#REF!","v":{"$error":"#REF!"}},{"$f":"#REF!","v":{"$error":"#REF!"}},{"$f":"#REF!","v":{"$error":"#REF!"}},{"$f":"#REF!","v":{"$error":"#REF!"}},{"$f":"#REF!","v":{"$error":"#REF!"}},{"$f":"#REF!","v":{"$error":"#REF!"}},{"$f":"#REF!","v":{"$error":"#REF!"}},{"$f":"#REF!","v":{"$error":"#REF!"}},{"$f":"#REF!","v":{"$error":"#REF!"}},{"$f":"#REF!","v":{"$error":"#REF!"}},{"$f":"#REF!","v":{"$error":"#REF!"}},{"$f":"#REF!","v":{"$error":"#REF!"}},{"$f":"#REF!","v":{"$error":"#REF!"}},{"$f":"#REF!","v":{"$error":"#REF!"}},{"$f":"#REF!","v":{"$error":"#REF!"}},{"$f":"#REF!","v":{"$error":"#REF!"}},{"$f":"#REF!","v":{"$error":"#REF!"}},{"$f":"IF(#REF!=\"\",\"\",#REF!)","v":{"$error":"#REF!"}},{"$error":"#REF!"},{"$f":"IF(#REF!=\"\",\"\",#REF!)","v":{"$error":"#REF!"}},{"$f":"IF(#REF!=\"\",\"\",#REF!)","v":{"$error":"#REF!"}},{"$f":"IF(#REF!=\"\",\"\",#REF!)","v":{"$error":"#REF!"}},{"$f":"IF(#REF!=\"\",\"\",#REF!)","v":{"$error":"#REF!"}},{"$f":"IF(#REF!=\"\",\"\",#REF!)","v":{"$error":"#REF!"}},{"$f":"#REF!","v":{"$error":"#REF!"}},{"$f":"IF(#REF!=\"\",\"\",#REF!)","v":{"$error":"#REF!"}},{"$f":"#REF!","v":{"$error":"#REF!"}},{"$f":"IF(#REF!=\"\",\"\",#REF!)","v":{"$error":"#REF!"}},{"$f":"IF(#REF!=\"\",\"\",#REF!)","v":{"$error":"#REF!"}},{"$f":"#REF!","v":{"$error":"#REF!"}},{"$f":"#REF!","v":{"$error":"#REF!"}},{"$f":"IF(#REF!=\"\",\"\",#REF!)","v":{"$error":"#REF!"}},{"$f":"#REF!","v":{"$error":"#REF!"}},{"$f":"#REF!","v":{"$error":"#REF!"}},{"$f":"#REF!","v":{"$error":"#REF!"}},{"$f":"#REF!","v":{"$error":"#REF!"}},{"$f":"#REF!","v":{"$error":"#REF!"}},{"$f":"#REF!","v":{"$error":"#REF!"}},{"$f":"#REF!","v":{"$error":"#REF!"}},{"$f":"#REF!","v":{"$error":"#REF!"}},{"$f":"#REF!","v":{"$error":"#REF!"}},{"$f":"#REF!","v":{"$error":"#REF!"}},{"$f":"#REF!","v":{"$error":"#REF!"}},{"$f":"#REF!","v":{"$error":"#REF!"}},{"$f":"#REF!","v":{"$error":"#REF!"}},{"$f":"#REF!","v":{"$error":"#REF!"}},{"$f":"#REF!","v":{"$error":"#REF!"}},null,null,null,null,null,null,null,null,null,null,null,null,null,null,null,null,null,null,null,null,null,null,{"$f":"IF(#REF!=\"\",\"\",#REF!)","v":{"$error":"#REF!"}},{"$f":"IF(#REF!=\"\",\"\",#REF!)","v":{"$error":"#REF!"}},{"$f":"IF(#REF!=\"\",\"\",#REF!)","v":{"$error":"#REF!"}},null,{"$f":"IF(#REF!=\"\",\"\",#REF!)","v":{"$error":"#REF!"}},{"$f":"IF(#REF!=\"\",\"\",#REF!)","v":{"$error":"#REF!"}},{"$f":"IF(#REF!=\"\",\"\",#REF!)","v":{"$error":"#REF!"}},{"$f":"IF(#REF!=\"\",\"\",#REF!)","v":{"$error":"#REF!"}},null,{"$f":"IF(#REF!=\"\",\"\",#REF!)","v":{"$error":"#REF!"}},{"$f":"IF(#REF!=\"\",\"\",#REF!)","v":{"$error":"#REF!"}},{"$f":"IF(#REF!=\"\",\"\",#REF!)","v":{"$error":"#REF!"}},{"$f":"IF(#REF!=\"\",\"\",#REF!)","v":{"$error":"#REF!"}},null,{"$f":"IF(#REF!=\"\",\"\",#REF!)","v":{"$error":"#REF!"}},null,null,null,null,null,null,null,"",{"$f":"IF(#REF!=\"\",\"\",#REF!)","v":{"$error":"#REF!"}}]
[null,{"$error":"#REF!"},{"$f":"IF(#REF!=\"\",\"\",VLOOKUP(D29,code!$A$1:$B$47,2,FALSE))","v":{"$error":"#REF!"}},{"$f":"IF(#REF!=\"\",\"\",#REF!)","v":{"$error":"#REF!"}},{"$f":"IF(#REF!=\"\",\"\",VLOOKUP((D29&F29),code!$E$1:$F$1741,2,FALSE))","v":{"$error":"#REF!"}},{"$f":"IF(#REF!=\"\",\"\",#REF!)","v":{"$error":"#REF!"}},{"$f":"IF(#REF!=\"\",\"\",#REF!)","v":{"$error":"#REF!"}},{"$f":"IF(#REF!=\"\",\"\",#REF!)","v":{"$error":"#REF!"}},{"$f":"IF(#REF!=\"\",\"\",#REF!)","v":{"$error":"#REF!"}},{"$f":"IF(#REF!=\"\",\"\",#REF!)","v":{"$error":"#REF!"}},{"$f":"IF(#REF!=\"\",\"\",#REF!)","v":{"$error":"#REF!"}},{"$f":"IF(#REF!=\"\",\"\",#REF!)","v":{"$error":"#REF!"}},{"$f":"IF(#REF!=\"\",\"\",#REF!)","v":{"$error":"#REF!"}},{"$f":"IF(#REF!=\"\",\"\",#REF!)","v":{"$error":"#REF!"}},{"$f":"IF(#REF!=\"\",\"\",#REF!)","v":{"$error":"#REF!"}},{"$f":"IF(#REF!=\"\",\"\",#REF!)","v":{"$error":"#REF!"}},{"$f":"IF(#REF!=\"\",\"\",#REF!)","v":{"$error":"#REF!"}},{"$f":"IF(#REF!=\"\",\"\",#REF!)","v":{"$error":"#REF!"}},{"$f":"IF(#REF!=\"\",\"\",#REF!)","v":{"$error":"#REF!"}},{"$f":"IF(#REF!=\"\",\"\",#REF!)","v":{"$error":"#REF!"}},{"$f":"IF(#REF!=\"\",\"\",#REF!)","v":{"$error":"#REF!"}},{"$f":"IF(#REF!=\"\",\"\",#REF!)","v":{"$error":"#REF!"}},{"$f":"IF(#REF!=\"\",\"\",#REF!)","v":{"$error":"#REF!"}},{"$f":"IF(#REF!=\"\",\"\",#REF!)","v":{"$error":"#REF!"}},{"$f":"IF(#REF!=\"\",\"\",#REF!)","v":{"$error":"#REF!"}},{"$f":"IF(#REF!=\"\",\"\",#REF!)","v":{"$error":"#REF!"}},{"$f":"IF(#REF!=\"\",\"\",#REF!)","v":{"$error":"#REF!"}},{"$f":"IF(#REF!=\"\",\"\",#REF!)","v":{"$error":"#REF!"}},{"$f":"IF(#REF!=\"\",\"\",#REF!)","v":{"$error":"#REF!"}},{"$f":"IF(#REF!=\"\",\"\",#REF!)","v":{"$error":"#REF!"}},{"$error":"#REF!"},{"$f":"IF(#REF!=\"\",\"\",#REF!)","v":{"$error":"#REF!"}},{"$f":"IF(#REF!=\"\",\"\",#REF!)","v":{"$error":"#REF!"}},{"$f":"IF(#REF!=\"\",\"\",#REF!)","v":{"$error":"#REF!"}},{"$f":"IF(#REF!=\"\",\"\",#REF!)","v":{"$error":"#REF!"}},{"$f":"IF(#REF!=\"\",\"\",#REF!)","v":{"$error":"#REF!"}},{"$f":"#REF!","v":{"$error":"#REF!"}},{"$f":"#REF!","v":{"$error":"#REF!"}},{"$f":"#REF!","v":{"$error":"#REF!"}},{"$f":"#REF!","v":{"$error":"#REF!"}},{"$error":"#REF!"},{"$f":"#REF!","v":{"$error":"#REF!"}},{"$f":"#REF!","v":{"$error":"#REF!"}},{"$f":"#REF!","v":{"$error":"#REF!"}},{"$f":"#REF!","v":{"$error":"#REF!"}},{"$f":"#REF!","v":{"$error":"#REF!"}},{"$error":"#REF!"},{"$f":"#REF!","v":{"$error":"#REF!"}},{"$f":"#REF!","v":{"$error":"#REF!"}},{"$f":"#REF!","v":{"$error":"#REF!"}},{"$f":"#REF!","v":{"$error":"#REF!"}},{"$f":"#REF!","v":{"$error":"#REF!"}},{"$f":"#REF!","v":{"$error":"#REF!"}},{"$f":"#REF!","v":{"$error":"#REF!"}},{"$f":"#REF!","v":{"$error":"#REF!"}},{"$f":"#REF!","v":{"$error":"#REF!"}},{"$f":"#REF!","v":{"$error":"#REF!"}},{"$f":"#REF!","v":{"$error":"#REF!"}},{"$f":"#REF!","v":{"$error":"#REF!"}},{"$f":"#REF!","v":{"$error":"#REF!"}},{"$f":"#REF!","v":{"$error":"#REF!"}},{"$f":"#REF!","v":{"$error":"#REF!"}},{"$f":"#REF!","v":{"$error":"#REF!"}},{"$f":"#REF!","v":{"$error":"#REF!"}},{"$f":"#REF!","v":{"$error":"#REF!"}},{"$f":"#REF!","v":{"$error":"#REF!"}},{"$f":"#REF!","v":{"$error":"#REF!"}},{"$f":"#REF!","v":{"$error":"#REF!"}},{"$f":"#REF!","v":{"$error":"#REF!"}},{"$f":"#REF!","v":{"$error":"#REF!"}},{"$f":"#REF!","v":{"$error":"#REF!"}},{"$f":"#REF!","v":{"$error":"#REF!"}},{"$f":"#REF!","v":{"$error":"#REF!"}},{"$f":"IF(#REF!=\"\",\"\",#REF!)","v":{"$error":"#REF!"}},{"$error":"#REF!"},{"$f":"IF(#REF!=\"\",\"\",#REF!)","v":{"$error":"#REF!"}},{"$f":"IF(#REF!=\"\",\"\",#REF!)","v":{"$error":"#REF!"}},{"$f":"IF(#REF!=\"\",\"\",#REF!)","v":{"$error":"#REF!"}},{"$f":"IF(#REF!=\"\",\"\",#REF!)","v":{"$error":"#REF!"}},{"$f":"IF(#REF!=\"\",\"\",#REF!)","v":{"$error":"#REF!"}},{"$f":"#REF!","v":{"$error":"#REF!"}},{"$f":"IF(#REF!=\"\",\"\",#REF!)","v":{"$error":"#REF!"}},{"$f":"#REF!","v":{"$error":"#REF!"}},{"$f":"IF(#REF!=\"\",\"\",#REF!)","v":{"$error":"#REF!"}},{"$f":"IF(#REF!=\"\",\"\",#REF!)","v":{"$error":"#REF!"}},{"$f":"#REF!","v":{"$error":"#REF!"}},{"$f":"#REF!","v":{"$error":"#REF!"}},{"$f":"IF(#REF!=\"\",\"\",#REF!)","v":{"$error":"#REF!"}},{"$f":"#REF!","v":{"$error":"#REF!"}},{"$f":"#REF!","v":{"$error":"#REF!"}},{"$f":"#REF!","v":{"$error":"#REF!"}},{"$f":"#REF!","v":{"$error":"#REF!"}},{"$f":"#REF!","v":{"$error":"#REF!"}},{"$f":"#REF!","v":{"$error":"#REF!"}},{"$f":"#REF!","v":{"$error":"#REF!"}},{"$f":"#REF!","v":{"$error":"#REF!"}},{"$f":"#REF!","v":{"$error":"#REF!"}},{"$f":"#REF!","v":{"$error":"#REF!"}},{"$f":"#REF!","v":{"$error":"#REF!"}},{"$f":"#REF!","v":{"$error":"#REF!"}},{"$f":"#REF!","v":{"$error":"#REF!"}},{"$f":"#REF!","v":{"$error":"#REF!"}},{"$f":"#REF!","v":{"$error":"#REF!"}},null,null,null,null,null,null,null,null,null,null,null,null,null,null,null,null,null,null,null,null,null,null,{"$f":"IF(#REF!=\"\",\"\",#REF!)","v":{"$error":"#REF!"}},{"$f":"IF(#REF!=\"\",\"\",#REF!)","v":{"$error":"#REF!"}},{"$f":"IF(#REF!=\"\",\"\",#REF!)","v":{"$error":"#REF!"}},null,{"$f":"IF(#REF!=\"\",\"\",#REF!)","v":{"$error":"#REF!"}},{"$f":"IF(#REF!=\"\",\"\",#REF!)","v":{"$error":"#REF!"}},{"$f":"IF(#REF!=\"\",\"\",#REF!)","v":{"$error":"#REF!"}},{"$f":"IF(#REF!=\"\",\"\",#REF!)","v":{"$error":"#REF!"}},null,{"$f":"IF(#REF!=\"\",\"\",#REF!)","v":{"$error":"#REF!"}},{"$f":"IF(#REF!=\"\",\"\",#REF!)","v":{"$error":"#REF!"}},{"$f":"IF(#REF!=\"\",\"\",#REF!)","v":{"$error":"#REF!"}},{"$f":"IF(#REF!=\"\",\"\",#REF!)","v":{"$error":"#REF!"}},null,{"$f":"IF(#REF!=\"\",\"\",#REF!)","v":{"$error":"#REF!"}},null,null,null,null,null,null,null,"",{"$f":"IF(#REF!=\"\",\"\",#REF!)","v":{"$error":"#REF!"}}]
[null,{"$error":"#REF!"},{"$f":"IF(#REF!=\"\",\"\",VLOOKUP(D30,code!$A$1:$B$47,2,FALSE))","v":{"$error":"#REF!"}},{"$f":"IF(#REF!=\"\",\"\",#REF!)","v":{"$error":"#REF!"}},{"$f":"IF(#REF!=\"\",\"\",VLOOKUP((D30&F30),code!$E$1:$F$1741,2,FALSE))","v":{"$error":"#REF!"}},{"$f":"IF(#REF!=\"\",\"\",#REF!)","v":{"$error":"#REF!"}},{"$f":"IF(#REF!=\"\",\"\",#REF!)","v":{"$error":"#REF!"}},{"$f":"IF(#REF!=\"\",\"\",#REF!)","v":{"$error":"#REF!"}},{"$f":"IF(#REF!=\"\",\"\",#REF!)","v":{"$error":"#REF!"}},{"$f":"IF(#REF!=\"\",\"\",#REF!)","v":{"$error":"#REF!"}},{"$f":"IF(#REF!=\"\",\"\",#REF!)","v":{"$error":"#REF!"}},{"$f":"IF(#REF!=\"\",\"\",#REF!)","v":{"$error":"#REF!"}},{"$f":"IF(#REF!=\"\",\"\",#REF!)","v":{"$error":"#REF!"}},{"$f":"IF(#REF!=\"\",\"\",#REF!)","v":{"$error":"#REF!"}},{"$f":"IF(#REF!=\"\",\"\",#REF!)","v":{"$error":"#REF!"}},{"$f":"IF(#REF!=\"\",\"\",#REF!)","v":{"$error":"#REF!"}},{"$f":"IF(#REF!=\"\",\"\",#REF!)","v":{"$error":"#REF!"}},{"$f":"IF(#REF!=\"\",\"\",#REF!)","v":{"$error":"#REF!"}},{"$f":"IF(#REF!=\"\",\"\",#REF!)","v":{"$error":"#REF!"}},{"$f":"IF(#REF!=\"\",\"\",#REF!)","v":{"$error":"#REF!"}},{"$f":"IF(#REF!=\"\",\"\",#REF!)","v":{"$error":"#REF!"}},{"$f":"IF(#REF!=\"\",\"\",#REF!)","v":{"$error":"#REF!"}},{"$f":"IF(#REF!=\"\",\"\",#REF!)","v":{"$error":"#REF!"}},{"$f":"IF(#REF!=\"\",\"\",#REF!)","v":{"$error":"#REF!"}},{"$f":"IF(#REF!=\"\",\"\",#REF!)","v":{"$error":"#REF!"}},{"$f":"IF(#REF!=\"\",\"\",#REF!)","v":{"$error":"#REF!"}},{"$f":"IF(#REF!=\"\",\"\",#REF!)","v":{"$error":"#REF!"}},{"$f":"IF(#REF!=\"\",\"\",#REF!)","v":{"$error":"#REF!"}},{"$f":"IF(#REF!=\"\",\"\",#REF!)","v":{"$error":"#REF!"}},{"$f":"IF(#REF!=\"\",\"\",#REF!)","v":{"$error":"#REF!"}},{"$error":"#REF!"},{"$f":"IF(#REF!=\"\",\"\",#REF!)","v":{"$error":"#REF!"}},{"$f":"IF(#REF!=\"\",\"\",#REF!)","v":{"$error":"#REF!"}},{"$f":"IF(#REF!=\"\",\"\",#REF!)","v":{"$error":"#REF!"}},{"$f":"IF(#REF!=\"\",\"\",#REF!)","v":{"$error":"#REF!"}},{"$f":"IF(#REF!=\"\",\"\",#REF!)","v":{"$error":"#REF!"}},{"$f":"#REF!","v":{"$error":"#REF!"}},{"$f":"#REF!","v":{"$error":"#REF!"}},{"$f":"#REF!","v":{"$error":"#REF!"}},{"$f":"#REF!","v":{"$error":"#REF!"}},{"$error":"#REF!"},{"$f":"#REF!","v":{"$error":"#REF!"}},{"$f":"#REF!","v":{"$error":"#REF!"}},{"$f":"#REF!","v":{"$error":"#REF!"}},{"$f":"#REF!","v":{"$error":"#REF!"}},{"$f":"#REF!","v":{"$error":"#REF!"}},{"$error":"#REF!"},{"$f":"#REF!","v":{"$error":"#REF!"}},{"$f":"#REF!","v":{"$error":"#REF!"}},{"$f":"#REF!","v":{"$error":"#REF!"}},{"$f":"#REF!","v":{"$error":"#REF!"}},{"$f":"#REF!","v":{"$error":"#REF!"}},{"$f":"#REF!","v":{"$error":"#REF!"}},{"$f":"#REF!","v":{"$error":"#REF!"}},{"$f":"#REF!","v":{"$error":"#REF!"}},{"$f":"#REF!","v":{"$error":"#REF!"}},{"$f":"#REF!","v":{"$error":"#REF!"}},{"$f":"#REF!","v":{"$error":"#REF!"}},{"$f":"#REF!","v":{"$error":"#REF!"}},{"$f":"#REF!","v":{"$error":"#REF!"}},{"$f":"#REF!","v":{"$error":"#REF!"}},{"$f":"#REF!","v":{"$error":"#REF!"}},{"$f":"#REF!","v":{"$error":"#REF!"}},{"$f":"#REF!","v":{"$error":"#REF!"}},{"$f":"#REF!","v":{"$error":"#REF!"}},{"$f":"#REF!","v":{"$error":"#REF!"}},{"$f":"#REF!","v":{"$error":"#REF!"}},{"$f":"#REF!","v":{"$error":"#REF!"}},{"$f":"#REF!","v":{"$error":"#REF!"}},{"$f":"#REF!","v":{"$error":"#REF!"}},{"$f":"#REF!","v":{"$error":"#REF!"}},{"$f":"#REF!","v":{"$error":"#REF!"}},{"$f":"#REF!","v":{"$error":"#REF!"}},{"$f":"IF(#REF!=\"\",\"\",#REF!)","v":{"$error":"#REF!"}},{"$error":"#REF!"},{"$f":"IF(#REF!=\"\",\"\",#REF!)","v":{"$error":"#REF!"}},{"$f":"IF(#REF!=\"\",\"\",#REF!)","v":{"$error":"#REF!"}},{"$f":"IF(#REF!=\"\",\"\",#REF!)","v":{"$error":"#REF!"}},{"$f":"IF(#REF!=\"\",\"\",#REF!)","v":{"$error":"#REF!"}},{"$f":"IF(#REF!=\"\",\"\",#REF!)","v":{"$error":"#REF!"}},{"$f":"#REF!","v":{"$error":"#REF!"}},{"$f":"IF(#REF!=\"\",\"\",#REF!)","v":{"$error":"#REF!"}},{"$f":"#REF!","v":{"$error":"#REF!"}},{"$f":"IF(#REF!=\"\",\"\",#REF!)","v":{"$error":"#REF!"}},{"$f":"IF(#REF!=\"\",\"\",#REF!)","v":{"$error":"#REF!"}},{"$f":"#REF!","v":{"$error":"#REF!"}},{"$f":"#REF!","v":{"$error":"#REF!"}},{"$f":"IF(#REF!=\"\",\"\",#REF!)","v":{"$error":"#REF!"}},{"$f":"#REF!","v":{"$error":"#REF!"}},{"$f":"#REF!","v":{"$error":"#REF!"}},{"$f":"#REF!","v":{"$error":"#REF!"}},{"$f":"#REF!","v":{"$error":"#REF!"}},{"$f":"#REF!","v":{"$error":"#REF!"}},{"$f":"#REF!","v":{"$error":"#REF!"}},{"$f":"#REF!","v":{"$error":"#REF!"}},{"$f":"#REF!","v":{"$error":"#REF!"}},{"$f":"#REF!","v":{"$error":"#REF!"}},{"$f":"#REF!","v":{"$error":"#REF!"}},{"$f":"#REF!","v":{"$error":"#REF!"}},{"$f":"#REF!","v":{"$error":"#REF!"}},{"$f":"#REF!","v":{"$error":"#REF!"}},{"$f":"#REF!","v":{"$error":"#REF!"}},{"$f":"#REF!","v":{"$error":"#REF!"}},null,null,null,null,null,null,null,null,null,null,null,null,null,null,null,null,null,null,null,null,null,null,{"$f":"IF(#REF!=\"\",\"\",#REF!)","v":{"$error":"#REF!"}},{"$f":"IF(#REF!=\"\",\"\",#REF!)","v":{"$error":"#REF!"}},{"$f":"IF(#REF!=\"\",\"\",#REF!)","v":{"$error":"#REF!"}},null,{"$f":"IF(#REF!=\"\",\"\",#REF!)","v":{"$error":"#REF!"}},{"$f":"IF(#REF!=\"\",\"\",#REF!)","v":{"$error":"#REF!"}},{"$f":"IF(#REF!=\"\",\"\",#REF!)","v":{"$error":"#REF!"}},{"$f":"IF(#REF!=\"\",\"\",#REF!)","v":{"$error":"#REF!"}},null,{"$f":"IF(#REF!=\"\",\"\",#REF!)","v":{"$error":"#REF!"}},{"$f":"IF(#REF!=\"\",\"\",#REF!)","v":{"$error":"#REF!"}},{"$f":"IF(#REF!=\"\",\"\",#REF!)","v":{"$error":"#REF!"}},{"$f":"IF(#REF!=\"\",\"\",#REF!)","v":{"$error":"#REF!"}},null,{"$f":"IF(#REF!=\"\",\"\",#REF!)","v":{"$error":"#REF!"}},null,null,null,null,null,null,null,"",{"$f":"IF(#REF!=\"\",\"\",#REF!)","v":{"$error":"#REF!"}}]
[null,{"$error":"#REF!"},{"$f":"IF(#REF!=\"\",\"\",VLOOKUP(D31,code!$A$1:$B$47,2,FALSE))","v":{"$error":"#REF!"}},{"$f":"IF(#REF!=\"\",\"\",#REF!)","v":{"$error":"#REF!"}},{"$f":"IF(#REF!=\"\",\"\",VLOOKUP((D31&F31),code!$E$1:$F$1741,2,FALSE))","v":{"$error":"#REF!"}},{"$f":"IF(#REF!=\"\",\"\",#REF!)","v":{"$error":"#REF!"}},{"$f":"IF(#REF!=\"\",\"\",#REF!)","v":{"$error":"#REF!"}},{"$f":"IF(#REF!=\"\",\"\",#REF!)","v":{"$error":"#REF!"}},{"$f":"IF(#REF!=\"\",\"\",#REF!)","v":{"$error":"#REF!"}},{"$f":"IF(#REF!=\"\",\"\",#REF!)","v":{"$error":"#REF!"}},{"$f":"IF(#REF!=\"\",\"\",#REF!)","v":{"$error":"#REF!"}},{"$f":"IF(#REF!=\"\",\"\",#REF!)","v":{"$error":"#REF!"}},{"$f":"IF(#REF!=\"\",\"\",#REF!)","v":{"$error":"#REF!"}},{"$f":"IF(#REF!=\"\",\"\",#REF!)","v":{"$error":"#REF!"}},{"$f":"IF(#REF!=\"\",\"\",#REF!)","v":{"$error":"#REF!"}},{"$f":"IF(#REF!=\"\",\"\",#REF!)","v":{"$error":"#REF!"}},{"$f":"IF(#REF!=\"\",\"\",#REF!)","v":{"$error":"#REF!"}},{"$f":"IF(#REF!=\"\",\"\",#REF!)","v":{"$error":"#REF!"}},{"$f":"IF(#REF!=\"\",\"\",#REF!)","v":{"$error":"#REF!"}},{"$f":"IF(#REF!=\"\",\"\",#REF!)","v":{"$error":"#REF!"}},{"$f":"IF(#REF!=\"\",\"\",#REF!)","v":{"$error":"#REF!"}},{"$f":"IF(#REF!=\"\",\"\",#REF!)","v":{"$error":"#REF!"}},{"$f":"IF(#REF!=\"\",\"\",#REF!)","v":{"$error":"#REF!"}},{"$f":"IF(#REF!=\"\",\"\",#REF!)","v":{"$error":"#REF!"}},{"$f":"IF(#REF!=\"\",\"\",#REF!)","v":{"$error":"#REF!"}},{"$f":"IF(#REF!=\"\",\"\",#REF!)","v":{"$error":"#REF!"}},{"$f":"IF(#REF!=\"\",\"\",#REF!)","v":{"$error":"#REF!"}},{"$f":"IF(#REF!=\"\",\"\",#REF!)","v":{"$error":"#REF!"}},{"$f":"IF(#REF!=\"\",\"\",#REF!)","v":{"$error":"#REF!"}},{"$f":"IF(#REF!=\"\",\"\",#REF!)","v":{"$error":"#REF!"}},{"$error":"#REF!"},{"$f":"IF(#REF!=\"\",\"\",#REF!)","v":{"$error":"#REF!"}},{"$f":"IF(#REF!=\"\",\"\",#REF!)","v":{"$error":"#REF!"}},{"$f":"IF(#REF!=\"\",\"\",#REF!)","v":{"$error":"#REF!"}},{"$f":"IF(#REF!=\"\",\"\",#REF!)","v":{"$error":"#REF!"}},{"$f":"IF(#REF!=\"\",\"\",#REF!)","v":{"$error":"#REF!"}},{"$f":"#REF!","v":{"$error":"#REF!"}},{"$f":"#REF!","v":{"$error":"#REF!"}},{"$f":"#REF!","v":{"$error":"#REF!"}},{"$f":"#REF!","v":{"$error":"#REF!"}},{"$error":"#REF!"},{"$f":"#REF!","v":{"$error":"#REF!"}},{"$f":"#REF!","v":{"$error":"#REF!"}},{"$f":"#REF!","v":{"$error":"#REF!"}},{"$f":"#REF!","v":{"$error":"#REF!"}},{"$f":"#REF!","v":{"$error":"#REF!"}},{"$error":"#REF!"},{"$f":"#REF!","v":{"$error":"#REF!"}},{"$f":"#REF!","v":{"$error":"#REF!"}},{"$f":"#REF!","v":{"$error":"#REF!"}},{"$f":"#REF!","v":{"$error":"#REF!"}},{"$f":"#REF!","v":{"$error":"#REF!"}},{"$f":"#REF!","v":{"$error":"#REF!"}},{"$f":"#REF!","v":{"$error":"#REF!"}},{"$f":"#REF!","v":{"$error":"#REF!"}},{"$f":"#REF!","v":{"$error":"#REF!"}},{"$f":"#REF!","v":{"$error":"#REF!"}},{"$f":"#REF!","v":{"$error":"#REF!"}},{"$f":"#REF!","v":{"$error":"#REF!"}},{"$f":"#REF!","v":{"$error":"#REF!"}},{"$f":"#REF!","v":{"$error":"#REF!"}},{"$f":"#REF!","v":{"$error":"#REF!"}},{"$f":"#REF!","v":{"$error":"#REF!"}},{"$f":"#REF!","v":{"$error":"#REF!"}},{"$f":"#REF!","v":{"$error":"#REF!"}},{"$f":"#REF!","v":{"$error":"#REF!"}},{"$f":"#REF!","v":{"$error":"#REF!"}},{"$f":"#REF!","v":{"$error":"#REF!"}},{"$f":"#REF!","v":{"$error":"#REF!"}},{"$f":"#REF!","v":{"$error":"#REF!"}},{"$f":"#REF!","v":{"$error":"#REF!"}},{"$f":"#REF!","v":{"$error":"#REF!"}},{"$f":"#REF!","v":{"$error":"#REF!"}},{"$f":"IF(#REF!=\"\",\"\",#REF!)","v":{"$error":"#REF!"}},{"$error":"#REF!"},{"$f":"IF(#REF!=\"\",\"\",#REF!)","v":{"$error":"#REF!"}},{"$f":"IF(#REF!=\"\",\"\",#REF!)","v":{"$error":"#REF!"}},{"$f":"IF(#REF!=\"\",\"\",#REF!)","v":{"$error":"#REF!"}},{"$f":"IF(#REF!=\"\",\"\",#REF!)","v":{"$error":"#REF!"}},{"$f":"IF(#REF!=\"\",\"\",#REF!)","v":{"$error":"#REF!"}},{"$f":"#REF!","v":{"$error":"#REF!"}},{"$f":"IF(#REF!=\"\",\"\",#REF!)","v":{"$error":"#REF!"}},{"$f":"#REF!","v":{"$error":"#REF!"}},{"$f":"IF(#REF!=\"\",\"\",#REF!)","v":{"$error":"#REF!"}},{"$f":"IF(#REF!=\"\",\"\",#REF!)","v":{"$error":"#REF!"}},{"$f":"#REF!","v":{"$error":"#REF!"}},{"$f":"#REF!","v":{"$error":"#REF!"}},{"$f":"IF(#REF!=\"\",\"\",#REF!)","v":{"$error":"#REF!"}},{"$f":"#REF!","v":{"$error":"#REF!"}},{"$f":"#REF!","v":{"$error":"#REF!"}},{"$f":"#REF!","v":{"$error":"#REF!"}},{"$f":"#REF!","v":{"$error":"#REF!"}},{"$f":"#REF!","v":{"$error":"#REF!"}},{"$f":"#REF!","v":{"$error":"#REF!"}},{"$f":"#REF!","v":{"$error":"#REF!"}},{"$f":"#REF!","v":{"$error":"#REF!"}},{"$f":"#REF!","v":{"$error":"#REF!"}},{"$f":"#REF!","v":{"$error":"#REF!"}},{"$f":"#REF!","v":{"$error":"#REF!"}},{"$f":"#REF!","v":{"$error":"#REF!"}},{"$f":"#REF!","v":{"$error":"#REF!"}},{"$f":"#REF!","v":{"$error":"#REF!"}},{"$f":"#REF!","v":{"$error":"#REF!"}},null,null,null,null,null,null,null,null,null,null,null,null,null,null,null,null,null,null,null,null,null,null,{"$f":"IF(#REF!=\"\",\"\",#REF!)","v":{"$error":"#REF!"}},{"$f":"IF(#REF!=\"\",\"\",#REF!)","v":{"$error":"#REF!"}},{"$f":"IF(#REF!=\"\",\"\",#REF!)","v":{"$error":"#REF!"}},null,{"$f":"IF(#REF!=\"\",\"\",#REF!)","v":{"$error":"#REF!"}},{"$f":"IF(#REF!=\"\",\"\",#REF!)","v":{"$error":"#REF!"}},{"$f":"IF(#REF!=\"\",\"\",#REF!)","v":{"$error":"#REF!"}},{"$f":"IF(#REF!=\"\",\"\",#REF!)","v":{"$error":"#REF!"}},null,{"$f":"IF(#REF!=\"\",\"\",#REF!)","v":{"$error":"#REF!"}},{"$f":"IF(#REF!=\"\",\"\",#REF!)","v":{"$error":"#REF!"}},{"$f":"IF(#REF!=\"\",\"\",#REF!)","v":{"$error":"#REF!"}},{"$f":"IF(#REF!=\"\",\"\",#REF!)","v":{"$error":"#REF!"}},null,{"$f":"IF(#REF!=\"\",\"\",#REF!)","v":{"$error":"#REF!"}},null,null,null,null,null,null,null,"",{"$f":"IF(#REF!=\"\",\"\",#REF!)","v":{"$error":"#REF!"}}]
[null,{"$error":"#REF!"},{"$f":"IF(#REF!=\"\",\"\",VLOOKUP(D32,code!$A$1:$B$47,2,FALSE))","v":{"$error":"#REF!"}},{"$f":"IF(#REF!=\"\",\"\",#REF!)","v":{"$error":"#REF!"}},{"$f":"IF(#REF!=\"\",\"\",VLOOKUP((D32&F32),code!$E$1:$F$1741,2,FALSE))","v":{"$error":"#REF!"}},{"$f":"IF(#REF!=\"\",\"\",#REF!)","v":{"$error":"#REF!"}},{"$f":"IF(#REF!=\"\",\"\",#REF!)","v":{"$error":"#REF!"}},{"$f":"IF(#REF!=\"\",\"\",#REF!)","v":{"$error":"#REF!"}},{"$f":"IF(#REF!=\"\",\"\",#REF!)","v":{"$error":"#REF!"}},{"$f":"IF(#REF!=\"\",\"\",#REF!)","v":{"$error":"#REF!"}},{"$f":"IF(#REF!=\"\",\"\",#REF!)","v":{"$error":"#REF!"}},{"$f":"IF(#REF!=\"\",\"\",#REF!)","v":{"$error":"#REF!"}},{"$f":"IF(#REF!=\"\",\"\",#REF!)","v":{"$error":"#REF!"}},{"$f":"IF(#REF!=\"\",\"\",#REF!)","v":{"$error":"#REF!"}},{"$f":"IF(#REF!=\"\",\"\",#REF!)","v":{"$error":"#REF!"}},{"$f":"IF(#REF!=\"\",\"\",#REF!)","v":{"$error":"#REF!"}},{"$f":"IF(#REF!=\"\",\"\",#REF!)","v":{"$error":"#REF!"}},{"$f":"IF(#REF!=\"\",\"\",#REF!)","v":{"$error":"#REF!"}},{"$f":"IF(#REF!=\"\",\"\",#REF!)","v":{"$error":"#REF!"}},{"$f":"IF(#REF!=\"\",\"\",#REF!)","v":{"$error":"#REF!"}},{"$f":"IF(#REF!=\"\",\"\",#REF!)","v":{"$error":"#REF!"}},{"$f":"IF(#REF!=\"\",\"\",#REF!)","v":{"$error":"#REF!"}},{"$f":"IF(#REF!=\"\",\"\",#REF!)","v":{"$error":"#REF!"}},{"$f":"IF(#REF!=\"\",\"\",#REF!)","v":{"$error":"#REF!"}},{"$f":"IF(#REF!=\"\",\"\",#REF!)","v":{"$error":"#REF!"}},{"$f":"IF(#REF!=\"\",\"\",#REF!)","v":{"$error":"#REF!"}},{"$f":"IF(#REF!=\"\",\"\",#REF!)","v":{"$error":"#REF!"}},{"$f":"IF(#REF!=\"\",\"\",#REF!)","v":{"$error":"#REF!"}},{"$f":"IF(#REF!=\"\",\"\",#REF!)","v":{"$error":"#REF!"}},{"$f":"IF(#REF!=\"\",\"\",#REF!)","v":{"$error":"#REF!"}},{"$error":"#REF!"},{"$f":"IF(#REF!=\"\",\"\",#REF!)","v":{"$error":"#REF!"}},{"$f":"IF(#REF!=\"\",\"\",#REF!)","v":{"$error":"#REF!"}},{"$f":"IF(#REF!=\"\",\"\",#REF!)","v":{"$error":"#REF!"}},{"$f":"IF(#REF!=\"\",\"\",#REF!)","v":{"$error":"#REF!"}},{"$f":"IF(#REF!=\"\",\"\",#REF!)","v":{"$error":"#REF!"}},{"$f":"#REF!","v":{"$error":"#REF!"}},{"$f":"#REF!","v":{"$error":"#REF!"}},{"$f":"#REF!","v":{"$error":"#REF!"}},{"$f":"#REF!","v":{"$error":"#REF!"}},{"$error":"#REF!"},{"$f":"#REF!","v":{"$error":"#REF!"}},{"$f":"#REF!","v":{"$error":"#REF!"}},{"$f":"#REF!","v":{"$error":"#REF!"}},{"$f":"#REF!","v":{"$error":"#REF!"}},{"$f":"#REF!","v":{"$error":"#REF!"}},{"$error":"#REF!"},{"$f":"#REF!","v":{"$error":"#REF!"}},{"$f":"#REF!","v":{"$error":"#REF!"}},{"$f":"#REF!","v":{"$error":"#REF!"}},{"$f":"#REF!","v":{"$error":"#REF!"}},{"$f":"#REF!","v":{"$error":"#REF!"}},{"$f":"#REF!","v":{"$error":"#REF!"}},{"$f":"#REF!","v":{"$error":"#REF!"}},{"$f":"#REF!","v":{"$error":"#REF!"}},{"$f":"#REF!","v":{"$error":"#REF!"}},{"$f":"#REF!","v":{"$error":"#REF!"}},{"$f":"#REF!","v":{"$error":"#REF!"}},{"$f":"#REF!","v":{"$error":"#REF!"}},{"$f":"#REF!","v":{"$error":"#REF!"}},{"$f":"#REF!","v":{"$error":"#REF!"}},{"$f":"#REF!","v":{"$error":"#REF!"}},{"$f":"#REF!","v":{"$error":"#REF!"}},{"$f":"#REF!","v":{"$error":"#REF!"}},{"$f":"#REF!","v":{"$error":"#REF!"}},{"$f":"#REF!","v":{"$error":"#REF!"}},{"$f":"#REF!","v":{"$error":"#REF!"}},{"$f":"#REF!","v":{"$error":"#REF!"}},{"$f":"#REF!","v":{"$error":"#REF!"}},{"$f":"#REF!","v":{"$error":"#REF!"}},{"$f":"#REF!","v":{"$error":"#REF!"}},{"$f":"#REF!","v":{"$error":"#REF!"}},{"$f":"#REF!","v":{"$error":"#REF!"}},{"$f":"IF(#REF!=\"\",\"\",#REF!)","v":{"$error":"#REF!"}},{"$error":"#REF!"},{"$f":"IF(#REF!=\"\",\"\",#REF!)","v":{"$error":"#REF!"}},{"$f":"IF(#REF!=\"\",\"\",#REF!)","v":{"$error":"#REF!"}},{"$f":"IF(#REF!=\"\",\"\",#REF!)","v":{"$error":"#REF!"}},{"$f":"IF(#REF!=\"\",\"\",#REF!)","v":{"$error":"#REF!"}},{"$f":"IF(#REF!=\"\",\"\",#REF!)","v":{"$error":"#REF!"}},{"$f":"#REF!","v":{"$error":"#REF!"}},{"$f":"IF(#REF!=\"\",\"\",#REF!)","v":{"$error":"#REF!"}},{"$f":"#REF!","v":{"$error":"#REF!"}},{"$f":"IF(#REF!=\"\",\"\",#REF!)","v":{"$error":"#REF!"}},{"$f":"IF(#REF!=\"\",\"\",#REF!)","v":{"$error":"#REF!"}},{"$f":"#REF!","v":{"$error":"#REF!"}},{"$f":"#REF!","v":{"$error":"#REF!"}},{"$f":"IF(#REF!=\"\",\"\",#REF!)","v":{"$error":"#REF!"}},{"$f":"#REF!","v":{"$error":"#REF!"}},{"$f":"#REF!","v":{"$error":"#REF!"}},{"$f":"#REF!","v":{"$error":"#REF!"}},{"$f":"#REF!","v":{"$error":"#REF!"}},{"$f":"#REF!","v":{"$error":"#REF!"}},{"$f":"#REF!","v":{"$error":"#REF!"}},{"$f":"#REF!","v":{"$error":"#REF!"}},{"$f":"#REF!","v":{"$error":"#REF!"}},{"$f":"#REF!","v":{"$error":"#REF!"}},{"$f":"#REF!","v":{"$error":"#REF!"}},{"$f":"#REF!","v":{"$error":"#REF!"}},{"$f":"#REF!","v":{"$error":"#REF!"}},{"$f":"#REF!","v":{"$error":"#REF!"}},{"$f":"#REF!","v":{"$error":"#REF!"}},{"$f":"#REF!","v":{"$error":"#REF!"}},null,null,null,null,null,null,null,null,null,null,null,null,null,null,null,null,null,null,null,null,null,null,{"$f":"IF(#REF!=\"\",\"\",#REF!)","v":{"$error":"#REF!"}},{"$f":"IF(#REF!=\"\",\"\",#REF!)","v":{"$error":"#REF!"}},{"$f":"IF(#REF!=\"\",\"\",#REF!)","v":{"$error":"#REF!"}},null,{"$f":"IF(#REF!=\"\",\"\",#REF!)","v":{"$error":"#REF!"}},{"$f":"IF(#REF!=\"\",\"\",#REF!)","v":{"$error":"#REF!"}},{"$f":"IF(#REF!=\"\",\"\",#REF!)","v":{"$error":"#REF!"}},{"$f":"IF(#REF!=\"\",\"\",#REF!)","v":{"$error":"#REF!"}},null,{"$f":"IF(#REF!=\"\",\"\",#REF!)","v":{"$error":"#REF!"}},{"$f":"IF(#REF!=\"\",\"\",#REF!)","v":{"$error":"#REF!"}},{"$f":"IF(#REF!=\"\",\"\",#REF!)","v":{"$error":"#REF!"}},{"$f":"IF(#REF!=\"\",\"\",#REF!)","v":{"$error":"#REF!"}},null,{"$f":"IF(#REF!=\"\",\"\",#REF!)","v":{"$error":"#REF!"}},null,null,null,null,null,null,null,"",{"$f":"IF(#REF!=\"\",\"\",#REF!)","v":{"$error":"#REF!"}}]
[null,{"$error":"#REF!"},{"$f":"IF(#REF!=\"\",\"\",VLOOKUP(D33,code!$A$1:$B$47,2,FALSE))","v":{"$error":"#REF!"}},{"$f":"IF(#REF!=\"\",\"\",#REF!)","v":{"$error":"#REF!"}},{"$f":"IF(#REF!=\"\",\"\",VLOOKUP((D33&F33),code!$E$1:$F$1741,2,FALSE))","v":{"$error":"#REF!"}},{"$f":"IF(#REF!=\"\",\"\",#REF!)","v":{"$error":"#REF!"}},{"$f":"IF(#REF!=\"\",\"\",#REF!)","v":{"$error":"#REF!"}},{"$f":"IF(#REF!=\"\",\"\",#REF!)","v":{"$error":"#REF!"}},{"$f":"IF(#REF!=\"\",\"\",#REF!)","v":{"$error":"#REF!"}},{"$f":"IF(#REF!=\"\",\"\",#REF!)","v":{"$error":"#REF!"}},{"$f":"IF(#REF!=\"\",\"\",#REF!)","v":{"$error":"#REF!"}},{"$f":"IF(#REF!=\"\",\"\",#REF!)","v":{"$error":"#REF!"}},{"$f":"IF(#REF!=\"\",\"\",#REF!)","v":{"$error":"#REF!"}},{"$f":"IF(#REF!=\"\",\"\",#REF!)","v":{"$error":"#REF!"}},{"$f":"IF(#REF!=\"\",\"\",#REF!)","v":{"$error":"#REF!"}},{"$f":"IF(#REF!=\"\",\"\",#REF!)","v":{"$error":"#REF!"}},{"$f":"IF(#REF!=\"\",\"\",#REF!)","v":{"$error":"#REF!"}},{"$f":"IF(#REF!=\"\",\"\",#REF!)","v":{"$error":"#REF!"}},{"$f":"IF(#REF!=\"\",\"\",#REF!)","v":{"$error":"#REF!"}},{"$f":"IF(#REF!=\"\",\"\",#REF!)","v":{"$error":"#REF!"}},{"$f":"IF(#REF!=\"\",\"\",#REF!)","v":{"$error":"#REF!"}},{"$f":"IF(#REF!=\"\",\"\",#REF!)","v":{"$error":"#REF!"}},{"$f":"IF(#REF!=\"\",\"\",#REF!)","v":{"$error":"#REF!"}},{"$f":"IF(#REF!=\"\",\"\",#REF!)","v":{"$error":"#REF!"}},{"$f":"IF(#REF!=\"\",\"\",#REF!)","v":{"$error":"#REF!"}},{"$f":"IF(#REF!=\"\",\"\",#REF!)","v":{"$error":"#REF!"}},{"$f":"IF(#REF!=\"\",\"\",#REF!)","v":{"$error":"#REF!"}},{"$f":"IF(#REF!=\"\",\"\",#REF!)","v":{"$error":"#REF!"}},{"$f":"IF(#REF!=\"\",\"\",#REF!)","v":{"$error":"#REF!"}},{"$f":"IF(#REF!=\"\",\"\",#REF!)","v":{"$error":"#REF!"}},{"$error":"#REF!"},{"$f":"IF(#REF!=\"\",\"\",#REF!)","v":{"$error":"#REF!"}},{"$f":"IF(#REF!=\"\",\"\",#REF!)","v":{"$error":"#REF!"}},{"$f":"IF(#REF!=\"\",\"\",#REF!)","v":{"$error":"#REF!"}},{"$f":"IF(#REF!=\"\",\"\",#REF!)","v":{"$error":"#REF!"}},{"$f":"IF(#REF!=\"\",\"\",#REF!)","v":{"$error":"#REF!"}},{"$f":"#REF!","v":{"$error":"#REF!"}},{"$f":"#REF!","v":{"$error":"#REF!"}},{"$f":"#REF!","v":{"$error":"#REF!"}},{"$f":"#REF!","v":{"$error":"#REF!"}},{"$error":"#REF!"},{"$f":"#REF!","v":{"$error":"#REF!"}},{"$f":"#REF!","v":{"$error":"#REF!"}},{"$f":"#REF!","v":{"$error":"#REF!"}},{"$f":"#REF!","v":{"$error":"#REF!"}},{"$f":"#REF!","v":{"$error":"#REF!"}},{"$error":"#REF!"},{"$f":"#REF!","v":{"$error":"#REF!"}},{"$f":"#REF!","v":{"$error":"#REF!"}},{"$f":"#REF!","v":{"$error":"#REF!"}},{"$f":"#REF!","v":{"$error":"#REF!"}},{"$f":"#REF!","v":{"$error":"#REF!"}},{"$f":"#REF!","v":{"$error":"#REF!"}},{"$f":"#REF!","v":{"$error":"#REF!"}},{"$f":"#REF!","v":{"$error":"#REF!"}},{"$f":"#REF!","v":{"$error":"#REF!"}},{"$f":"#REF!","v":{"$error":"#REF!"}},{"$f":"#REF!","v":{"$error":"#REF!"}},{"$f":"#REF!","v":{"$error":"#REF!"}},{"$f":"#REF!","v":{"$error":"#REF!"}},{"$f":"#REF!","v":{"$error":"#REF!"}},{"$f":"#REF!","v":{"$error":"#REF!"}},{"$f":"#REF!","v":{"$error":"#REF!"}},{"$f":"#REF!","v":{"$error":"#REF!"}},{"$f":"#REF!","v":{"$error":"#REF!"}},{"$f":"#REF!","v":{"$error":"#REF!"}},{"$f":"#REF!","v":{"$error":"#REF!"}},{"$f":"#REF!","v":{"$error":"#REF!"}},{"$f":"#REF!","v":{"$error":"#REF!"}},{"$f":"#REF!","v":{"$error":"#REF!"}},{"$f":"#REF!","v":{"$error":"#REF!"}},{"$f":"#REF!","v":{"$error":"#REF!"}},{"$f":"#REF!","v":{"$error":"#REF!"}},{"$f":"IF(#REF!=\"\",\"\",#REF!)","v":{"$error":"#REF!"}},{"$error":"#REF!"},{"$f":"IF(#REF!=\"\",\"\",#REF!)","v":{"$error":"#REF!"}},{"$f":"IF(#REF!=\"\",\"\",#REF!)","v":{"$error":"#REF!"}},{"$f":"IF(#REF!=\"\",\"\",#REF!)","v":{"$error":"#REF!"}},{"$f":"IF(#REF!=\"\",\"\",#REF!)","v":{"$error":"#REF!"}},{"$f":"IF(#REF!=\"\",\"\",#REF!)","v":{"$error":"#REF!"}},{"$f":"#REF!","v":{"$error":"#REF!"}},{"$f":"IF(#REF!=\"\",\"\",#REF!)","v":{"$error":"#REF!"}},{"$f":"#REF!","v":{"$error":"#REF!"}},{"$f":"IF(#REF!=\"\",\"\",#REF!)","v":{"$error":"#REF!"}},{"$f":"IF(#REF!=\"\",\"\",#REF!)","v":{"$error":"#REF!"}},{"$f":"#REF!","v":{"$error":"#REF!"}},{"$f":"#REF!","v":{"$error":"#REF!"}},{"$f":"IF(#REF!=\"\",\"\",#REF!)","v":{"$error":"#REF!"}},{"$f":"#REF!","v":{"$error":"#REF!"}},{"$f":"#REF!","v":{"$error":"#REF!"}},{"$f":"#REF!","v":{"$error":"#REF!"}},{"$f":"#REF!","v":{"$error":"#REF!"}},{"$f":"#REF!","v":{"$error":"#REF!"}},{"$f":"#REF!","v":{"$error":"#REF!"}},{"$f":"#REF!","v":{"$error":"#REF!"}},{"$f":"#REF!","v":{"$error":"#REF!"}},{"$f":"#REF!","v":{"$error":"#REF!"}},{"$f":"#REF!","v":{"$error":"#REF!"}},{"$f":"#REF!","v":{"$error":"#REF!"}},{"$f":"#REF!","v":{"$error":"#REF!"}},{"$f":"#REF!","v":{"$error":"#REF!"}},{"$f":"#REF!","v":{"$error":"#REF!"}},{"$f":"#REF!","v":{"$error":"#REF!"}},null,null,null,null,null,null,null,null,null,null,null,null,null,null,null,null,null,null,null,null,null,null,{"$f":"IF(#REF!=\"\",\"\",#REF!)","v":{"$error":"#REF!"}},{"$f":"IF(#REF!=\"\",\"\",#REF!)","v":{"$error":"#REF!"}},{"$f":"IF(#REF!=\"\",\"\",#REF!)","v":{"$error":"#REF!"}},null,{"$f":"IF(#REF!=\"\",\"\",#REF!)","v":{"$error":"#REF!"}},{"$f":"IF(#REF!=\"\",\"\",#REF!)","v":{"$error":"#REF!"}},{"$f":"IF(#REF!=\"\",\"\",#REF!)","v":{"$error":"#REF!"}},{"$f":"IF(#REF!=\"\",\"\",#REF!)","v":{"$error":"#REF!"}},null,{"$f":"IF(#REF!=\"\",\"\",#REF!)","v":{"$error":"#REF!"}},{"$f":"IF(#REF!=\"\",\"\",#REF!)","v":{"$error":"#REF!"}},{"$f":"IF(#REF!=\"\",\"\",#REF!)","v":{"$error":"#REF!"}},{"$f":"IF(#REF!=\"\",\"\",#REF!)","v":{"$error":"#REF!"}},null,{"$f":"IF(#REF!=\"\",\"\",#REF!)","v":{"$error":"#REF!"}},null,null,null,null,null,null,null,"",{"$f":"IF(#REF!=\"\",\"\",#REF!)","v":{"$error":"#REF!"}}]
[null,{"$error":"#REF!"},{"$f":"IF(#REF!=\"\",\"\",VLOOKUP(D34,code!$A$1:$B$47,2,FALSE))","v":{"$error":"#REF!"}},{"$f":"IF(#REF!=\"\",\"\",#REF!)","v":{"$error":"#REF!"}},{"$f":"IF(#REF!=\"\",\"\",VLOOKUP((D34&F34),code!$E$1:$F$1741,2,FALSE))","v":{"$error":"#REF!"}},{"$f":"IF(#REF!=\"\",\"\",#REF!)","v":{"$error":"#REF!"}},{"$f":"IF(#REF!=\"\",\"\",#REF!)","v":{"$error":"#REF!"}},{"$f":"IF(#REF!=\"\",\"\",#REF!)","v":{"$error":"#REF!"}},{"$f":"IF(#REF!=\"\",\"\",#REF!)","v":{"$error":"#REF!"}},{"$f":"IF(#REF!=\"\",\"\",#REF!)","v":{"$error":"#REF!"}},{"$f":"IF(#REF!=\"\",\"\",#REF!)","v":{"$error":"#REF!"}},{"$f":"IF(#REF!=\"\",\"\",#REF!)","v":{"$error":"#REF!"}},{"$f":"IF(#REF!=\"\",\"\",#REF!)","v":{"$error":"#REF!"}},{"$f":"IF(#REF!=\"\",\"\",#REF!)","v":{"$error":"#REF!"}},{"$f":"IF(#REF!=\"\",\"\",#REF!)","v":{"$error":"#REF!"}},{"$f":"IF(#REF!=\"\",\"\",#REF!)","v":{"$error":"#REF!"}},{"$f":"IF(#REF!=\"\",\"\",#REF!)","v":{"$error":"#REF!"}},{"$f":"IF(#REF!=\"\",\"\",#REF!)","v":{"$error":"#REF!"}},{"$f":"IF(#REF!=\"\",\"\",#REF!)","v":{"$error":"#REF!"}},{"$f":"IF(#REF!=\"\",\"\",#REF!)","v":{"$error":"#REF!"}},{"$f":"IF(#REF!=\"\",\"\",#REF!)","v":{"$error":"#REF!"}},{"$f":"IF(#REF!=\"\",\"\",#REF!)","v":{"$error":"#REF!"}},{"$f":"IF(#REF!=\"\",\"\",#REF!)","v":{"$error":"#REF!"}},{"$f":"IF(#REF!=\"\",\"\",#REF!)","v":{"$error":"#REF!"}},{"$f":"IF(#REF!=\"\",\"\",#REF!)","v":{"$error":"#REF!"}},{"$f":"IF(#REF!=\"\",\"\",#REF!)","v":{"$error":"#REF!"}},{"$f":"IF(#REF!=\"\",\"\",#REF!)","v":{"$error":"#REF!"}},{"$f":"IF(#REF!=\"\",\"\",#REF!)","v":{"$error":"#REF!"}},{"$f":"IF(#REF!=\"\",\"\",#REF!)","v":{"$error":"#REF!"}},{"$f":"IF(#REF!=\"\",\"\",#REF!)","v":{"$error":"#REF!"}},{"$error":"#REF!"},{"$f":"IF(#REF!=\"\",\"\",#REF!)","v":{"$error":"#REF!"}},{"$f":"IF(#REF!=\"\",\"\",#REF!)","v":{"$error":"#REF!"}},{"$f":"IF(#REF!=\"\",\"\",#REF!)","v":{"$error":"#REF!"}},{"$f":"IF(#REF!=\"\",\"\",#REF!)","v":{"$error":"#REF!"}},{"$f":"IF(#REF!=\"\",\"\",#REF!)","v":{"$error":"#REF!"}},{"$f":"#REF!","v":{"$error":"#REF!"}},{"$f":"#REF!","v":{"$error":"#REF!"}},{"$f":"#REF!","v":{"$error":"#REF!"}},{"$f":"#REF!","v":{"$error":"#REF!"}},{"$error":"#REF!"},{"$f":"#REF!","v":{"$error":"#REF!"}},{"$f":"#REF!","v":{"$error":"#REF!"}},{"$f":"#REF!","v":{"$error":"#REF!"}},{"$f":"#REF!","v":{"$error":"#REF!"}},{"$f":"#REF!","v":{"$error":"#REF!"}},{"$error":"#REF!"},{"$f":"#REF!","v":{"$error":"#REF!"}},{"$f":"#REF!","v":{"$error":"#REF!"}},{"$f":"#REF!","v":{"$error":"#REF!"}},{"$f":"#REF!","v":{"$error":"#REF!"}},{"$f":"#REF!","v":{"$error":"#REF!"}},{"$f":"#REF!","v":{"$error":"#REF!"}},{"$f":"#REF!","v":{"$error":"#REF!"}},{"$f":"#REF!","v":{"$error":"#REF!"}},{"$f":"#REF!","v":{"$error":"#REF!"}},{"$f":"#REF!","v":{"$error":"#REF!"}},{"$f":"#REF!","v":{"$error":"#REF!"}},{"$f":"#REF!","v":{"$error":"#REF!"}},{"$f":"#REF!","v":{"$error":"#REF!"}},{"$f":"#REF!","v":{"$error":"#REF!"}},{"$f":"#REF!","v":{"$error":"#REF!"}},{"$f":"#REF!","v":{"$error":"#REF!"}},{"$f":"#REF!","v":{"$error":"#REF!"}},{"$f":"#REF!","v":{"$error":"#REF!"}},{"$f":"#REF!","v":{"$error":"#REF!"}},{"$f":"#REF!","v":{"$error":"#REF!"}},{"$f":"#REF!","v":{"$error":"#REF!"}},{"$f":"#REF!","v":{"$error":"#REF!"}},{"$f":"#REF!","v":{"$error":"#REF!"}},{"$f":"#REF!","v":{"$error":"#REF!"}},{"$f":"#REF!","v":{"$error":"#REF!"}},{"$f":"#REF!","v":{"$error":"#REF!"}},{"$f":"IF(#REF!=\"\",\"\",#REF!)","v":{"$error":"#REF!"}},{"$error":"#REF!"},{"$f":"IF(#REF!=\"\",\"\",#REF!)","v":{"$error":"#REF!"}},{"$f":"IF(#REF!=\"\",\"\",#REF!)","v":{"$error":"#REF!"}},{"$f":"IF(#REF!=\"\",\"\",#REF!)","v":{"$error":"#REF!"}},{"$f":"IF(#REF!=\"\",\"\",#REF!)","v":{"$error":"#REF!"}},{"$f":"IF(#REF!=\"\",\"\",#REF!)","v":{"$error":"#REF!"}},{"$f":"#REF!","v":{"$error":"#REF!"}},{"$f":"IF(#REF!=\"\",\"\",#REF!)","v":{"$error":"#REF!"}},{"$f":"#REF!","v":{"$error":"#REF!"}},{"$f":"IF(#REF!=\"\",\"\",#REF!)","v":{"$error":"#REF!"}},{"$f":"IF(#REF!=\"\",\"\",#REF!)","v":{"$error":"#REF!"}},{"$f":"#REF!","v":{"$error":"#REF!"}},{"$f":"#REF!","v":{"$error":"#REF!"}},{"$f":"IF(#REF!=\"\",\"\",#REF!)","v":{"$error":"#REF!"}},{"$f":"#REF!","v":{"$error":"#REF!"}},{"$f":"#REF!","v":{"$error":"#REF!"}},{"$f":"#REF!","v":{"$error":"#REF!"}},{"$f":"#REF!","v":{"$error":"#REF!"}},{"$f":"#REF!","v":{"$error":"#REF!"}},{"$f":"#REF!","v":{"$error":"#REF!"}},{"$f":"#REF!","v":{"$error":"#REF!"}},{"$f":"#REF!","v":{"$error":"#REF!"}},{"$f":"#REF!","v":{"$error":"#REF!"}},{"$f":"#REF!","v":{"$error":"#REF!"}},{"$f":"#REF!","v":{"$error":"#REF!"}},{"$f":"#REF!","v":{"$error":"#REF!"}},{"$f":"#REF!","v":{"$error":"#REF!"}},{"$f":"#REF!","v":{"$error":"#REF!"}},{"$f":"#REF!","v":{"$error":"#REF!"}},null,null,null,null,null,null,null,null,null,null,null,null,null,null,null,null,null,null,null,null,null,null,{"$f":"IF(#REF!=\"\",\"\",#REF!)","v":{"$error":"#REF!"}},{"$f":"IF(#REF!=\"\",\"\",#REF!)","v":{"$error":"#REF!"}},{"$f":"IF(#REF!=\"\",\"\",#REF!)","v":{"$error":"#REF!"}},null,{"$f":"IF(#REF!=\"\",\"\",#REF!)","v":{"$error":"#REF!"}},{"$f":"IF(#REF!=\"\",\"\",#REF!)","v":{"$error":"#REF!"}},{"$f":"IF(#REF!=\"\",\"\",#REF!)","v":{"$error":"#REF!"}},{"$f":"IF(#REF!=\"\",\"\",#REF!)","v":{"$error":"#REF!"}},null,{"$f":"IF(#REF!=\"\",\"\",#REF!)","v":{"$error":"#REF!"}},{"$f":"IF(#REF!=\"\",\"\",#REF!)","v":{"$error":"#REF!"}},{"$f":"IF(#REF!=\"\",\"\",#REF!)","v":{"$error":"#REF!"}},{"$f":"IF(#REF!=\"\",\"\",#REF!)","v":{"$error":"#REF!"}},null,{"$f":"IF(#REF!=\"\",\"\",#REF!)","v":{"$error":"#REF!"}},null,null,null,null,null,null,null,"",{"$f":"IF(#REF!=\"\",\"\",#REF!)","v":{"$error":"#REF!"}}]
[null,{"$error":"#REF!"},{"$f":"IF(#REF!=\"\",\"\",VLOOKUP(D35,code!$A$1:$B$47,2,FALSE))","v":{"$error":"#REF!"}},{"$f":"IF(#REF!=\"\",\"\",#REF!)","v":{"$error":"#REF!"}},{"$f":"IF(#REF!=\"\",\"\",VLOOKUP((D35&F35),code!$E$1:$F$1741,2,FALSE))","v":{"$error":"#REF!"}},{"$f":"IF(#REF!=\"\",\"\",#REF!)","v":{"$error":"#REF!"}},{"$f":"IF(#REF!=\"\",\"\",#REF!)","v":{"$error":"#REF!"}},{"$f":"IF(#REF!=\"\",\"\",#REF!)","v":{"$error":"#REF!"}},{"$f":"IF(#REF!=\"\",\"\",#REF!)","v":{"$error":"#REF!"}},{"$f":"IF(#REF!=\"\",\"\",#REF!)","v":{"$error":"#REF!"}},{"$f":"IF(#REF!=\"\",\"\",#REF!)","v":{"$error":"#REF!"}},{"$f":"IF(#REF!=\"\",\"\",#REF!)","v":{"$error":"#REF!"}},{"$f":"IF(#REF!=\"\",\"\",#REF!)","v":{"$error":"#REF!"}},{"$f":"IF(#REF!=\"\",\"\",#REF!)","v":{"$error":"#REF!"}},{"$f":"IF(#REF!=\"\",\"\",#REF!)","v":{"$error":"#REF!"}},{"$f":"IF(#REF!=\"\",\"\",#REF!)","v":{"$error":"#REF!"}},{"$f":"IF(#REF!=\"\",\"\",#REF!)","v":{"$error":"#REF!"}},{"$f":"IF(#REF!=\"\",\"\",#REF!)","v":{"$error":"#REF!"}},{"$f":"IF(#REF!=\"\",\"\",#REF!)","v":{"$error":"#REF!"}},{"$f":"IF(#REF!=\"\",\"\",#REF!)","v":{"$error":"#REF!"}},{"$f":"IF(#REF!=\"\",\"\",#REF!)","v":{"$error":"#REF!"}},{"$f":"IF(#REF!=\"\",\"\",#REF!)","v":{"$error":"#REF!"}},{"$f":"IF(#REF!=\"\",\"\",#REF!)","v":{"$error":"#REF!"}},{"$f":"IF(#REF!=\"\",\"\",#REF!)","v":{"$error":"#REF!"}},{"$f":"IF(#REF!=\"\",\"\",#REF!)","v":{"$error":"#REF!"}},{"$f":"IF(#REF!=\"\",\"\",#REF!)","v":{"$error":"#REF!"}},{"$f":"IF(#REF!=\"\",\"\",#REF!)","v":{"$error":"#REF!"}},{"$f":"IF(#REF!=\"\",\"\",#REF!)","v":{"$error":"#REF!"}},{"$f":"IF(#REF!=\"\",\"\",#REF!)","v":{"$error":"#REF!"}},{"$f":"IF(#REF!=\"\",\"\",#REF!)","v":{"$error":"#REF!"}},{"$error":"#REF!"},{"$f":"IF(#REF!=\"\",\"\",#REF!)","v":{"$error":"#REF!"}},{"$f":"IF(#REF!=\"\",\"\",#REF!)","v":{"$error":"#REF!"}},{"$f":"IF(#REF!=\"\",\"\",#REF!)","v":{"$error":"#REF!"}},{"$f":"IF(#REF!=\"\",\"\",#REF!)","v":{"$error":"#REF!"}},{"$f":"IF(#REF!=\"\",\"\",#REF!)","v":{"$error":"#REF!"}},{"$f":"#REF!","v":{"$error":"#REF!"}},{"$f":"#REF!","v":{"$error":"#REF!"}},{"$f":"#REF!","v":{"$error":"#REF!"}},{"$f":"#REF!","v":{"$error":"#REF!"}},{"$error":"#REF!"},{"$f":"#REF!","v":{"$error":"#REF!"}},{"$f":"#REF!","v":{"$error":"#REF!"}},{"$f":"#REF!","v":{"$error":"#REF!"}},{"$f":"#REF!","v":{"$error":"#REF!"}},{"$f":"#REF!","v":{"$error":"#REF!"}},{"$error":"#REF!"},{"$f":"#REF!","v":{"$error":"#REF!"}},{"$f":"#REF!","v":{"$error":"#REF!"}},{"$f":"#REF!","v":{"$error":"#REF!"}},{"$f":"#REF!","v":{"$error":"#REF!"}},{"$f":"#REF!","v":{"$error":"#REF!"}},{"$f":"#REF!","v":{"$error":"#REF!"}},{"$f":"#REF!","v":{"$error":"#REF!"}},{"$f":"#REF!","v":{"$error":"#REF!"}},{"$f":"#REF!","v":{"$error":"#REF!"}},{"$f":"#REF!","v":{"$error":"#REF!"}},{"$f":"#REF!","v":{"$error":"#REF!"}},{"$f":"#REF!","v":{"$error":"#REF!"}},{"$f":"#REF!","v":{"$error":"#REF!"}},{"$f":"#REF!","v":{"$error":"#REF!"}},{"$f":"#REF!","v":{"$error":"#REF!"}},{"$f":"#REF!","v":{"$error":"#REF!"}},{"$f":"#REF!","v":{"$error":"#REF!"}},{"$f":"#REF!","v":{"$error":"#REF!"}},{"$f":"#REF!","v":{"$error":"#REF!"}},{"$f":"#REF!","v":{"$error":"#REF!"}},{"$f":"#REF!","v":{"$error":"#REF!"}},{"$f":"#REF!","v":{"$error":"#REF!"}},{"$f":"#REF!","v":{"$error":"#REF!"}},{"$f":"#REF!","v":{"$error":"#REF!"}},{"$f":"#REF!","v":{"$error":"#REF!"}},{"$f":"#REF!","v":{"$error":"#REF!"}},{"$f":"IF(#REF!=\"\",\"\",#REF!)","v":{"$error":"#REF!"}},{"$error":"#REF!"},{"$f":"IF(#REF!=\"\",\"\",#REF!)","v":{"$error":"#REF!"}},{"$f":"IF(#REF!=\"\",\"\",#REF!)","v":{"$error":"#REF!"}},{"$f":"IF(#REF!=\"\",\"\",#REF!)","v":{"$error":"#REF!"}},{"$f":"IF(#REF!=\"\",\"\",#REF!)","v":{"$error":"#REF!"}},{"$f":"IF(#REF!=\"\",\"\",#REF!)","v":{"$error":"#REF!"}},{"$f":"#REF!","v":{"$error":"#REF!"}},{"$f":"IF(#REF!=\"\",\"\",#REF!)","v":{"$error":"#REF!"}},{"$f":"#REF!","v":{"$error":"#REF!"}},{"$f":"IF(#REF!=\"\",\"\",#REF!)","v":{"$error":"#REF!"}},{"$f":"IF(#REF!=\"\",\"\",#REF!)","v":{"$error":"#REF!"}},{"$f":"#REF!","v":{"$error":"#REF!"}},{"$f":"#REF!","v":{"$error":"#REF!"}},{"$f":"IF(#REF!=\"\",\"\",#REF!)","v":{"$error":"#REF!"}},{"$f":"#REF!","v":{"$error":"#REF!"}},{"$f":"#REF!","v":{"$error":"#REF!"}},{"$f":"#REF!","v":{"$error":"#REF!"}},{"$f":"#REF!","v":{"$error":"#REF!"}},{"$f":"#REF!","v":{"$error":"#REF!"}},{"$f":"#REF!","v":{"$error":"#REF!"}},{"$f":"#REF!","v":{"$error":"#REF!"}},{"$f":"#REF!","v":{"$error":"#REF!"}},{"$f":"#REF!","v":{"$error":"#REF!"}},{"$f":"#REF!","v":{"$error":"#REF!"}},{"$f":"#REF!","v":{"$error":"#REF!"}},{"$f":"#REF!","v":{"$error":"#REF!"}},{"$f":"#REF!","v":{"$error":"#REF!"}},{"$f":"#REF!","v":{"$error":"#REF!"}},{"$f":"#REF!","v":{"$error":"#REF!"}},null,null,null,null,null,null,null,null,null,null,null,null,null,null,null,null,null,null,null,null,null,null,{"$f":"IF(#REF!=\"\",\"\",#REF!)","v":{"$error":"#REF!"}},{"$f":"IF(#REF!=\"\",\"\",#REF!)","v":{"$error":"#REF!"}},{"$f":"IF(#REF!=\"\",\"\",#REF!)","v":{"$error":"#REF!"}},null,{"$f":"IF(#REF!=\"\",\"\",#REF!)","v":{"$error":"#REF!"}},{"$f":"IF(#REF!=\"\",\"\",#REF!)","v":{"$error":"#REF!"}},{"$f":"IF(#REF!=\"\",\"\",#REF!)","v":{"$error":"#REF!"}},{"$f":"IF(#REF!=\"\",\"\",#REF!)","v":{"$error":"#REF!"}},null,{"$f":"IF(#REF!=\"\",\"\",#REF!)","v":{"$error":"#REF!"}},{"$f":"IF(#REF!=\"\",\"\",#REF!)","v":{"$error":"#REF!"}},{"$f":"IF(#REF!=\"\",\"\",#REF!)","v":{"$error":"#REF!"}},{"$f":"IF(#REF!=\"\",\"\",#REF!)","v":{"$error":"#REF!"}},null,{"$f":"IF(#REF!=\"\",\"\",#REF!)","v":{"$error":"#REF!"}},null,null,null,null,null,null,null,"",{"$f":"IF(#REF!=\"\",\"\",#REF!)","v":{"$error":"#REF!"}}]
[null,{"$error":"#REF!"},{"$f":"IF(#REF!=\"\",\"\",VLOOKUP(D36,code!$A$1:$B$47,2,FALSE))","v":{"$error":"#REF!"}},{"$f":"IF(#REF!=\"\",\"\",#REF!)","v":{"$error":"#REF!"}},{"$f":"IF(#REF!=\"\",\"\",VLOOKUP((D36&F36),code!$E$1:$F$1741,2,FALSE))","v":{"$error":"#REF!"}},{"$f":"IF(#REF!=\"\",\"\",#REF!)","v":{"$error":"#REF!"}},{"$f":"IF(#REF!=\"\",\"\",#REF!)","v":{"$error":"#REF!"}},{"$f":"IF(#REF!=\"\",\"\",#REF!)","v":{"$error":"#REF!"}},{"$f":"IF(#REF!=\"\",\"\",#REF!)","v":{"$error":"#REF!"}},{"$f":"IF(#REF!=\"\",\"\",#REF!)","v":{"$error":"#REF!"}},{"$f":"IF(#REF!=\"\",\"\",#REF!)","v":{"$error":"#REF!"}},{"$f":"IF(#REF!=\"\",\"\",#REF!)","v":{"$error":"#REF!"}},{"$f":"IF(#REF!=\"\",\"\",#REF!)","v":{"$error":"#REF!"}},{"$f":"IF(#REF!=\"\",\"\",#REF!)","v":{"$error":"#REF!"}},{"$f":"IF(#REF!=\"\",\"\",#REF!)","v":{"$error":"#REF!"}},{"$f":"IF(#REF!=\"\",\"\",#REF!)","v":{"$error":"#REF!"}},{"$f":"IF(#REF!=\"\",\"\",#REF!)","v":{"$error":"#REF!"}},{"$f":"IF(#REF!=\"\",\"\",#REF!)","v":{"$error":"#REF!"}},{"$f":"IF(#REF!=\"\",\"\",#REF!)","v":{"$error":"#REF!"}},{"$f":"IF(#REF!=\"\",\"\",#REF!)","v":{"$error":"#REF!"}},{"$f":"IF(#REF!=\"\",\"\",#REF!)","v":{"$error":"#REF!"}},{"$f":"IF(#REF!=\"\",\"\",#REF!)","v":{"$error":"#REF!"}},{"$f":"IF(#REF!=\"\",\"\",#REF!)","v":{"$error":"#REF!"}},{"$f":"IF(#REF!=\"\",\"\",#REF!)","v":{"$error":"#REF!"}},{"$f":"IF(#REF!=\"\",\"\",#REF!)","v":{"$error":"#REF!"}},{"$f":"IF(#REF!=\"\",\"\",#REF!)","v":{"$error":"#REF!"}},{"$f":"IF(#REF!=\"\",\"\",#REF!)","v":{"$error":"#REF!"}},{"$f":"IF(#REF!=\"\",\"\",#REF!)","v":{"$error":"#REF!"}},{"$f":"IF(#REF!=\"\",\"\",#REF!)","v":{"$error":"#REF!"}},{"$f":"IF(#REF!=\"\",\"\",#REF!)","v":{"$error":"#REF!"}},{"$error":"#REF!"},{"$f":"IF(#REF!=\"\",\"\",#REF!)","v":{"$error":"#REF!"}},{"$f":"IF(#REF!=\"\",\"\",#REF!)","v":{"$error":"#REF!"}},{"$f":"IF(#REF!=\"\",\"\",#REF!)","v":{"$error":"#REF!"}},{"$f":"IF(#REF!=\"\",\"\",#REF!)","v":{"$error":"#REF!"}},{"$f":"IF(#REF!=\"\",\"\",#REF!)","v":{"$error":"#REF!"}},{"$f":"#REF!","v":{"$error":"#REF!"}},{"$f":"#REF!","v":{"$error":"#REF!"}},{"$f":"#REF!","v":{"$error":"#REF!"}},{"$f":"#REF!","v":{"$error":"#REF!"}},{"$error":"#REF!"},{"$f":"#REF!","v":{"$error":"#REF!"}},{"$f":"#REF!","v":{"$error":"#REF!"}},{"$f":"#REF!","v":{"$error":"#REF!"}},{"$f":"#REF!","v":{"$error":"#REF!"}},{"$f":"#REF!","v":{"$error":"#REF!"}},{"$error":"#REF!"},{"$f":"#REF!","v":{"$error":"#REF!"}},{"$f":"#REF!","v":{"$error":"#REF!"}},{"$f":"#REF!","v":{"$error":"#REF!"}},{"$f":"#REF!","v":{"$error":"#REF!"}},{"$f":"#REF!","v":{"$error":"#REF!"}},{"$f":"#REF!","v":{"$error":"#REF!"}},{"$f":"#REF!","v":{"$error":"#REF!"}},{"$f":"#REF!","v":{"$error":"#REF!"}},{"$f":"#REF!","v":{"$error":"#REF!"}},{"$f":"#REF!","v":{"$error":"#REF!"}},{"$f":"#REF!","v":{"$error":"#REF!"}},{"$f":"#REF!","v":{"$error":"#REF!"}},{"$f":"#REF!","v":{"$error":"#REF!"}},{"$f":"#REF!","v":{"$error":"#REF!"}},{"$f":"#REF!","v":{"$error":"#REF!"}},{"$f":"#REF!","v":{"$error":"#REF!"}},{"$f":"#REF!","v":{"$error":"#REF!"}},{"$f":"#REF!","v":{"$error":"#REF!"}},{"$f":"#REF!","v":{"$error":"#REF!"}},{"$f":"#REF!","v":{"$error":"#REF!"}},{"$f":"#REF!","v":{"$error":"#REF!"}},{"$f":"#REF!","v":{"$error":"#REF!"}},{"$f":"#REF!","v":{"$error":"#REF!"}},{"$f":"#REF!","v":{"$error":"#REF!"}},{"$f":"#REF!","v":{"$error":"#REF!"}},{"$f":"#REF!","v":{"$error":"#REF!"}},{"$f":"IF(#REF!=\"\",\"\",#REF!)","v":{"$error":"#REF!"}},{"$error":"#REF!"},{"$f":"IF(#REF!=\"\",\"\",#REF!)","v":{"$error":"#REF!"}},{"$f":"IF(#REF!=\"\",\"\",#REF!)","v":{"$error":"#REF!"}},{"$f":"IF(#REF!=\"\",\"\",#REF!)","v":{"$error":"#REF!"}},{"$f":"IF(#REF!=\"\",\"\",#REF!)","v":{"$error":"#REF!"}},{"$f":"IF(#REF!=\"\",\"\",#REF!)","v":{"$error":"#REF!"}},{"$f":"#REF!","v":{"$error":"#REF!"}},{"$f":"IF(#REF!=\"\",\"\",#REF!)","v":{"$error":"#REF!"}},{"$f":"#REF!","v":{"$error":"#REF!"}},{"$f":"IF(#REF!=\"\",\"\",#REF!)","v":{"$error":"#REF!"}},{"$f":"IF(#REF!=\"\",\"\",#REF!)","v":{"$error":"#REF!"}},{"$f":"#REF!","v":{"$error":"#REF!"}},{"$f":"#REF!","v":{"$error":"#REF!"}},{"$f":"IF(#REF!=\"\",\"\",#REF!)","v":{"$error":"#REF!"}},{"$f":"#REF!","v":{"$error":"#REF!"}},{"$f":"#REF!","v":{"$error":"#REF!"}},{"$f":"#REF!","v":{"$error":"#REF!"}},{"$f":"#REF!","v":{"$error":"#REF!"}},{"$f":"#REF!","v":{"$error":"#REF!"}},{"$f":"#REF!","v":{"$error":"#REF!"}},{"$f":"#REF!","v":{"$error":"#REF!"}},{"$f":"#REF!","v":{"$error":"#REF!"}},{"$f":"#REF!","v":{"$error":"#REF!"}},{"$f":"#REF!","v":{"$error":"#REF!"}},{"$f":"#REF!","v":{"$error":"#REF!"}},{"$f":"#REF!","v":{"$error":"#REF!"}},{"$f":"#REF!","v":{"$error":"#REF!"}},{"$f":"#REF!","v":{"$error":"#REF!"}},{"$f":"#REF!","v":{"$error":"#REF!"}},null,null,null,null,null,null,null,null,null,null,null,null,null,null,null,null,null,null,null,null,null,null,{"$f":"IF(#REF!=\"\",\"\",#REF!)","v":{"$error":"#REF!"}},{"$f":"IF(#REF!=\"\",\"\",#REF!)","v":{"$error":"#REF!"}},{"$f":"IF(#REF!=\"\",\"\",#REF!)","v":{"$error":"#REF!"}},null,{"$f":"IF(#REF!=\"\",\"\",#REF!)","v":{"$error":"#REF!"}},{"$f":"IF(#REF!=\"\",\"\",#REF!)","v":{"$error":"#REF!"}},{"$f":"IF(#REF!=\"\",\"\",#REF!)","v":{"$error":"#REF!"}},{"$f":"IF(#REF!=\"\",\"\",#REF!)","v":{"$error":"#REF!"}},null,{"$f":"IF(#REF!=\"\",\"\",#REF!)","v":{"$error":"#REF!"}},{"$f":"IF(#REF!=\"\",\"\",#REF!)","v":{"$error":"#REF!"}},{"$f":"IF(#REF!=\"\",\"\",#REF!)","v":{"$error":"#REF!"}},{"$f":"IF(#REF!=\"\",\"\",#REF!)","v":{"$error":"#REF!"}},null,{"$f":"IF(#REF!=\"\",\"\",#REF!)","v":{"$error":"#REF!"}},null,null,null,null,null,null,null,"",{"$f":"IF(#REF!=\"\",\"\",#REF!)","v":{"$error":"#REF!"}}]
[null,{"$error":"#REF!"},{"$f":"IF(#REF!=\"\",\"\",VLOOKUP(D37,code!$A$1:$B$47,2,FALSE))","v":{"$error":"#REF!"}},{"$f":"IF(#REF!=\"\",\"\",#REF!)","v":{"$error":"#REF!"}},{"$f":"IF(#REF!=\"\",\"\",VLOOKUP((D37&F37),code!$E$1:$F$1741,2,FALSE))","v":{"$error":"#REF!"}},{"$f":"IF(#REF!=\"\",\"\",#REF!)","v":{"$error":"#REF!"}},{"$f":"IF(#REF!=\"\",\"\",#REF!)","v":{"$error":"#REF!"}},{"$f":"IF(#REF!=\"\",\"\",#REF!)","v":{"$error":"#REF!"}},{"$f":"IF(#REF!=\"\",\"\",#REF!)","v":{"$error":"#REF!"}},{"$f":"IF(#REF!=\"\",\"\",#REF!)","v":{"$error":"#REF!"}},{"$f":"IF(#REF!=\"\",\"\",#REF!)","v":{"$error":"#REF!"}},{"$f":"IF(#REF!=\"\",\"\",#REF!)","v":{"$error":"#REF!"}},{"$f":"IF(#REF!=\"\",\"\",#REF!)","v":{"$error":"#REF!"}},{"$f":"IF(#REF!=\"\",\"\",#REF!)","v":{"$error":"#REF!"}},{"$f":"IF(#REF!=\"\",\"\",#REF!)","v":{"$error":"#REF!"}},{"$f":"IF(#REF!=\"\",\"\",#REF!)","v":{"$error":"#REF!"}},{"$f":"IF(#REF!=\"\",\"\",#REF!)","v":{"$error":"#REF!"}},{"$f":"IF(#REF!=\"\",\"\",#REF!)","v":{"$error":"#REF!"}},{"$f":"IF(#REF!=\"\",\"\",#REF!)","v":{"$error":"#REF!"}},{"$f":"IF(#REF!=\"\",\"\",#REF!)","v":{"$error":"#REF!"}},{"$f":"IF(#REF!=\"\",\"\",#REF!)","v":{"$error":"#REF!"}},{"$f":"IF(#REF!=\"\",\"\",#REF!)","v":{"$error":"#REF!"}},{"$f":"IF(#REF!=\"\",\"\",#REF!)","v":{"$error":"#REF!"}},{"$f":"IF(#REF!=\"\",\"\",#REF!)","v":{"$error":"#REF!"}},{"$f":"IF(#REF!=\"\",\"\",#REF!)","v":{"$error":"#REF!"}},{"$f":"IF(#REF!=\"\",\"\",#REF!)","v":{"$error":"#REF!"}},{"$f":"IF(#REF!=\"\",\"\",#REF!)","v":{"$error":"#REF!"}},{"$f":"IF(#REF!=\"\",\"\",#REF!)","v":{"$error":"#REF!"}},{"$f":"IF(#REF!=\"\",\"\",#REF!)","v":{"$error":"#REF!"}},{"$f":"IF(#REF!=\"\",\"\",#REF!)","v":{"$error":"#REF!"}},{"$error":"#REF!"},{"$f":"IF(#REF!=\"\",\"\",#REF!)","v":{"$error":"#REF!"}},{"$f":"IF(#REF!=\"\",\"\",#REF!)","v":{"$error":"#REF!"}},{"$f":"IF(#REF!=\"\",\"\",#REF!)","v":{"$error":"#REF!"}},{"$f":"IF(#REF!=\"\",\"\",#REF!)","v":{"$error":"#REF!"}},{"$f":"IF(#REF!=\"\",\"\",#REF!)","v":{"$error":"#REF!"}},{"$f":"#REF!","v":{"$error":"#REF!"}},{"$f":"#REF!","v":{"$error":"#REF!"}},{"$f":"#REF!","v":{"$error":"#REF!"}},{"$f":"#REF!","v":{"$error":"#REF!"}},{"$error":"#REF!"},{"$f":"#REF!","v":{"$error":"#REF!"}},{"$f":"#REF!","v":{"$error":"#REF!"}},{"$f":"#REF!","v":{"$error":"#REF!"}},{"$f":"#REF!","v":{"$error":"#REF!"}},{"$f":"#REF!","v":{"$error":"#REF!"}},{"$error":"#REF!"},{"$f":"#REF!","v":{"$error":"#REF!"}},{"$f":"#REF!","v":{"$error":"#REF!"}},{"$f":"#REF!","v":{"$error":"#REF!"}},{"$f":"#REF!","v":{"$error":"#REF!"}},{"$f":"#REF!","v":{"$error":"#REF!"}},{"$f":"#REF!","v":{"$error":"#REF!"}},{"$f":"#REF!","v":{"$error":"#REF!"}},{"$f":"#REF!","v":{"$error":"#REF!"}},{"$f":"#REF!","v":{"$error":"#REF!"}},{"$f":"#REF!","v":{"$error":"#REF!"}},{"$f":"#REF!","v":{"$error":"#REF!"}},{"$f":"#REF!","v":{"$error":"#REF!"}},{"$f":"#REF!","v":{"$error":"#REF!"}},{"$f":"#REF!","v":{"$error":"#REF!"}},{"$f":"#REF!","v":{"$error":"#REF!"}},{"$f":"#REF!","v":{"$error":"#REF!"}},{"$f":"#REF!","v":{"$error":"#REF!"}},{"$f":"#REF!","v":{"$error":"#REF!"}},{"$f":"#REF!","v":{"$error":"#REF!"}},{"$f":"#REF!","v":{"$error":"#REF!"}},{"$f":"#REF!","v":{"$error":"#REF!"}},{"$f":"#REF!","v":{"$error":"#REF!"}},{"$f":"#REF!","v":{"$error":"#REF!"}},{"$f":"#REF!","v":{"$error":"#REF!"}},{"$f":"#REF!","v":{"$error":"#REF!"}},{"$f":"#REF!","v":{"$error":"#REF!"}},{"$f":"IF(#REF!=\"\",\"\",#REF!)","v":{"$error":"#REF!"}},{"$error":"#REF!"},{"$f":"IF(#REF!=\"\",\"\",#REF!)","v":{"$error":"#REF!"}},{"$f":"IF(#REF!=\"\",\"\",#REF!)","v":{"$error":"#REF!"}},{"$f":"IF(#REF!=\"\",\"\",#REF!)","v":{"$error":"#REF!"}},{"$f":"IF(#REF!=\"\",\"\",#REF!)","v":{"$error":"#REF!"}},{"$f":"IF(#REF!=\"\",\"\",#REF!)","v":{"$error":"#REF!"}},{"$f":"#REF!","v":{"$error":"#REF!"}},{"$f":"IF(#REF!=\"\",\"\",#REF!)","v":{"$error":"#REF!"}},{"$f":"#REF!","v":{"$error":"#REF!"}},{"$f":"IF(#REF!=\"\",\"\",#REF!)","v":{"$error":"#REF!"}},{"$f":"IF(#REF!=\"\",\"\",#REF!)","v":{"$error":"#REF!"}},{"$f":"#REF!","v":{"$error":"#REF!"}},{"$f":"#REF!","v":{"$error":"#REF!"}},{"$f":"IF(#REF!=\"\",\"\",#REF!)","v":{"$error":"#REF!"}},{"$f":"#REF!","v":{"$error":"#REF!"}},{"$f":"#REF!","v":{"$error":"#REF!"}},{"$f":"#REF!","v":{"$error":"#REF!"}},{"$f":"#REF!","v":{"$error":"#REF!"}},{"$f":"#REF!","v":{"$error":"#REF!"}},{"$f":"#REF!","v":{"$error":"#REF!"}},{"$f":"#REF!","v":{"$error":"#REF!"}},{"$f":"#REF!","v":{"$error":"#REF!"}},{"$f":"#REF!","v":{"$error":"#REF!"}},{"$f":"#REF!","v":{"$error":"#REF!"}},{"$f":"#REF!","v":{"$error":"#REF!"}},{"$f":"#REF!","v":{"$error":"#REF!"}},{"$f":"#REF!","v":{"$error":"#REF!"}},{"$f":"#REF!","v":{"$error":"#REF!"}},{"$f":"#REF!","v":{"$error":"#REF!"}},null,null,null,null,null,null,null,null,null,null,null,null,null,null,null,null,null,null,null,null,null,null,{"$f":"IF(#REF!=\"\",\"\",#REF!)","v":{"$error":"#REF!"}},{"$f":"IF(#REF!=\"\",\"\",#REF!)","v":{"$error":"#REF!"}},{"$f":"IF(#REF!=\"\",\"\",#REF!)","v":{"$error":"#REF!"}},null,{"$f":"IF(#REF!=\"\",\"\",#REF!)","v":{"$error":"#REF!"}},{"$f":"IF(#REF!=\"\",\"\",#REF!)","v":{"$error":"#REF!"}},{"$f":"IF(#REF!=\"\",\"\",#REF!)","v":{"$error":"#REF!"}},{"$f":"IF(#REF!=\"\",\"\",#REF!)","v":{"$error":"#REF!"}},null,{"$f":"IF(#REF!=\"\",\"\",#REF!)","v":{"$error":"#REF!"}},{"$f":"IF(#REF!=\"\",\"\",#REF!)","v":{"$error":"#REF!"}},{"$f":"IF(#REF!=\"\",\"\",#REF!)","v":{"$error":"#REF!"}},{"$f":"IF(#REF!=\"\",\"\",#REF!)","v":{"$error":"#REF!"}},null,{"$f":"IF(#REF!=\"\",\"\",#REF!)","v":{"$error":"#REF!"}},null,null,null,null,null,null,null,"",{"$f":"IF(#REF!=\"\",\"\",#REF!)","v":{"$error":"#REF!"}}]
[null,{"$error":"#REF!"},{"$f":"IF(#REF!=\"\",\"\",VLOOKUP(D38,code!$A$1:$B$47,2,FALSE))","v":{"$error":"#REF!"}},{"$f":"IF(#REF!=\"\",\"\",#REF!)","v":{"$error":"#REF!"}},{"$f":"IF(#REF!=\"\",\"\",VLOOKUP((D38&F38),code!$E$1:$F$1741,2,FALSE))","v":{"$error":"#REF!"}},{"$f":"IF(#REF!=\"\",\"\",#REF!)","v":{"$error":"#REF!"}},{"$f":"IF(#REF!=\"\",\"\",#REF!)","v":{"$error":"#REF!"}},{"$f":"IF(#REF!=\"\",\"\",#REF!)","v":{"$error":"#REF!"}},{"$f":"IF(#REF!=\"\",\"\",#REF!)","v":{"$error":"#REF!"}},{"$f":"IF(#REF!=\"\",\"\",#REF!)","v":{"$error":"#REF!"}},{"$f":"IF(#REF!=\"\",\"\",#REF!)","v":{"$error":"#REF!"}},{"$f":"IF(#REF!=\"\",\"\",#REF!)","v":{"$error":"#REF!"}},{"$f":"IF(#REF!=\"\",\"\",#REF!)","v":{"$error":"#REF!"}},{"$f":"IF(#REF!=\"\",\"\",#REF!)","v":{"$error":"#REF!"}},{"$f":"IF(#REF!=\"\",\"\",#REF!)","v":{"$error":"#REF!"}},{"$f":"IF(#REF!=\"\",\"\",#REF!)","v":{"$error":"#REF!"}},{"$f":"IF(#REF!=\"\",\"\",#REF!)","v":{"$error":"#REF!"}},{"$f":"IF(#REF!=\"\",\"\",#REF!)","v":{"$error":"#REF!"}},{"$f":"IF(#REF!=\"\",\"\",#REF!)","v":{"$error":"#REF!"}},{"$f":"IF(#REF!=\"\",\"\",#REF!)","v":{"$error":"#REF!"}},{"$f":"IF(#REF!=\"\",\"\",#REF!)","v":{"$error":"#REF!"}},{"$f":"IF(#REF!=\"\",\"\",#REF!)","v":{"$error":"#REF!"}},{"$f":"IF(#REF!=\"\",\"\",#REF!)","v":{"$error":"#REF!"}},{"$f":"IF(#REF!=\"\",\"\",#REF!)","v":{"$error":"#REF!"}},{"$f":"IF(#REF!=\"\",\"\",#REF!)","v":{"$error":"#REF!"}},{"$f":"IF(#REF!=\"\",\"\",#REF!)","v":{"$error":"#REF!"}},{"$f":"IF(#REF!=\"\",\"\",#REF!)","v":{"$error":"#REF!"}},{"$f":"IF(#REF!=\"\",\"\",#REF!)","v":{"$error":"#REF!"}},{"$f":"IF(#REF!=\"\",\"\",#REF!)","v":{"$error":"#REF!"}},{"$f":"IF(#REF!=\"\",\"\",#REF!)","v":{"$error":"#REF!"}},{"$error":"#REF!"},{"$f":"IF(#REF!=\"\",\"\",#REF!)","v":{"$error":"#REF!"}},{"$f":"IF(#REF!=\"\",\"\",#REF!)","v":{"$error":"#REF!"}},{"$f":"IF(#REF!=\"\",\"\",#REF!)","v":{"$error":"#REF!"}},{"$f":"IF(#REF!=\"\",\"\",#REF!)","v":{"$error":"#REF!"}},{"$f":"IF(#REF!=\"\",\"\",#REF!)","v":{"$error":"#REF!"}},{"$f":"#REF!","v":{"$error":"#REF!"}},{"$f":"#REF!","v":{"$error":"#REF!"}},{"$f":"#REF!","v":{"$error":"#REF!"}},{"$f":"#REF!","v":{"$error":"#REF!"}},{"$error":"#REF!"},{"$f":"#REF!","v":{"$error":"#REF!"}},{"$f":"#REF!","v":{"$error":"#REF!"}},{"$f":"#REF!","v":{"$error":"#REF!"}},{"$f":"#REF!","v":{"$error":"#REF!"}},{"$f":"#REF!","v":{"$error":"#REF!"}},{"$error":"#REF!"},{"$f":"#REF!","v":{"$error":"#REF!"}},{"$f":"#REF!","v":{"$error":"#REF!"}},{"$f":"#REF!","v":{"$error":"#REF!"}},{"$f":"#REF!","v":{"$error":"#REF!"}},{"$f":"#REF!","v":{"$error":"#REF!"}},{"$f":"#REF!","v":{"$error":"#REF!"}},{"$f":"#REF!","v":{"$error":"#REF!"}},{"$f":"#REF!","v":{"$error":"#REF!"}},{"$f":"#REF!","v":{"$error":"#REF!"}},{"$f":"#REF!","v":{"$error":"#REF!"}},{"$f":"#REF!","v":{"$error":"#REF!"}},{"$f":"#REF!","v":{"$error":"#REF!"}},{"$f":"#REF!","v":{"$error":"#REF!"}},{"$f":"#REF!","v":{"$error":"#REF!"}},{"$f":"#REF!","v":{"$error":"#REF!"}},{"$f":"#REF!","v":{"$error":"#REF!"}},{"$f":"#REF!","v":{"$error":"#REF!"}},{"$f":"#REF!","v":{"$error":"#REF!"}},{"$f":"#REF!","v":{"$error":"#REF!"}},{"$f":"#REF!","v":{"$error":"#REF!"}},{"$f":"#REF!","v":{"$error":"#REF!"}},{"$f":"#REF!","v":{"$error":"#REF!"}},{"$f":"#REF!","v":{"$error":"#REF!"}},{"$f":"#REF!","v":{"$error":"#REF!"}},{"$f":"#REF!","v":{"$error":"#REF!"}},{"$f":"#REF!","v":{"$error":"#REF!"}},{"$f":"IF(#REF!=\"\",\"\",#REF!)","v":{"$error":"#REF!"}},{"$error":"#REF!"},{"$f":"IF(#REF!=\"\",\"\",#REF!)","v":{"$error":"#REF!"}},{"$f":"IF(#REF!=\"\",\"\",#REF!)","v":{"$error":"#REF!"}},{"$f":"IF(#REF!=\"\",\"\",#REF!)","v":{"$error":"#REF!"}},{"$f":"IF(#REF!=\"\",\"\",#REF!)","v":{"$error":"#REF!"}},{"$f":"IF(#REF!=\"\",\"\",#REF!)","v":{"$error":"#REF!"}},{"$f":"#REF!","v":{"$error":"#REF!"}},{"$f":"IF(#REF!=\"\",\"\",#REF!)","v":{"$error":"#REF!"}},{"$f":"#REF!","v":{"$error":"#REF!"}},{"$f":"IF(#REF!=\"\",\"\",#REF!)","v":{"$error":"#REF!"}},{"$f":"IF(#REF!=\"\",\"\",#REF!)","v":{"$error":"#REF!"}},{"$f":"#REF!","v":{"$error":"#REF!"}},{"$f":"#REF!","v":{"$error":"#REF!"}},{"$f":"IF(#REF!=\"\",\"\",#REF!)","v":{"$error":"#REF!"}},{"$f":"#REF!","v":{"$error":"#REF!"}},{"$f":"#REF!","v":{"$error":"#REF!"}},{"$f":"#REF!","v":{"$error":"#REF!"}},{"$f":"#REF!","v":{"$error":"#REF!"}},{"$f":"#REF!","v":{"$error":"#REF!"}},{"$f":"#REF!","v":{"$error":"#REF!"}},{"$f":"#REF!","v":{"$error":"#REF!"}},{"$f":"#REF!","v":{"$error":"#REF!"}},{"$f":"#REF!","v":{"$error":"#REF!"}},{"$f":"#REF!","v":{"$error":"#REF!"}},{"$f":"#REF!","v":{"$error":"#REF!"}},{"$f":"#REF!","v":{"$error":"#REF!"}},{"$f":"#REF!","v":{"$error":"#REF!"}},{"$f":"#REF!","v":{"$error":"#REF!"}},{"$f":"#REF!","v":{"$error":"#REF!"}},null,null,null,null,null,null,null,null,null,null,null,null,null,null,null,null,null,null,null,null,null,null,{"$f":"IF(#REF!=\"\",\"\",#REF!)","v":{"$error":"#REF!"}},{"$f":"IF(#REF!=\"\",\"\",#REF!)","v":{"$error":"#REF!"}},{"$f":"IF(#REF!=\"\",\"\",#REF!)","v":{"$error":"#REF!"}},null,{"$f":"IF(#REF!=\"\",\"\",#REF!)","v":{"$error":"#REF!"}},{"$f":"IF(#REF!=\"\",\"\",#REF!)","v":{"$error":"#REF!"}},{"$f":"IF(#REF!=\"\",\"\",#REF!)","v":{"$error":"#REF!"}},{"$f":"IF(#REF!=\"\",\"\",#REF!)","v":{"$error":"#REF!"}},null,{"$f":"IF(#REF!=\"\",\"\",#REF!)","v":{"$error":"#REF!"}},{"$f":"IF(#REF!=\"\",\"\",#REF!)","v":{"$error":"#REF!"}},{"$f":"IF(#REF!=\"\",\"\",#REF!)","v":{"$error":"#REF!"}},{"$f":"IF(#REF!=\"\",\"\",#REF!)","v":{"$error":"#REF!"}},null,{"$f":"IF(#REF!=\"\",\"\",#REF!)","v":{"$error":"#REF!"}},null,null,null,null,null,null,null,"",{"$f":"IF(#REF!=\"\",\"\",#REF!)","v":{"$error":"#REF!"}}]
[null,{"$error":"#REF!"},{"$f":"IF(#REF!=\"\",\"\",VLOOKUP(D39,code!$A$1:$B$47,2,FALSE))","v":{"$error":"#REF!"}},{"$f":"IF(#REF!=\"\",\"\",#REF!)","v":{"$error":"#REF!"}},{"$f":"IF(#REF!=\"\",\"\",VLOOKUP((D39&F39),code!$E$1:$F$1741,2,FALSE))","v":{"$error":"#REF!"}},{"$f":"IF(#REF!=\"\",\"\",#REF!)","v":{"$error":"#REF!"}},{"$f":"IF(#REF!=\"\",\"\",#REF!)","v":{"$error":"#REF!"}},{"$f":"IF(#REF!=\"\",\"\",#REF!)","v":{"$error":"#REF!"}},{"$f":"IF(#REF!=\"\",\"\",#REF!)","v":{"$error":"#REF!"}},{"$f":"IF(#REF!=\"\",\"\",#REF!)","v":{"$error":"#REF!"}},{"$f":"IF(#REF!=\"\",\"\",#REF!)","v":{"$error":"#REF!"}},{"$f":"IF(#REF!=\"\",\"\",#REF!)","v":{"$error":"#REF!"}},{"$f":"IF(#REF!=\"\",\"\",#REF!)","v":{"$error":"#REF!"}},{"$f":"IF(#REF!=\"\",\"\",#REF!)","v":{"$error":"#REF!"}},{"$f":"IF(#REF!=\"\",\"\",#REF!)","v":{"$error":"#REF!"}},{"$f":"IF(#REF!=\"\",\"\",#REF!)","v":{"$error":"#REF!"}},{"$f":"IF(#REF!=\"\",\"\",#REF!)","v":{"$error":"#REF!"}},{"$f":"IF(#REF!=\"\",\"\",#REF!)","v":{"$error":"#REF!"}},{"$f":"IF(#REF!=\"\",\"\",#REF!)","v":{"$error":"#REF!"}},{"$f":"IF(#REF!=\"\",\"\",#REF!)","v":{"$error":"#REF!"}},{"$f":"IF(#REF!=\"\",\"\",#REF!)","v":{"$error":"#REF!"}},{"$f":"IF(#REF!=\"\",\"\",#REF!)","v":{"$error":"#REF!"}},{"$f":"IF(#REF!=\"\",\"\",#REF!)","v":{"$error":"#REF!"}},{"$f":"IF(#REF!=\"\",\"\",#REF!)","v":{"$error":"#REF!"}},{"$f":"IF(#REF!=\"\",\"\",#REF!)","v":{"$error":"#REF!"}},{"$f":"IF(#REF!=\"\",\"\",#REF!)","v":{"$error":"#REF!"}},{"$f":"IF(#REF!=\"\",\"\",#REF!)","v":{"$error":"#REF!"}},{"$f":"IF(#REF!=\"\",\"\",#REF!)","v":{"$error":"#REF!"}},{"$f":"IF(#REF!=\"\",\"\",#REF!)","v":{"$error":"#REF!"}},{"$f":"IF(#REF!=\"\",\"\",#REF!)","v":{"$error":"#REF!"}},{"$error":"#REF!"},{"$f":"IF(#REF!=\"\",\"\",#REF!)","v":{"$error":"#REF!"}},{"$f":"IF(#REF!=\"\",\"\",#REF!)","v":{"$error":"#REF!"}},{"$f":"IF(#REF!=\"\",\"\",#REF!)","v":{"$error":"#REF!"}},{"$f":"IF(#REF!=\"\",\"\",#REF!)","v":{"$error":"#REF!"}},{"$f":"IF(#REF!=\"\",\"\",#REF!)","v":{"$error":"#REF!"}},{"$f":"#REF!","v":{"$error":"#REF!"}},{"$f":"#REF!","v":{"$error":"#REF!"}},{"$f":"#REF!","v":{"$error":"#REF!"}},{"$f":"#REF!","v":{"$error":"#REF!"}},{"$error":"#REF!"},{"$f":"#REF!","v":{"$error":"#REF!"}},{"$f":"#REF!","v":{"$error":"#REF!"}},{"$f":"#REF!","v":{"$error":"#REF!"}},{"$f":"#REF!","v":{"$error":"#REF!"}},{"$f":"#REF!","v":{"$error":"#REF!"}},{"$error":"#REF!"},{"$f":"#REF!","v":{"$error":"#REF!"}},{"$f":"#REF!","v":{"$error":"#REF!"}},{"$f":"#REF!","v":{"$error":"#REF!"}},{"$f":"#REF!","v":{"$error":"#REF!"}},{"$f":"#REF!","v":{"$error":"#REF!"}},{"$f":"#REF!","v":{"$error":"#REF!"}},{"$f":"#REF!","v":{"$error":"#REF!"}},{"$f":"#REF!","v":{"$error":"#REF!"}},{"$f":"#REF!","v":{"$error":"#REF!"}},{"$f":"#REF!","v":{"$error":"#REF!"}},{"$f":"#REF!","v":{"$error":"#REF!"}},{"$f":"#REF!","v":{"$error":"#REF!"}},{"$f":"#REF!","v":{"$error":"#REF!"}},{"$f":"#REF!","v":{"$error":"#REF!"}},{"$f":"#REF!","v":{"$error":"#REF!"}},{"$f":"#REF!","v":{"$error":"#REF!"}},{"$f":"#REF!","v":{"$error":"#REF!"}},{"$f":"#REF!","v":{"$error":"#REF!"}},{"$f":"#REF!","v":{"$error":"#REF!"}},{"$f":"#REF!","v":{"$error":"#REF!"}},{"$f":"#REF!","v":{"$error":"#REF!"}},{"$f":"#REF!","v":{"$error":"#REF!"}},{"$f":"#REF!","v":{"$error":"#REF!"}},{"$f":"#REF!","v":{"$error":"#REF!"}},{"$f":"#REF!","v":{"$error":"#REF!"}},{"$f":"#REF!","v":{"$error":"#REF!"}},{"$f":"IF(#REF!=\"\",\"\",#REF!)","v":{"$error":"#REF!"}},{"$error":"#REF!"},{"$f":"IF(#REF!=\"\",\"\",#REF!)","v":{"$error":"#REF!"}},{"$f":"IF(#REF!=\"\",\"\",#REF!)","v":{"$error":"#REF!"}},{"$f":"IF(#REF!=\"\",\"\",#REF!)","v":{"$error":"#REF!"}},{"$f":"IF(#REF!=\"\",\"\",#REF!)","v":{"$error":"#REF!"}},{"$f":"IF(#REF!=\"\",\"\",#REF!)","v":{"$error":"#REF!"}},{"$f":"#REF!","v":{"$error":"#REF!"}},{"$f":"IF(#REF!=\"\",\"\",#REF!)","v":{"$error":"#REF!"}},{"$f":"#REF!","v":{"$error":"#REF!"}},{"$f":"IF(#REF!=\"\",\"\",#REF!)","v":{"$error":"#REF!"}},{"$f":"IF(#REF!=\"\",\"\",#REF!)","v":{"$error":"#REF!"}},{"$f":"#REF!","v":{"$error":"#REF!"}},{"$f":"#REF!","v":{"$error":"#REF!"}},{"$f":"IF(#REF!=\"\",\"\",#REF!)","v":{"$error":"#REF!"}},{"$f":"#REF!","v":{"$error":"#REF!"}},{"$f":"#REF!","v":{"$error":"#REF!"}},{"$f":"#REF!","v":{"$error":"#REF!"}},{"$f":"#REF!","v":{"$error":"#REF!"}},{"$f":"#REF!","v":{"$error":"#REF!"}},{"$f":"#REF!","v":{"$error":"#REF!"}},{"$f":"#REF!","v":{"$error":"#REF!"}},{"$f":"#REF!","v":{"$error":"#REF!"}},{"$f":"#REF!","v":{"$error":"#REF!"}},{"$f":"#REF!","v":{"$error":"#REF!"}},{"$f":"#REF!","v":{"$error":"#REF!"}},{"$f":"#REF!","v":{"$error":"#REF!"}},{"$f":"#REF!","v":{"$error":"#REF!"}},{"$f":"#REF!","v":{"$error":"#REF!"}},{"$f":"#REF!","v":{"$error":"#REF!"}},null,null,null,null,null,null,null,null,null,null,null,null,null,null,null,null,null,null,null,null,null,null,{"$f":"IF(#REF!=\"\",\"\",#REF!)","v":{"$error":"#REF!"}},{"$f":"IF(#REF!=\"\",\"\",#REF!)","v":{"$error":"#REF!"}},{"$f":"IF(#REF!=\"\",\"\",#REF!)","v":{"$error":"#REF!"}},null,{"$f":"IF(#REF!=\"\",\"\",#REF!)","v":{"$error":"#REF!"}},{"$f":"IF(#REF!=\"\",\"\",#REF!)","v":{"$error":"#REF!"}},{"$f":"IF(#REF!=\"\",\"\",#REF!)","v":{"$error":"#REF!"}},{"$f":"IF(#REF!=\"\",\"\",#REF!)","v":{"$error":"#REF!"}},null,{"$f":"IF(#REF!=\"\",\"\",#REF!)","v":{"$error":"#REF!"}},{"$f":"IF(#REF!=\"\",\"\",#REF!)","v":{"$error":"#REF!"}},{"$f":"IF(#REF!=\"\",\"\",#REF!)","v":{"$error":"#REF!"}},{"$f":"IF(#REF!=\"\",\"\",#REF!)","v":{"$error":"#REF!"}},null,{"$f":"IF(#REF!=\"\",\"\",#REF!)","v":{"$error":"#REF!"}},null,null,null,null,null,null,null,"",{"$f":"IF(#REF!=\"\",\"\",#REF!)","v":{"$error":"#REF!"}}]
[null,{"$error":"#REF!"},{"$f":"IF(#REF!=\"\",\"\",VLOOKUP(D40,code!$A$1:$B$47,2,FALSE))","v":{"$error":"#REF!"}},{"$f":"IF(#REF!=\"\",\"\",#REF!)","v":{"$error":"#REF!"}},{"$f":"IF(#REF!=\"\",\"\",VLOOKUP((D40&F40),code!$E$1:$F$1741,2,FALSE))","v":{"$error":"#REF!"}},{"$f":"IF(#REF!=\"\",\"\",#REF!)","v":{"$error":"#REF!"}},{"$f":"IF(#REF!=\"\",\"\",#REF!)","v":{"$error":"#REF!"}},{"$f":"IF(#REF!=\"\",\"\",#REF!)","v":{"$error":"#REF!"}},{"$f":"IF(#REF!=\"\",\"\",#REF!)","v":{"$error":"#REF!"}},{"$f":"IF(#REF!=\"\",\"\",#REF!)","v":{"$error":"#REF!"}},{"$f":"IF(#REF!=\"\",\"\",#REF!)","v":{"$error":"#REF!"}},{"$f":"IF(#REF!=\"\",\"\",#REF!)","v":{"$error":"#REF!"}},{"$f":"IF(#REF!=\"\",\"\",#REF!)","v":{"$error":"#REF!"}},{"$f":"IF(#REF!=\"\",\"\",#REF!)","v":{"$error":"#REF!"}},{"$f":"IF(#REF!=\"\",\"\",#REF!)","v":{"$error":"#REF!"}},{"$f":"IF(#REF!=\"\",\"\",#REF!)","v":{"$error":"#REF!"}},{"$f":"IF(#REF!=\"\",\"\",#REF!)","v":{"$error":"#REF!"}},{"$f":"IF(#REF!=\"\",\"\",#REF!)","v":{"$error":"#REF!"}},{"$f":"IF(#REF!=\"\",\"\",#REF!)","v":{"$error":"#REF!"}},{"$f":"IF(#REF!=\"\",\"\",#REF!)","v":{"$error":"#REF!"}},{"$f":"IF(#REF!=\"\",\"\",#REF!)","v":{"$error":"#REF!"}},{"$f":"IF(#REF!=\"\",\"\",#REF!)","v":{"$error":"#REF!"}},{"$f":"IF(#REF!=\"\",\"\",#REF!)","v":{"$error":"#REF!"}},{"$f":"IF(#REF!=\"\",\"\",#REF!)","v":{"$error":"#REF!"}},{"$f":"IF(#REF!=\"\",\"\",#REF!)","v":{"$error":"#REF!"}},{"$f":"IF(#REF!=\"\",\"\",#REF!)","v":{"$error":"#REF!"}},{"$f":"IF(#REF!=\"\",\"\",#REF!)","v":{"$error":"#REF!"}},{"$f":"IF(#REF!=\"\",\"\",#REF!)","v":{"$error":"#REF!"}},{"$f":"IF(#REF!=\"\",\"\",#REF!)","v":{"$error":"#REF!"}},{"$f":"IF(#REF!=\"\",\"\",#REF!)","v":{"$error":"#REF!"}},{"$error":"#REF!"},{"$f":"IF(#REF!=\"\",\"\",#REF!)","v":{"$error":"#REF!"}},{"$f":"IF(#REF!=\"\",\"\",#REF!)","v":{"$error":"#REF!"}},{"$f":"IF(#REF!=\"\",\"\",#REF!)","v":{"$error":"#REF!"}},{"$f":"IF(#REF!=\"\",\"\",#REF!)","v":{"$error":"#REF!"}},{"$f":"IF(#REF!=\"\",\"\",#REF!)","v":{"$error":"#REF!"}},{"$f":"#REF!","v":{"$error":"#REF!"}},{"$f":"#REF!","v":{"$error":"#REF!"}},{"$f":"#REF!","v":{"$error":"#REF!"}},{"$f":"#REF!","v":{"$error":"#REF!"}},{"$error":"#REF!"},{"$f":"#REF!","v":{"$error":"#REF!"}},{"$f":"#REF!","v":{"$error":"#REF!"}},{"$f":"#REF!","v":{"$error":"#REF!"}},{"$f":"#REF!","v":{"$error":"#REF!"}},{"$f":"#REF!","v":{"$error":"#REF!"}},{"$error":"#REF!"},{"$f":"#REF!","v":{"$error":"#REF!"}},{"$f":"#REF!","v":{"$error":"#REF!"}},{"$f":"#REF!","v":{"$error":"#REF!"}},{"$f":"#REF!","v":{"$error":"#REF!"}},{"$f":"#REF!","v":{"$error":"#REF!"}},{"$f":"#REF!","v":{"$error":"#REF!"}},{"$f":"#REF!","v":{"$error":"#REF!"}},{"$f":"#REF!","v":{"$error":"#REF!"}},{"$f":"#REF!","v":{"$error":"#REF!"}},{"$f":"#REF!","v":{"$error":"#REF!"}},{"$f":"#REF!","v":{"$error":"#REF!"}},{"$f":"#REF!","v":{"$error":"#REF!"}},{"$f":"#REF!","v":{"$error":"#REF!"}},{"$f":"#REF!","v":{"$error":"#REF!"}},{"$f":"#REF!","v":{"$error":"#REF!"}},{"$f":"#REF!","v":{"$error":"#REF!"}},{"$f":"#REF!","v":{"$error":"#REF!"}},{"$f":"#REF!","v":{"$error":"#REF!"}},{"$f":"#REF!","v":{"$error":"#REF!"}},{"$f":"#REF!","v":{"$error":"#REF!"}},{"$f":"#REF!","v":{"$error":"#REF!"}},{"$f":"#REF!","v":{"$error":"#REF!"}},{"$f":"#REF!","v":{"$error":"#REF!"}},{"$f":"#REF!","v":{"$error":"#REF!"}},{"$f":"#REF!","v":{"$error":"#REF!"}},{"$f":"#REF!","v":{"$error":"#REF!"}},{"$f":"IF(#REF!=\"\",\"\",#REF!)","v":{"$error":"#REF!"}},{"$error":"#REF!"},{"$f":"IF(#REF!=\"\",\"\",#REF!)","v":{"$error":"#REF!"}},{"$f":"IF(#REF!=\"\",\"\",#REF!)","v":{"$error":"#REF!"}},{"$f":"IF(#REF!=\"\",\"\",#REF!)","v":{"$error":"#REF!"}},{"$f":"IF(#REF!=\"\",\"\",#REF!)","v":{"$error":"#REF!"}},{"$f":"IF(#REF!=\"\",\"\",#REF!)","v":{"$error":"#REF!"}},{"$f":"#REF!","v":{"$error":"#REF!"}},{"$f":"IF(#REF!=\"\",\"\",#REF!)","v":{"$error":"#REF!"}},{"$f":"#REF!","v":{"$error":"#REF!"}},{"$f":"IF(#REF!=\"\",\"\",#REF!)","v":{"$error":"#REF!"}},{"$f":"IF(#REF!=\"\",\"\",#REF!)","v":{"$error":"#REF!"}},{"$f":"#REF!","v":{"$error":"#REF!"}},{"$f":"#REF!","v":{"$error":"#REF!"}},{"$f":"IF(#REF!=\"\",\"\",#REF!)","v":{"$error":"#REF!"}},{"$f":"#REF!","v":{"$error":"#REF!"}},{"$f":"#REF!","v":{"$error":"#REF!"}},{"$f":"#REF!","v":{"$error":"#REF!"}},{"$f":"#REF!","v":{"$error":"#REF!"}},{"$f":"#REF!","v":{"$error":"#REF!"}},{"$f":"#REF!","v":{"$error":"#REF!"}},{"$f":"#REF!","v":{"$error":"#REF!"}},{"$f":"#REF!","v":{"$error":"#REF!"}},{"$f":"#REF!","v":{"$error":"#REF!"}},{"$f":"#REF!","v":{"$error":"#REF!"}},{"$f":"#REF!","v":{"$error":"#REF!"}},{"$f":"#REF!","v":{"$error":"#REF!"}},{"$f":"#REF!","v":{"$error":"#REF!"}},{"$f":"#REF!","v":{"$error":"#REF!"}},{"$f":"#REF!","v":{"$error":"#REF!"}},null,null,null,null,null,null,null,null,null,null,null,null,null,null,null,null,null,null,null,null,null,null,{"$f":"IF(#REF!=\"\",\"\",#REF!)","v":{"$error":"#REF!"}},{"$f":"IF(#REF!=\"\",\"\",#REF!)","v":{"$error":"#REF!"}},{"$f":"IF(#REF!=\"\",\"\",#REF!)","v":{"$error":"#REF!"}},null,{"$f":"IF(#REF!=\"\",\"\",#REF!)","v":{"$error":"#REF!"}},{"$f":"IF(#REF!=\"\",\"\",#REF!)","v":{"$error":"#REF!"}},{"$f":"IF(#REF!=\"\",\"\",#REF!)","v":{"$error":"#REF!"}},{"$f":"IF(#REF!=\"\",\"\",#REF!)","v":{"$error":"#REF!"}},null,{"$f":"IF(#REF!=\"\",\"\",#REF!)","v":{"$error":"#REF!"}},{"$f":"IF(#REF!=\"\",\"\",#REF!)","v":{"$error":"#REF!"}},{"$f":"IF(#REF!=\"\",\"\",#REF!)","v":{"$error":"#REF!"}},{"$f":"IF(#REF!=\"\",\"\",#REF!)","v":{"$error":"#REF!"}},null,{"$f":"IF(#REF!=\"\",\"\",#REF!)","v":{"$error":"#REF!"}},null,null,null,null,null,null,null,"",{"$f":"IF(#REF!=\"\",\"\",#REF!)","v":{"$error":"#REF!"}}]
[null,{"$error":"#REF!"},{"$f":"IF(#REF!=\"\",\"\",VLOOKUP(D41,code!$A$1:$B$47,2,FALSE))","v":{"$error":"#REF!"}},{"$f":"IF(#REF!=\"\",\"\",#REF!)","v":{"$error":"#REF!"}},{"$f":"IF(#REF!=\"\",\"\",VLOOKUP((D41&F41),code!$E$1:$F$1741,2,FALSE))","v":{"$error":"#REF!"}},{"$f":"IF(#REF!=\"\",\"\",#REF!)","v":{"$error":"#REF!"}},{"$f":"IF(#REF!=\"\",\"\",#REF!)","v":{"$error":"#REF!"}},{"$f":"IF(#REF!=\"\",\"\",#REF!)","v":{"$error":"#REF!"}},{"$f":"IF(#REF!=\"\",\"\",#REF!)","v":{"$error":"#REF!"}},{"$f":"IF(#REF!=\"\",\"\",#REF!)","v":{"$error":"#REF!"}},{"$f":"IF(#REF!=\"\",\"\",#REF!)","v":{"$error":"#REF!"}},{"$f":"IF(#REF!=\"\",\"\",#REF!)","v":{"$error":"#REF!"}},{"$f":"IF(#REF!=\"\",\"\",#REF!)","v":{"$error":"#REF!"}},{"$f":"IF(#REF!=\"\",\"\",#REF!)","v":{"$error":"#REF!"}},{"$f":"IF(#REF!=\"\",\"\",#REF!)","v":{"$error":"#REF!"}},{"$f":"IF(#REF!=\"\",\"\",#REF!)","v":{"$error":"#REF!"}},{"$f":"IF(#REF!=\"\",\"\",#REF!)","v":{"$error":"#REF!"}},{"$f":"IF(#REF!=\"\",\"\",#REF!)","v":{"$error":"#REF!"}},{"$f":"IF(#REF!=\"\",\"\",#REF!)","v":{"$error":"#REF!"}},{"$f":"IF(#REF!=\"\",\"\",#REF!)","v":{"$error":"#REF!"}},{"$f":"IF(#REF!=\"\",\"\",#REF!)","v":{"$error":"#REF!"}},{"$f":"IF(#REF!=\"\",\"\",#REF!)","v":{"$error":"#REF!"}},{"$f":"IF(#REF!=\"\",\"\",#REF!)","v":{"$error":"#REF!"}},{"$f":"IF(#REF!=\"\",\"\",#REF!)","v":{"$error":"#REF!"}},{"$f":"IF(#REF!=\"\",\"\",#REF!)","v":{"$error":"#REF!"}},{"$f":"IF(#REF!=\"\",\"\",#REF!)","v":{"$error":"#REF!"}},{"$f":"IF(#REF!=\"\",\"\",#REF!)","v":{"$error":"#REF!"}},{"$f":"IF(#REF!=\"\",\"\",#REF!)","v":{"$error":"#REF!"}},{"$f":"IF(#REF!=\"\",\"\",#REF!)","v":{"$error":"#REF!"}},{"$f":"IF(#REF!=\"\",\"\",#REF!)","v":{"$error":"#REF!"}},{"$error":"#REF!"},{"$f":"IF(#REF!=\"\",\"\",#REF!)","v":{"$error":"#REF!"}},{"$f":"IF(#REF!=\"\",\"\",#REF!)","v":{"$error":"#REF!"}},{"$f":"IF(#REF!=\"\",\"\",#REF!)","v":{"$error":"#REF!"}},{"$f":"IF(#REF!=\"\",\"\",#REF!)","v":{"$error":"#REF!"}},{"$f":"IF(#REF!=\"\",\"\",#REF!)","v":{"$error":"#REF!"}},{"$f":"#REF!","v":{"$error":"#REF!"}},{"$f":"#REF!","v":{"$error":"#REF!"}},{"$f":"#REF!","v":{"$error":"#REF!"}},{"$f":"#REF!","v":{"$error":"#REF!"}},{"$error":"#REF!"},{"$f":"#REF!","v":{"$error":"#REF!"}},{"$f":"#REF!","v":{"$error":"#REF!"}},{"$f":"#REF!","v":{"$error":"#REF!"}},{"$f":"#REF!","v":{"$error":"#REF!"}},{"$f":"#REF!","v":{"$error":"#REF!"}},{"$error":"#REF!"},{"$f":"#REF!","v":{"$error":"#REF!"}},{"$f":"#REF!","v":{"$error":"#REF!"}},{"$f":"#REF!","v":{"$error":"#REF!"}},{"$f":"#REF!","v":{"$error":"#REF!"}},{"$f":"#REF!","v":{"$error":"#REF!"}},{"$f":"#REF!","v":{"$error":"#REF!"}},{"$f":"#REF!","v":{"$error":"#REF!"}},{"$f":"#REF!","v":{"$error":"#REF!"}},{"$f":"#REF!","v":{"$error":"#REF!"}},{"$f":"#REF!","v":{"$error":"#REF!"}},{"$f":"#REF!","v":{"$error":"#REF!"}},{"$f":"#REF!","v":{"$error":"#REF!"}},{"$f":"#REF!","v":{"$error":"#REF!"}},{"$f":"#REF!","v":{"$error":"#REF!"}},{"$f":"#REF!","v":{"$error":"#REF!"}},{"$f":"#REF!","v":{"$error":"#REF!"}},{"$f":"#REF!","v":{"$error":"#REF!"}},{"$f":"#REF!","v":{"$error":"#REF!"}},{"$f":"#REF!","v":{"$error":"#REF!"}},{"$f":"#REF!","v":{"$error":"#REF!"}},{"$f":"#REF!","v":{"$error":"#REF!"}},{"$f":"#REF!","v":{"$error":"#REF!"}},{"$f":"#REF!","v":{"$error":"#REF!"}},{"$f":"#REF!","v":{"$error":"#REF!"}},{"$f":"#REF!","v":{"$error":"#REF!"}},{"$f":"#REF!","v":{"$error":"#REF!"}},{"$f":"IF(#REF!=\"\",\"\",#REF!)","v":{"$error":"#REF!"}},{"$error":"#REF!"},{"$f":"IF(#REF!=\"\",\"\",#REF!)","v":{"$error":"#REF!"}},{"$f":"IF(#REF!=\"\",\"\",#REF!)","v":{"$error":"#REF!"}},{"$f":"IF(#REF!=\"\",\"\",#REF!)","v":{"$error":"#REF!"}},{"$f":"IF(#REF!=\"\",\"\",#REF!)","v":{"$error":"#REF!"}},{"$f":"IF(#REF!=\"\",\"\",#REF!)","v":{"$error":"#REF!"}},{"$f":"#REF!","v":{"$error":"#REF!"}},{"$f":"IF(#REF!=\"\",\"\",#REF!)","v":{"$error":"#REF!"}},{"$f":"#REF!","v":{"$error":"#REF!"}},{"$f":"IF(#REF!=\"\",\"\",#REF!)","v":{"$error":"#REF!"}},{"$f":"IF(#REF!=\"\",\"\",#REF!)","v":{"$error":"#REF!"}},{"$f":"#REF!","v":{"$error":"#REF!"}},{"$f":"#REF!","v":{"$error":"#REF!"}},{"$f":"IF(#REF!=\"\",\"\",#REF!)","v":{"$error":"#REF!"}},{"$f":"#REF!","v":{"$error":"#REF!"}},{"$f":"#REF!","v":{"$error":"#REF!"}},{"$f":"#REF!","v":{"$error":"#REF!"}},{"$f":"#REF!","v":{"$error":"#REF!"}},{"$f":"#REF!","v":{"$error":"#REF!"}},{"$f":"#REF!","v":{"$error":"#REF!"}},{"$f":"#REF!","v":{"$error":"#REF!"}},{"$f":"#REF!","v":{"$error":"#REF!"}},{"$f":"#REF!","v":{"$error":"#REF!"}},{"$f":"#REF!","v":{"$error":"#REF!"}},{"$f":"#REF!","v":{"$error":"#REF!"}},{"$f":"#REF!","v":{"$error":"#REF!"}},{"$f":"#REF!","v":{"$error":"#REF!"}},{"$f":"#REF!","v":{"$error":"#REF!"}},{"$f":"#REF!","v":{"$error":"#REF!"}},null,null,null,null,null,null,null,null,null,null,null,null,null,null,null,null,null,null,null,null,null,null,{"$f":"IF(#REF!=\"\",\"\",#REF!)","v":{"$error":"#REF!"}},{"$f":"IF(#REF!=\"\",\"\",#REF!)","v":{"$error":"#REF!"}},{"$f":"IF(#REF!=\"\",\"\",#REF!)","v":{"$error":"#REF!"}},null,{"$f":"IF(#REF!=\"\",\"\",#REF!)","v":{"$error":"#REF!"}},{"$f":"IF(#REF!=\"\",\"\",#REF!)","v":{"$error":"#REF!"}},{"$f":"IF(#REF!=\"\",\"\",#REF!)","v":{"$error":"#REF!"}},{"$f":"IF(#REF!=\"\",\"\",#REF!)","v":{"$error":"#REF!"}},null,{"$f":"IF(#REF!=\"\",\"\",#REF!)","v":{"$error":"#REF!"}},{"$f":"IF(#REF!=\"\",\"\",#REF!)","v":{"$error":"#REF!"}},{"$f":"IF(#REF!=\"\",\"\",#REF!)","v":{"$error":"#REF!"}},{"$f":"IF(#REF!=\"\",\"\",#REF!)","v":{"$error":"#REF!"}},null,{"$f":"IF(#REF!=\"\",\"\",#REF!)","v":{"$error":"#REF!"}},null,null,null,null,null,null,null,"",{"$f":"IF(#REF!=\"\",\"\",#REF!)","v":{"$error":"#REF!"}}]
[null,{"$error":"#REF!"},{"$f":"IF(#REF!=\"\",\"\",VLOOKUP(D42,code!$A$1:$B$47,2,FALSE))","v":{"$error":"#REF!"}},{"$f":"IF(#REF!=\"\",\"\",#REF!)","v":{"$error":"#REF!"}},{"$f":"IF(#REF!=\"\",\"\",VLOOKUP((D42&F42),code!$E$1:$F$1741,2,FALSE))","v":{"$error":"#REF!"}},{"$f":"IF(#REF!=\"\",\"\",#REF!)","v":{"$error":"#REF!"}},{"$f":"IF(#REF!=\"\",\"\",#REF!)","v":{"$error":"#REF!"}},{"$f":"IF(#REF!=\"\",\"\",#REF!)","v":{"$error":"#REF!"}},{"$f":"IF(#REF!=\"\",\"\",#REF!)","v":{"$error":"#REF!"}},{"$f":"IF(#REF!=\"\",\"\",#REF!)","v":{"$error":"#REF!"}},{"$f":"IF(#REF!=\"\",\"\",#REF!)","v":{"$error":"#REF!"}},{"$f":"IF(#REF!=\"\",\"\",#REF!)","v":{"$error":"#REF!"}},{"$f":"IF(#REF!=\"\",\"\",#REF!)","v":{"$error":"#REF!"}},{"$f":"IF(#REF!=\"\",\"\",#REF!)","v":{"$error":"#REF!"}},{"$f":"IF(#REF!=\"\",\"\",#REF!)","v":{"$error":"#REF!"}},{"$f":"IF(#REF!=\"\",\"\",#REF!)","v":{"$error":"#REF!"}},{"$f":"IF(#REF!=\"\",\"\",#REF!)","v":{"$error":"#REF!"}},{"$f":"IF(#REF!=\"\",\"\",#REF!)","v":{"$error":"#REF!"}},{"$f":"IF(#REF!=\"\",\"\",#REF!)","v":{"$error":"#REF!"}},{"$f":"IF(#REF!=\"\",\"\",#REF!)","v":{"$error":"#REF!"}},{"$f":"IF(#REF!=\"\",\"\",#REF!)","v":{"$error":"#REF!"}},{"$f":"IF(#REF!=\"\",\"\",#REF!)","v":{"$error":"#REF!"}},{"$f":"IF(#REF!=\"\",\"\",#REF!)","v":{"$error":"#REF!"}},{"$f":"IF(#REF!=\"\",\"\",#REF!)","v":{"$error":"#REF!"}},{"$f":"IF(#REF!=\"\",\"\",#REF!)","v":{"$error":"#REF!"}},{"$f":"IF(#REF!=\"\",\"\",#REF!)","v":{"$error":"#REF!"}},{"$f":"IF(#REF!=\"\",\"\",#REF!)","v":{"$error":"#REF!"}},{"$f":"IF(#REF!=\"\",\"\",#REF!)","v":{"$error":"#REF!"}},{"$f":"IF(#REF!=\"\",\"\",#REF!)","v":{"$error":"#REF!"}},{"$f":"IF(#REF!=\"\",\"\",#REF!)","v":{"$error":"#REF!"}},{"$error":"#REF!"},{"$f":"IF(#REF!=\"\",\"\",#REF!)","v":{"$error":"#REF!"}},{"$f":"IF(#REF!=\"\",\"\",#REF!)","v":{"$error":"#REF!"}},{"$f":"IF(#REF!=\"\",\"\",#REF!)","v":{"$error":"#REF!"}},{"$f":"IF(#REF!=\"\",\"\",#REF!)","v":{"$error":"#REF!"}},{"$f":"IF(#REF!=\"\",\"\",#REF!)","v":{"$error":"#REF!"}},{"$f":"#REF!","v":{"$error":"#REF!"}},{"$f":"#REF!","v":{"$error":"#REF!"}},{"$f":"#REF!","v":{"$error":"#REF!"}},{"$f":"#REF!","v":{"$error":"#REF!"}},{"$error":"#REF!"},{"$f":"#REF!","v":{"$error":"#REF!"}},{"$f":"#REF!","v":{"$error":"#REF!"}},{"$f":"#REF!","v":{"$error":"#REF!"}},{"$f":"#REF!","v":{"$error":"#REF!"}},{"$f":"#REF!","v":{"$error":"#REF!"}},{"$error":"#REF!"},{"$f":"#REF!","v":{"$error":"#REF!"}},{"$f":"#REF!","v":{"$error":"#REF!"}},{"$f":"#REF!","v":{"$error":"#REF!"}},{"$f":"#REF!","v":{"$error":"#REF!"}},{"$f":"#REF!","v":{"$error":"#REF!"}},{"$f":"#REF!","v":{"$error":"#REF!"}},{"$f":"#REF!","v":{"$error":"#REF!"}},{"$f":"#REF!","v":{"$error":"#REF!"}},{"$f":"#REF!","v":{"$error":"#REF!"}},{"$f":"#REF!","v":{"$error":"#REF!"}},{"$f":"#REF!","v":{"$error":"#REF!"}},{"$f":"#REF!","v":{"$error":"#REF!"}},{"$f":"#REF!","v":{"$error":"#REF!"}},{"$f":"#REF!","v":{"$error":"#REF!"}},{"$f":"#REF!","v":{"$error":"#REF!"}},{"$f":"#REF!","v":{"$error":"#REF!"}},{"$f":"#REF!","v":{"$error":"#REF!"}},{"$f":"#REF!","v":{"$error":"#REF!"}},{"$f":"#REF!","v":{"$error":"#REF!"}},{"$f":"#REF!","v":{"$error":"#REF!"}},{"$f":"#REF!","v":{"$error":"#REF!"}},{"$f":"#REF!","v":{"$error":"#REF!"}},{"$f":"#REF!","v":{"$error":"#REF!"}},{"$f":"#REF!","v":{"$error":"#REF!"}},{"$f":"#REF!","v":{"$error":"#REF!"}},{"$f":"#REF!","v":{"$error":"#REF!"}},{"$f":"IF(#REF!=\"\",\"\",#REF!)","v":{"$error":"#REF!"}},{"$error":"#REF!"},{"$f":"IF(#REF!=\"\",\"\",#REF!)","v":{"$error":"#REF!"}},{"$f":"IF(#REF!=\"\",\"\",#REF!)","v":{"$error":"#REF!"}},{"$f":"IF(#REF!=\"\",\"\",#REF!)","v":{"$error":"#REF!"}},{"$f":"IF(#REF!=\"\",\"\",#REF!)","v":{"$error":"#REF!"}},{"$f":"IF(#REF!=\"\",\"\",#REF!)","v":{"$error":"#REF!"}},{"$f":"#REF!","v":{"$error":"#REF!"}},{"$f":"IF(#REF!=\"\",\"\",#REF!)","v":{"$error":"#REF!"}},{"$f":"#REF!","v":{"$error":"#REF!"}},{"$f":"IF(#REF!=\"\",\"\",#REF!)","v":{"$error":"#REF!"}},{"$f":"IF(#REF!=\"\",\"\",#REF!)","v":{"$error":"#REF!"}},{"$f":"#REF!","v":{"$error":"#REF!"}},{"$f":"#REF!","v":{"$error":"#REF!"}},{"$f":"IF(#REF!=\"\",\"\",#REF!)","v":{"$error":"#REF!"}},{"$f":"#REF!","v":{"$error":"#REF!"}},{"$f":"#REF!","v":{"$error":"#REF!"}},{"$f":"#REF!","v":{"$error":"#REF!"}},{"$f":"#REF!","v":{"$error":"#REF!"}},{"$f":"#REF!","v":{"$error":"#REF!"}},{"$f":"#REF!","v":{"$error":"#REF!"}},{"$f":"#REF!","v":{"$error":"#REF!"}},{"$f":"#REF!","v":{"$error":"#REF!"}},{"$f":"#REF!","v":{"$error":"#REF!"}},{"$f":"#REF!","v":{"$error":"#REF!"}},{"$f":"#REF!","v":{"$error":"#REF!"}},{"$f":"#REF!","v":{"$error":"#REF!"}},{"$f":"#REF!","v":{"$error":"#REF!"}},{"$f":"#REF!","v":{"$error":"#REF!"}},{"$f":"#REF!","v":{"$error":"#REF!"}},null,null,null,null,null,null,null,null,null,null,null,null,null,null,null,null,null,null,null,null,null,null,{"$f":"IF(#REF!=\"\",\"\",#REF!)","v":{"$error":"#REF!"}},{"$f":"IF(#REF!=\"\",\"\",#REF!)","v":{"$error":"#REF!"}},{"$f":"IF(#REF!=\"\",\"\",#REF!)","v":{"$error":"#REF!"}},null,{"$f":"IF(#REF!=\"\",\"\",#REF!)","v":{"$error":"#REF!"}},{"$f":"IF(#REF!=\"\",\"\",#REF!)","v":{"$error":"#REF!"}},{"$f":"IF(#REF!=\"\",\"\",#REF!)","v":{"$error":"#REF!"}},{"$f":"IF(#REF!=\"\",\"\",#REF!)","v":{"$error":"#REF!"}},null,{"$f":"IF(#REF!=\"\",\"\",#REF!)","v":{"$error":"#REF!"}},{"$f":"IF(#REF!=\"\",\"\",#REF!)","v":{"$error":"#REF!"}},{"$f":"IF(#REF!=\"\",\"\",#REF!)","v":{"$error":"#REF!"}},{"$f":"IF(#REF!=\"\",\"\",#REF!)","v":{"$error":"#REF!"}},null,{"$f":"IF(#REF!=\"\",\"\",#REF!)","v":{"$error":"#REF!"}},null,null,null,null,null,null,null,"",{"$f":"IF(#REF!=\"\",\"\",#REF!)","v":{"$error":"#REF!"}}]
[null,{"$error":"#REF!"},{"$f":"IF(#REF!=\"\",\"\",VLOOKUP(D43,code!$A$1:$B$47,2,FALSE))","v":{"$error":"#REF!"}},{"$f":"IF(#REF!=\"\",\"\",#REF!)","v":{"$error":"#REF!"}},{"$f":"IF(#REF!=\"\",\"\",VLOOKUP((D43&F43),code!$E$1:$F$1741,2,FALSE))","v":{"$error":"#REF!"}},{"$f":"IF(#REF!=\"\",\"\",#REF!)","v":{"$error":"#REF!"}},{"$f":"IF(#REF!=\"\",\"\",#REF!)","v":{"$error":"#REF!"}},{"$f":"IF(#REF!=\"\",\"\",#REF!)","v":{"$error":"#REF!"}},{"$f":"IF(#REF!=\"\",\"\",#REF!)","v":{"$error":"#REF!"}},{"$f":"IF(#REF!=\"\",\"\",#REF!)","v":{"$error":"#REF!"}},{"$f":"IF(#REF!=\"\",\"\",#REF!)","v":{"$error":"#REF!"}},{"$f":"IF(#REF!=\"\",\"\",#REF!)","v":{"$error":"#REF!"}},{"$f":"IF(#REF!=\"\",\"\",#REF!)","v":{"$error":"#REF!"}},{"$f":"IF(#REF!=\"\",\"\",#REF!)","v":{"$error":"#REF!"}},{"$f":"IF(#REF!=\"\",\"\",#REF!)","v":{"$error":"#REF!"}},{"$f":"IF(#REF!=\"\",\"\",#REF!)","v":{"$error":"#REF!"}},{"$f":"IF(#REF!=\"\",\"\",#REF!)","v":{"$error":"#REF!"}},{"$f":"IF(#REF!=\"\",\"\",#REF!)","v":{"$error":"#REF!"}},{"$f":"IF(#REF!=\"\",\"\",#REF!)","v":{"$error":"#REF!"}},{"$f":"IF(#REF!=\"\",\"\",#REF!)","v":{"$error":"#REF!"}},{"$f":"IF(#REF!=\"\",\"\",#REF!)","v":{"$error":"#REF!"}},{"$f":"IF(#REF!=\"\",\"\",#REF!)","v":{"$error":"#REF!"}},{"$f":"IF(#REF!=\"\",\"\",#REF!)","v":{"$error":"#REF!"}},{"$f":"IF(#REF!=\"\",\"\",#REF!)","v":{"$error":"#REF!"}},{"$f":"IF(#REF!=\"\",\"\",#REF!)","v":{"$error":"#REF!"}},{"$f":"IF(#REF!=\"\",\"\",#REF!)","v":{"$error":"#REF!"}},{"$f":"IF(#REF!=\"\",\"\",#REF!)","v":{"$error":"#REF!"}},{"$f":"IF(#REF!=\"\",\"\",#REF!)","v":{"$error":"#REF!"}},{"$f":"IF(#REF!=\"\",\"\",#REF!)","v":{"$error":"#REF!"}},{"$f":"IF(#REF!=\"\",\"\",#REF!)","v":{"$error":"#REF!"}},{"$error":"#REF!"},{"$f":"IF(#REF!=\"\",\"\",#REF!)","v":{"$error":"#REF!"}},{"$f":"IF(#REF!=\"\",\"\",#REF!)","v":{"$error":"#REF!"}},{"$f":"IF(#REF!=\"\",\"\",#REF!)","v":{"$error":"#REF!"}},{"$f":"IF(#REF!=\"\",\"\",#REF!)","v":{"$error":"#REF!"}},{"$f":"IF(#REF!=\"\",\"\",#REF!)","v":{"$error":"#REF!"}},{"$f":"#REF!","v":{"$error":"#REF!"}},{"$f":"#REF!","v":{"$error":"#REF!"}},{"$f":"#REF!","v":{"$error":"#REF!"}},{"$f":"#REF!","v":{"$error":"#REF!"}},{"$error":"#REF!"},{"$f":"#REF!","v":{"$error":"#REF!"}},{"$f":"#REF!","v":{"$error":"#REF!"}},{"$f":"#REF!","v":{"$error":"#REF!"}},{"$f":"#REF!","v":{"$error":"#REF!"}},{"$f":"#REF!","v":{"$error":"#REF!"}},{"$error":"#REF!"},{"$f":"#REF!","v":{"$error":"#REF!"}},{"$f":"#REF!","v":{"$error":"#REF!"}},{"$f":"#REF!","v":{"$error":"#REF!"}},{"$f":"#REF!","v":{"$error":"#REF!"}},{"$f":"#REF!","v":{"$error":"#REF!"}},{"$f":"#REF!","v":{"$error":"#REF!"}},{"$f":"#REF!","v":{"$error":"#REF!"}},{"$f":"#REF!","v":{"$error":"#REF!"}},{"$f":"#REF!","v":{"$error":"#REF!"}},{"$f":"#REF!","v":{"$error":"#REF!"}},{"$f":"#REF!","v":{"$error":"#REF!"}},{"$f":"#REF!","v":{"$error":"#REF!"}},{"$f":"#REF!","v":{"$error":"#REF!"}},{"$f":"#REF!","v":{"$error":"#REF!"}},{"$f":"#REF!","v":{"$error":"#REF!"}},{"$f":"#REF!","v":{"$error":"#REF!"}},{"$f":"#REF!","v":{"$error":"#REF!"}},{"$f":"#REF!","v":{"$error":"#REF!"}},{"$f":"#REF!","v":{"$error":"#REF!"}},{"$f":"#REF!","v":{"$error":"#REF!"}},{"$f":"#REF!","v":{"$error":"#REF!"}},{"$f":"#REF!","v":{"$error":"#REF!"}},{"$f":"#REF!","v":{"$error":"#REF!"}},{"$f":"#REF!","v":{"$error":"#REF!"}},{"$f":"#REF!","v":{"$error":"#REF!"}},{"$f":"#REF!","v":{"$error":"#REF!"}},{"$f":"IF(#REF!=\"\",\"\",#REF!)","v":{"$error":"#REF!"}},{"$error":"#REF!"},{"$f":"IF(#REF!=\"\",\"\",#REF!)","v":{"$error":"#REF!"}},{"$f":"IF(#REF!=\"\",\"\",#REF!)","v":{"$error":"#REF!"}},{"$f":"IF(#REF!=\"\",\"\",#REF!)","v":{"$error":"#REF!"}},{"$f":"IF(#REF!=\"\",\"\",#REF!)","v":{"$error":"#REF!"}},{"$f":"IF(#REF!=\"\",\"\",#REF!)","v":{"$error":"#REF!"}},{"$f":"#REF!","v":{"$error":"#REF!"}},{"$f":"IF(#REF!=\"\",\"\",#REF!)","v":{"$error":"#REF!"}},{"$f":"#REF!","v":{"$error":"#REF!"}},{"$f":"IF(#REF!=\"\",\"\",#REF!)","v":{"$error":"#REF!"}},{"$f":"IF(#REF!=\"\",\"\",#REF!)","v":{"$error":"#REF!"}},{"$f":"#REF!","v":{"$error":"#REF!"}},{"$f":"#REF!","v":{"$error":"#REF!"}},{"$f":"IF(#REF!=\"\",\"\",#REF!)","v":{"$error":"#REF!"}},{"$f":"#REF!","v":{"$error":"#REF!"}},{"$f":"#REF!","v":{"$error":"#REF!"}},{"$f":"#REF!","v":{"$error":"#REF!"}},{"$f":"#REF!","v":{"$error":"#REF!"}},{"$f":"#REF!","v":{"$error":"#REF!"}},{"$f":"#REF!","v":{"$error":"#REF!"}},{"$f":"#REF!","v":{"$error":"#REF!"}},{"$f":"#REF!","v":{"$error":"#REF!"}},{"$f":"#REF!","v":{"$error":"#REF!"}},{"$f":"#REF!","v":{"$error":"#REF!"}},{"$f":"#REF!","v":{"$error":"#REF!"}},{"$f":"#REF!","v":{"$error":"#REF!"}},{"$f":"#REF!","v":{"$error":"#REF!"}},{"$f":"#REF!","v":{"$error":"#REF!"}},{"$f":"#REF!","v":{"$error":"#REF!"}},null,null,null,null,null,null,null,null,null,null,null,null,null,null,null,null,null,null,null,null,null,null,{"$f":"IF(#REF!=\"\",\"\",#REF!)","v":{"$error":"#REF!"}},{"$f":"IF(#REF!=\"\",\"\",#REF!)","v":{"$error":"#REF!"}},{"$f":"IF(#REF!=\"\",\"\",#REF!)","v":{"$error":"#REF!"}},null,{"$f":"IF(#REF!=\"\",\"\",#REF!)","v":{"$error":"#REF!"}},{"$f":"IF(#REF!=\"\",\"\",#REF!)","v":{"$error":"#REF!"}},{"$f":"IF(#REF!=\"\",\"\",#REF!)","v":{"$error":"#REF!"}},{"$f":"IF(#REF!=\"\",\"\",#REF!)","v":{"$error":"#REF!"}},null,{"$f":"IF(#REF!=\"\",\"\",#REF!)","v":{"$error":"#REF!"}},{"$f":"IF(#REF!=\"\",\"\",#REF!)","v":{"$error":"#REF!"}},{"$f":"IF(#REF!=\"\",\"\",#REF!)","v":{"$error":"#REF!"}},{"$f":"IF(#REF!=\"\",\"\",#REF!)","v":{"$error":"#REF!"}},null,{"$f":"IF(#REF!=\"\",\"\",#REF!)","v":{"$error":"#REF!"}},null,null,null,null,null,null,null,"",{"$f":"IF(#REF!=\"\",\"\",#REF!)","v":{"$error":"#REF!"}}]
[null,{"$error":"#REF!"},{"$f":"IF(#REF!=\"\",\"\",VLOOKUP(D44,code!$A$1:$B$47,2,FALSE))","v":{"$error":"#REF!"}},{"$f":"IF(#REF!=\"\",\"\",#REF!)","v":{"$error":"#REF!"}},{"$f":"IF(#REF!=\"\",\"\",VLOOKUP((D44&F44),code!$E$1:$F$1741,2,FALSE))","v":{"$error":"#REF!"}},{"$f":"IF(#REF!=\"\",\"\",#REF!)","v":{"$error":"#REF!"}},{"$f":"IF(#REF!=\"\",\"\",#REF!)","v":{"$error":"#REF!"}},{"$f":"IF(#REF!=\"\",\"\",#REF!)","v":{"$error":"#REF!"}},{"$f":"IF(#REF!=\"\",\"\",#REF!)","v":{"$error":"#REF!"}},{"$f":"IF(#REF!=\"\",\"\",#REF!)","v":{"$error":"#REF!"}},{"$f":"IF(#REF!=\"\",\"\",#REF!)","v":{"$error":"#REF!"}},{"$f":"IF(#REF!=\"\",\"\",#REF!)","v":{"$error":"#REF!"}},{"$f":"IF(#REF!=\"\",\"\",#REF!)","v":{"$error":"#REF!"}},{"$f":"IF(#REF!=\"\",\"\",#REF!)","v":{"$error":"#REF!"}},{"$f":"IF(#REF!=\"\",\"\",#REF!)","v":{"$error":"#REF!"}},{"$f":"IF(#REF!=\"\",\"\",#REF!)","v":{"$error":"#REF!"}},{"$f":"IF(#REF!=\"\",\"\",#REF!)","v":{"$error":"#REF!"}},{"$f":"IF(#REF!=\"\",\"\",#REF!)","v":{"$error":"#REF!"}},{"$f":"IF(#REF!=\"\",\"\",#REF!)","v":{"$error":"#REF!"}},{"$f":"IF(#REF!=\"\",\"\",#REF!)","v":{"$error":"#REF!"}},{"$f":"IF(#REF!=\"\",\"\",#REF!)","v":{"$error":"#REF!"}},{"$f":"IF(#REF!=\"\",\"\",#REF!)","v":{"$error":"#REF!"}},{"$f":"IF(#REF!=\"\",\"\",#REF!)","v":{"$error":"#REF!"}},{"$f":"IF(#REF!=\"\",\"\",#REF!)","v":{"$error":"#REF!"}},{"$f":"IF(#REF!=\"\",\"\",#REF!)","v":{"$error":"#REF!"}},{"$f":"IF(#REF!=\"\",\"\",#REF!)","v":{"$error":"#REF!"}},{"$f":"IF(#REF!=\"\",\"\",#REF!)","v":{"$error":"#REF!"}},{"$f":"IF(#REF!=\"\",\"\",#REF!)","v":{"$error":"#REF!"}},{"$f":"IF(#REF!=\"\",\"\",#REF!)","v":{"$error":"#REF!"}},{"$f":"IF(#REF!=\"\",\"\",#REF!)","v":{"$error":"#REF!"}},{"$error":"#REF!"},{"$f":"IF(#REF!=\"\",\"\",#REF!)","v":{"$error":"#REF!"}},{"$f":"IF(#REF!=\"\",\"\",#REF!)","v":{"$error":"#REF!"}},{"$f":"IF(#REF!=\"\",\"\",#REF!)","v":{"$error":"#REF!"}},{"$f":"IF(#REF!=\"\",\"\",#REF!)","v":{"$error":"#REF!"}},{"$f":"IF(#REF!=\"\",\"\",#REF!)","v":{"$error":"#REF!"}},{"$f":"#REF!","v":{"$error":"#REF!"}},{"$f":"#REF!","v":{"$error":"#REF!"}},{"$f":"#REF!","v":{"$error":"#REF!"}},{"$f":"#REF!","v":{"$error":"#REF!"}},{"$error":"#REF!"},{"$f":"#REF!","v":{"$error":"#REF!"}},{"$f":"#REF!","v":{"$error":"#REF!"}},{"$f":"#REF!","v":{"$error":"#REF!"}},{"$f":"#REF!","v":{"$error":"#REF!"}},{"$f":"#REF!","v":{"$error":"#REF!"}},{"$error":"#REF!"},{"$f":"#REF!","v":{"$error":"#REF!"}},{"$f":"#REF!","v":{"$error":"#REF!"}},{"$f":"#REF!","v":{"$error":"#REF!"}},{"$f":"#REF!","v":{"$error":"#REF!"}},{"$f":"#REF!","v":{"$error":"#REF!"}},{"$f":"#REF!","v":{"$error":"#REF!"}},{"$f":"#REF!","v":{"$error":"#REF!"}},{"$f":"#REF!","v":{"$error":"#REF!"}},{"$f":"#REF!","v":{"$error":"#REF!"}},{"$f":"#REF!","v":{"$error":"#REF!"}},{"$f":"#REF!","v":{"$error":"#REF!"}},{"$f":"#REF!","v":{"$error":"#REF!"}},{"$f":"#REF!","v":{"$error":"#REF!"}},{"$f":"#REF!","v":{"$error":"#REF!"}},{"$f":"#REF!","v":{"$error":"#REF!"}},{"$f":"#REF!","v":{"$error":"#REF!"}},{"$f":"#REF!","v":{"$error":"#REF!"}},{"$f":"#REF!","v":{"$error":"#REF!"}},{"$f":"#REF!","v":{"$error":"#REF!"}},{"$f":"#REF!","v":{"$error":"#REF!"}},{"$f":"#REF!","v":{"$error":"#REF!"}},{"$f":"#REF!","v":{"$error":"#REF!"}},{"$f":"#REF!","v":{"$error":"#REF!"}},{"$f":"#REF!","v":{"$error":"#REF!"}},{"$f":"#REF!","v":{"$error":"#REF!"}},{"$f":"#REF!","v":{"$error":"#REF!"}},{"$f":"IF(#REF!=\"\",\"\",#REF!)","v":{"$error":"#REF!"}},{"$error":"#REF!"},{"$f":"IF(#REF!=\"\",\"\",#REF!)","v":{"$error":"#REF!"}},{"$f":"IF(#REF!=\"\",\"\",#REF!)","v":{"$error":"#REF!"}},{"$f":"IF(#REF!=\"\",\"\",#REF!)","v":{"$error":"#REF!"}},{"$f":"IF(#REF!=\"\",\"\",#REF!)","v":{"$error":"#REF!"}},{"$f":"IF(#REF!=\"\",\"\",#REF!)","v":{"$error":"#REF!"}},{"$f":"#REF!","v":{"$error":"#REF!"}},{"$f":"IF(#REF!=\"\",\"\",#REF!)","v":{"$error":"#REF!"}},{"$f":"#REF!","v":{"$error":"#REF!"}},{"$f":"IF(#REF!=\"\",\"\",#REF!)","v":{"$error":"#REF!"}},{"$f":"IF(#REF!=\"\",\"\",#REF!)","v":{"$error":"#REF!"}},{"$f":"#REF!","v":{"$error":"#REF!"}},{"$f":"#REF!","v":{"$error":"#REF!"}},{"$f":"IF(#REF!=\"\",\"\",#REF!)","v":{"$error":"#REF!"}},{"$f":"#REF!","v":{"$error":"#REF!"}},{"$f":"#REF!","v":{"$error":"#REF!"}},{"$f":"#REF!","v":{"$error":"#REF!"}},{"$f":"#REF!","v":{"$error":"#REF!"}},{"$f":"#REF!","v":{"$error":"#REF!"}},{"$f":"#REF!","v":{"$error":"#REF!"}},{"$f":"#REF!","v":{"$error":"#REF!"}},{"$f":"#REF!","v":{"$error":"#REF!"}},{"$f":"#REF!","v":{"$error":"#REF!"}},{"$f":"#REF!","v":{"$error":"#REF!"}},{"$f":"#REF!","v":{"$error":"#REF!"}},{"$f":"#REF!","v":{"$error":"#REF!"}},{"$f":"#REF!","v":{"$error":"#REF!"}},{"$f":"#REF!","v":{"$error":"#REF!"}},{"$f":"#REF!","v":{"$error":"#REF!"}},null,null,null,null,null,null,null,null,null,null,null,null,null,null,null,null,null,null,null,null,null,null,{"$f":"IF(#REF!=\"\",\"\",#REF!)","v":{"$error":"#REF!"}},{"$f":"IF(#REF!=\"\",\"\",#REF!)","v":{"$error":"#REF!"}},{"$f":"IF(#REF!=\"\",\"\",#REF!)","v":{"$error":"#REF!"}},null,{"$f":"IF(#REF!=\"\",\"\",#REF!)","v":{"$error":"#REF!"}},{"$f":"IF(#REF!=\"\",\"\",#REF!)","v":{"$error":"#REF!"}},{"$f":"IF(#REF!=\"\",\"\",#REF!)","v":{"$error":"#REF!"}},{"$f":"IF(#REF!=\"\",\"\",#REF!)","v":{"$error":"#REF!"}},null,{"$f":"IF(#REF!=\"\",\"\",#REF!)","v":{"$error":"#REF!"}},{"$f":"IF(#REF!=\"\",\"\",#REF!)","v":{"$error":"#REF!"}},{"$f":"IF(#REF!=\"\",\"\",#REF!)","v":{"$error":"#REF!"}},{"$f":"IF(#REF!=\"\",\"\",#REF!)","v":{"$error":"#REF!"}},null,{"$f":"IF(#REF!=\"\",\"\",#REF!)","v":{"$error":"#REF!"}},null,null,null,null,null,null,null,"",{"$f":"IF(#REF!=\"\",\"\",#REF!)","v":{"$error":"#REF!"}}]

{"sheet":"リスト","index":2,"n_rows":59,"n_cols":9,"rows_kept":59,"cut":false,"hidden":true,"merged":[]}
["ken-code","ken-name",null,"jigyou-menu","koufu-ritsu","数値","taisaku",null,"shisaku"]
[1,"北海道","","1.対面相談事業","1/2",0.5,"該当なし",null,"0. 該当なし"]
[2,"青森県","","2.電話相談事業","1/2",0.5,"基本1. 地域におけるネットワークの強化",null,"1. 地域レベルの実践的な取組への支援を強化する"]
[3,"岩手県","","3.人材養成事業","1/2",0.5,"基本2-1. 自殺対策を支える人材の育成（さまざまな職種を対象とする研修）",null,"2. 国民一人ひとりの気づきと見守りを促す"]
[4,"宮城県","","4.普及啓発事業","1/2",0.5,"基本2-2. 自殺対策を支える人材の育成（一般住民を対象とする研修）",null,"3. 自殺総合対策の推進に資する調査研究等を推進する"]
[5,"秋田県","","5.自死遺族支援機能構築事業","1/2",0.5,"基本2-3. 自殺対策を支える人材の育成（学校教育・社会教育に関わる人への研修）",null,"4. 自殺対策に係る人材の確保、養成及び資質の向上を図る"]
[6,"山形県","","6.計画策定実態調査事業","1/2",0.5,"基本2-4. 自殺対策を支える人材の育成（関係者間の連携調整を担う人材の育成）",null,"5. 心の健康を支援する環境の整備と心の健康づくりを推進する"]
[7,"福島県","","7.若年層対策事業","2/3",0.66666666666666652,"基本2-5. 自殺対策を支える人材の育成（寄り添いながら伴走型支援を担う人材の育成）",null,"6. 適切な精神保健医療福祉サービスを受けられるようにする"]
[8,"茨城県","","8.SNS相談事業","2/3",0.66666666666666652,"基本2-6. 自殺対策を支える人材の育成（その他）",null,"7. 社会全体の自殺リスクを低下させる"]
[9,"栃木県","","9.深夜電話相談強化事業","2/3",0.66666666666666652,"基本3-1. 住民への啓発と周知（リーフレット・啓発グッズ等の作成と活用）",null,"8. 自殺未遂者の再度の自殺企図を防ぐ"]
[10,"群馬県","","10.自殺未遂者支援事業","2/3",0.66666666666666652,"基本3-2. 住民への啓発と周知（市民向け講演会・イベント等の開催）",null,"9. 遺された人への支援を充実する"]
[11,"埼玉県","","11.災害時自殺対策継続支援事業","2/3",0.66666666666666652,"基本3-3. 住民への啓発と周知（メディアを活用した啓発）",null,"10. 民間団体との連携を強化する"]
[12,"千葉県","","12.自殺未遂者支援・連携体制構築事業","10/10",1,"基本3-4. 住民への啓発と周知（その他）",null,"11. 子ども・若者の自殺対策を更に推進する"]
[13,"東京都","","13.災害時自殺対策事業","10/10",1,"基本4-1. 生きることの促進要因への支援（居場所づくり活動）",null,"12. 勤務問題による自殺対策を更に推進する"]
[14,"神奈川県","","14.ハイリスク地対策事業","10/10",1,"基本4-2. 生きることの促進要因への支援（自殺未遂者等への支援）"]
[15,"新潟県","","15.地域特性重点特化事業","10/10",1,"基本4-3. 生きることの促進要因への支援（遺された人への支援）"]
[16,"富山県","",null,null,null,"基本4-4. 生きることの促進要因への支援（その他）"]
[17,"石川県","",null,null,null,"基本5-1. 児童生徒のＳＯＳの出し方に関する教育（ＳＯＳの出し方に関する教育の実施）"]
[18,"福井県","",null,null,null,"基本5-2. 児童生徒のＳＯＳの出し方に関する教育（ＳＯＳの出し方に関する教育を推進するための連携の強化）"]
[19,"山梨県","",null,null,null,"基本5-3. 児童生徒のＳＯＳの出し方に関する教育（その他）"]
[20,"長野県","",null,null,null,"重点1-1. 子ども・若者（いじめを苦にした子どもの自殺の予防）"]
[21,"岐阜県","",null,null,null,"重点1-2. 子ども・若者（若者の抱えやすい課題に着目した学生・生徒等への支援の充実）"]
[22,"静岡県","",null,null,null,"重点1-3. 子ども・若者（経済的困難を抱える子ども等への支援の充実）"]
[23,"愛知県","",null,null,null,"重点1-4. 子ども・若者（ＩＣＴを活用した若者へのアウトリーチの強化等）"]
[24,"三重県","",null,null,null,"重点1-5. 子ども・若者（若者自身が身近な相談者になるための取組）"]
[25,"滋賀県","",null,null,null,"重点1-6. 子ども・若者（社会全体で若者の自殺のリスクを低減させるための取組）"]
[26,"京都府","",null,null,null,"重点1-7. 子ども・若者（その他）"]
[27,"大阪府","",null,null,null,"重点2-1. 勤務・経営（職場におけるメンタルヘルス対策の推進）"]
[28,"兵庫県","",null,null,null,"重点2-2. 勤務・経営（過労自殺を含む過労死等の防止について）"]
[29,"奈良県","",null,null,null,"重点2-3. 勤務・経営（長時間労働の是正）"]
[30,"和歌山県","",null,null,null,"重点2-4. 勤務・経営（ハラスメント防止対策）"]
[31,"鳥取県","",null,null,null,"重点2-5. 勤務・経営（経営者に対する相談事業の実施等）"]
[32,"島根県","",null,null,null,"重点2-6. 勤務・経営（その他）"]
[33,"岡山県","",null,null,null,"重点3-1. 生活困窮者（相談支援、人材育成の推進）"]
[34,"広島県","",null,null,null,"重点3-2. 生活困窮者（居場所づくりや生活支援の充実）"]
[35,"山口県","",null,null,null,"重点3-3. 生活困窮者（自殺対策と生活困窮者自立支援制度との連動）"]
[36,"徳島県","",null,null,null,"重点3-4. 生活困窮者（その他）"]
[37,"香川県","",null,null,null,"重点4-1. 無職者・失業者（失業者等に対する相談窓口等の充実）"]
[38,"愛媛県","",null,null,null,"重点4-2. 無職者・失業者（職業的自立へ向けた若者への支援の充実）"]
[39,"高知県","",null,null,null,"重点4-3. 無職者・失業者（無職者・失業者の居場所づくり等の推進）"]
[40,"福岡県","",null,null,null,"重点4-4. 無職者・失業者（その他）"]
[41,"佐賀県","",null,null,null,"重点5-1. 高齢者（包括的な支援のための連携の推進）"]
[42,"長崎県","",null,null,null,"重点5-2. 高齢者（地域における要介護者に対する支援）"]
[43,"熊本県","",null,null,null,"重点5-3. 高齢者（高齢者の健康不安に対する支援）"]
[44,"大分県","",null,null,null,"重点5-4. 高齢者（社会参加の強化と孤独・孤立の予防）"]
[45,"宮崎県","",null,null,null,"重点5-5. 高齢者（その他）"]
[46,"鹿児島県","",null,null,null,"重点6-1. ハイリスク地（関係者によるパトロールや監視カメラの使用）"]
[47,"沖縄県","",null,null,null,"重点6-2. ハイリスク地（自殺念慮者に対するシェルターによる一時保護と生活支援）"]
[null,null,null,null,null,null,"重点6-3. ハイリスク地（自殺念慮者が援助を求めやすくなるような取組）"]
[null,null,null,null,null,null,"重点6-4. ハイリスク地（飛び降り・飛び込み防止等の取組）"]
[null,null,null,null,null,null,"重点6-5. ハイリスク地（その他）"]
[null,null,null,null,null,null,"重点7-1. 震災等被災地（大規模災害被災者に対する支援対策の推進）"]
[null,null,null,null,null,null,"重点7-2. 震災等被災地（アルコール依存症・ギャンブル依存症等に対する支援の充実）"]
[null,null,null,null,null,null,"重点7-3. 震災等被災地（被災地域でのアウトリーチの強化や多職種・多部門連携による寄り添い支援）"]
[null,null,null,null,null,null,"重点7-4. 震災等被災地（その他）"]
[null,null,null,null,null,null,"重点8-1. 自殺手段（飛び降り・飛び込み防止等の取組）"]
[null,null,null,null,null,null,"重点8-2. 自殺手段（農薬・ガス［練炭による一酸化炭素等］を用いた自殺の防止）"]
[null,null,null,null,null,null,"重点8-3. 自殺手段（過量服薬等防止の取組）"]
[null,null,null,null,null,null,"重点8-4. 自殺手段（その他）"]

{"sheet":"応募申請書（鑑）","index":3,"n_rows":25,"n_cols":31,"rows_kept":25,"cut":false,"hidden":false,"merged":[[1,20,1,21],[1,22,1,23],[3,19,3,30],[4,20,4,30],[5,23,5,30],[7,0,7,30],[12,0,12,30],[14,9,14,16],[9,0,10,30]]}
[]
[null,null,null,null,null,null,null,null,null,null,null,null,null,null,null,null,null,null,null,null,null,null,"令和",null,null,null,"年",null,"月",null,"日"]
[null,null,"高知県知事　　　　様"]
[null,null,null,null,null,null,null,null,null,null,null,null,null,null,null,null,null,"住所"]
[null,null,null,null,null,null,null,null,null,null,null,null,null,null,null,null,null,"団体名"]
[null,null,null,null,null,null,null,null,null,null,null,null,null,null,null,null,null,"代表者（職・氏名）"]
[]
["高知県自殺対策強化事業費（ひきこもり自律支援）補助金の応募申請について"]
[]
["　令和７年度において、高知県自殺対策強化事業（ひきこもり自律支援）を実施したいので、下記のとおり関係書類を提出します。"]
[]
[]
["記"]
[]
[null,null,1,"　計画所用額",null,null,null,null,"金",null,null,null,null,null,null,null,null,"円"]
[]
[null,null,2,"　関係書類"]
[null,null,null,"（１）　高知県自殺対策強化事業（ひきこもり自律支援）所用額調（別紙１）"]
[null,null,null,"（２）　高知県自殺対策強化事業（ひきこもり自律支援）実施計画総括表（別紙２－1）"]
[null,null,null,"（３）　高知県自殺対策強化事業（ひきこもり自律支援）実施計画書（別紙２－２）"]
[null,null,null,"（４）　事業別支出内訳（別紙３）"]
[null,null,null,"（５）　歳入歳出予算書（別紙４）"]
[null,null,null,"（６)　定款、規約又は会則及び会員名簿"]
[null,null,null,"（７)　直近の決算書類"]
[null,null,null,"（８)  その他参考となる資料"]

{"sheet":"別紙１（所要額調）","index":4,"n_rows":11,"n_cols":12,"rows_kept":11,"cut":false,"hidden":false,"merged":[[2,0,2,11],[7,2,7,3],[9,1,9,2],[10,1,10,2],[11,1,11,2],[5,0,6,3]]}
["別紙１"]
[null,null,null,null,null,null,null,null,null,"団体名："]
["高知県自殺対策強化事業(ひきこもり自律支援）所要額調"]
[]
[null,null,null,null,null,null,null,null,null,null,null,"（単位：円）"]
["区　　　　　　　　分",null,null,null,"総事業費","寄付金その他\nの収入額","差引額","基準額","対象経費\n支出予定額","補助基本額　※1","補助金所要額　※2","備　　　考"]
[null,null,null,null,"Ａ","Ｂ","Ｃ（Ａ－Ｂ）","Ｄ","Ｅ","Ｆ","Ｇ"]
[null,null,"団体名"]
[null,"【記入の際の注意事項】"]
[null,"※1",null,"F欄には、D欄とE欄を比較して低い方の金額を記入してください。"]
[null,"※2",null,"G欄には、1,000円未満を切り捨てた金額を記入してください。"]

{"sheet":"list","index":5,"n_rows":8,"n_cols":14,"rows_kept":8,"cut":false,"hidden":true,"merged":[]}
["該当なし","基本1","基本2","基本3","基本4","基本5","重点1","重点2","重点3","重点4","重点5","重点6","重点7","重点8"]
["該当なし","基本1. 地域におけるネットワークの強化","基本2-1. 自殺対策を支える人材の育成（さまざまな職種を対象とする研修）","基本3-1. 住民への啓発と周知（リーフレット・啓発グッズ等の作成と活用）","基本4-1. 生きることの促進要因への支援（居場所づくり活動）","基本5-1. 児童生徒のＳＯＳの出し方に関する教育（ＳＯＳの出し方に関する教育の実施）","重点1-1. 子ども・若者（いじめを苦にした子どもの自殺の予防）","重点2-1. 勤務・経営（職場におけるメンタルヘルス対策の推進）","重点3-1. 生活困窮者（相談支援、人材育成の推進）","重点4-1. 無職者・失業者（失業者等に対する相談窓口等の充実）","重点5-1. 高齢者（包括的な支援のための連携の推進）","重点6-1. ハイリスク地（関係者によるパトロールや監視カメラの使用）","重点7-1. 震災等被災地（大規模災害被災者に対する支援対策の推進）","重点8-1. 自殺手段（飛び降り・飛び込み防止等の取組）"]
[null,null,"基本2-2. 自殺対策を支える人材の育成（一般住民を対象とする研修）","基本3-2. 住民への啓発と周知（市民向け講演会・イベント等の開催）","基本4-2. 生きることの促進要因への支援（自殺未遂者等への支援）","基本5-2. 児童生徒のＳＯＳの出し方に関する教育（ＳＯＳの出し方に関する教育を推進するための連携の強化）","重点1-2. 子ども・若者（若者の抱えやすい課題に着目した学生・生徒等への支援の充実）","重点2-2. 勤務・経営（過労自殺を含む過労死等の防止について）","重点3-2. 生活困窮者（居場所づくりや生活支援の充実）","重点4-2. 無職者・失業者（職業的自立へ向けた若者への支援の充実）","重点5-2. 高齢者（地域における要介護者に対する支援）","重点6-2. ハイリスク地（自殺念慮者に対するシェルターによる一時保護と生活支援）","重点7-2. 震災等被災地（アルコール依存症・ギャンブル依存症等に対する支援の充実）","重点8-2. 自殺手段（農薬・ガス［練炭による一酸化炭素等］を用いた自殺の防止）"]
[null,null,"基本2-3. 自殺対策を支える人材の育成（学校教育・社会教育に関わる人への研修）","基本3-3. 住民への啓発と周知（メディアを活用した啓発）","基本4-3. 生きることの促進要因への支援（遺された人への支援）","基本5-3. 児童生徒のＳＯＳの出し方に関する教育（その他）","重点1-3. 子ども・若者（経済的困難を抱える子ども等への支援の充実）","重点2-3. 勤務・経営（長時間労働の是正）","重点3-3. 生活困窮者（自殺対策と生活困窮者自立支援制度との連動）","重点4-3. 無職者・失業者（無職者・失業者の居場所づくり等の推進）","重点5-3. 高齢者（高齢者の健康不安に対する支援）","重点6-3. ハイリスク地（自殺念慮者が援助を求めやすくなるような取組）","重点7-3. 震災等被災地（被災地域でのアウトリーチの強化や多職種・多部門連携による寄り添い支援）","重点8-3. 自殺手段（過量服薬等防止の取組）"]
[null,null,"基本2-4. 自殺対策を支える人材の育成（関係者間の連携調整を担う人材の育成）","基本3-4. 住民への啓発と周知（その他）","基本4-4. 生きることの促進要因への支援（その他）",null,"重点1-4. 子ども・若者（ＩＣＴを活用した若者へのアウトリーチの強化等）","重点2-4. 勤務・経営（ハラスメント防止対策）","重点3-4. 生活困窮者（その他）","重点4-4. 無職者・失業者（その他）","重点5-4. 高齢者（社会参加の強化と孤独・孤立の予防）","重点6-4. ハイリスク地（飛び降り・飛び込み防止等の取組）","重点7-4. 震災等被災地（その他）","重点8-4. 自殺手段（その他）"]
[null,null,"基本2-5. 自殺対策を支える人材の育成（寄り添いながら伴走型支援を担う人材の育成）",null,null,null,"重点1-5. 子ども・若者（若者自身が身近な相談者になるための取組）","重点2-5. 勤務・経営（経営者に対する相談事業の実施等）",null,null,"重点5-5. 高齢者（その他）","重点6-5. ハイリスク地（その他）"]
[null,null,"基本2-6. 自殺対策を支える人材の育成（その他）",null,null,null,"重点1-6. 子ども・若者（社会全体で若者の自殺のリスクを低減させるための取組）","重点2-6. 勤務・経営（その他）"]
[null,null,null,null,null,null,"重点1-7. 子ども・若者（その他）"]

{"sheet":"書式1","index":6,"n_rows":67,"n_cols":24,"rows_kept":67,"cut":false,"hidden":true,"merged":[[2,0,2,23],[4,0,4,2],[4,3,4,5],[4,6,4,8],[4,9,4,18],[4,19,4,21],[4,22,4,23],[6,0,6,3],[6,4,6,23],[7,0,7,2],[7,3,7,4],[7,5,7,6],[7,7,7,10],[7,11,7,12],[8,0,8,4],[8,5,8,19],[8,20,8,21],[8,22,8,23],[23,7,23,23],[24,7,24,23],[25,7,25,23],[26,7,26,23],[27,7,27,23],[31,3,31,6],[31,7,31,23],[32,4,32,23],[33,4,33,23],[34,4,34,23],[35,4,35,23],[36,4,36,23],[37,1,37,2],[37,3,37,23],[38,1,38,2],[38,3,38,23],[41,0,41,2],[41,3,41,14],[42,3,42,4],[42,5,42,16],[42,17,42,20],[42,21,42,23],[43,3,43,5],[43,6,43,7],[43,9,43,12],[43,13,43,14],[44,4,44,6],[44,7,44,9],[44,10,44,22],[45,4,45,6],[45,7,45,9],[45,10,45,22],[46,1,46,4],[46,5,46,9],[46,11,46,17],[46,18,46,22],[47,1,47,4],[47,5,47,9],[47,11,47,17],[47,18,47,22],[48,4,48,8],[48,9,48,13],[48,14,48,18],[48,19,48,23],[49,4,49,7],[49,9,49,12],[49,14,49,17],[49,19,49,22],[50,4,50,8],[50,9,50,13],[50,14,50,18],[50,19,50,23],[51,4,51,7],[51,9,51,12],[51,14,51,17],[51,19,51,22],[52,4,52,8],[52,9,52,13],[52,14,52,18],[52,19,52,23],[53,4,53,7],[53,9,53,12],[53,14,53,17],[53,19,53,22],[54,4,54,16],[54,17,54,18],[54,19,54,22],[55,1,55,4],[55,5,55,8],[55,10,55,13],[55,14,55,17],[56,1,56,4],[56,5,56,8],[56,10,56,18],[56,19,56,22],[57,2,57,3],[57,4,57,23],[58,2,58,3],[58,4,58,7],[58,9,58,11],[59,2,59,3],[59,4,59,23],[60,2,60,3],[60,4,60,23],[61,2,61,3],[61,4,61,7],[61,9,61,11],[62,2,62,3],[62,4,62,23],[63,2,63,3],[63,4,63,23],[64,2,64,3],[64,4,64,7],[64,9,64,11],[65,2,65,3],[65,4,65,23],[9,0,12,2],[9,3,12,23],[13,0,14,2],[13,3,14,23],[15,0,16,2],[15,3,16,23],[17,0,22,2],[17,3,22,23],[23,3,27,5],[28,3,30,6],[28,7,30,23],[32,0,36,2],[37,0,40,0],[39,1,40,2],[39,3,40,23],[42,0,43,2],[44,0,45,2],[57,1,59,1],[60,1,62,1],[63,1,65,1],[66,0,67,2],[66,3,67,23],[23,0,31,2],[46,0,56,0],[48,1,54,3],[57,0,65,0]]}
[]
[]
["地域自殺対策強化事業実施計画書"]
[]
["都道府県",null,null,null,null,null,"市区町村",null,null,null,null,null,null,null,null,null,null,null,null,"事業No."]
[]
["交付金事業名"]
["実施年度",null,null,null,null,"年度",null,"新規・継続の別"]
["交付金事業メニュー",null,null,null,null,null,null,null,null,null,null,null,null,null,null,null,null,null,null,null,"交付率"]
["本事業を実施する背景"]
[]
[]
[]
["事業の目的"]
[]
["期待される効果"]
[]
["事業の内容"]
[]
[]
[]
[]
[]
["地域自殺対策計画における項目",null,null,"政策パッケージでの分類（順序不同）",null,null,1]
[null,null,null,null,null,null,2]
[null,null,null,null,null,null,3]
[null,null,null,null,null,null,4]
[null,null,null,null,null,null,5]
[null,null,null,"上記以外の項目の場合、具体的に記載"]
[]
[]
[null,null,null,"該当する施策群"]
["該当する自殺総合対策大綱における当面の重点施策（順序不同）",null,null,1]
[null,null,null,2]
[null,null,null,3]
[null,null,null,4]
[null,null,null,5]
["主な対象者","性別"]
[null,"年齢層"]
[null,"その他の属性"]
[]
["取組区分"]
["担当部署",null,null,"部署名",null,null,null,null,null,null,null,null,null,null,null,null,null,"専任・併任の別"]
[null,null,null,"常勤職員数",null,null,null,null,"人","非常勤職員数",null,null,null,null,null,"人"]
["事業形態",null,null,null,"委託事業",null,null,"（委託先：",null,null,null,null,null,null,null,null,null,null,null,null,null,null,null,"）"]
[null,null,null,null,"補助事業",null,null,"（補助先：",null,null,null,null,null,null,null,null,null,null,null,null,null,null,null,"）"]
["交付金所要額","総事業費(A)",null,null,null,null,null,null,null,null,"円","寄付金その他の収入額(B)",null,null,null,null,null,null,null,null,null,null,null,"円"]
[null,"差引(C=A-B)",null,null,null,null,null,null,null,null,"円","基準額(D)",null,null,null,null,null,null,null,null,null,null,null,"円"]
[null,"対象経費の支出予定額(E)",null,null,"報酬",null,null,null,null,"賃金",null,null,null,null,"報償費",null,null,null,null,"旅費"]
[null,null,null,null,null,null,null,null,"円",null,null,null,null,"円",null,null,null,null,"円",null,null,null,null,"円"]
[null,null,null,null,"需用費",null,null,null,null,"役務費",null,null,null,null,"使用料・賃借料",null,null,null,null,"工事費"]
[null,null,null,null,null,null,null,null,"円",null,null,null,null,"円",null,null,null,null,"円",null,null,null,null,"円"]
[null,null,null,null,"備品\n購入費",null,null,null,null,"委託料",null,null,null,null,"負担金",null,null,null,null,"補助金等"]
[null,null,null,null,null,null,null,null,"円",null,null,null,null,"円",null,null,null,null,"円",null,null,null,null,"円"]
[null,null,null,null,null,null,null,null,null,null,null,null,null,null,null,null,null,"計",null,null,null,null,null,"円"]
[null,"交付基本額(F)",null,null,null,null,null,null,null,"円","交付金所要額(G)",null,null,null,null,null,null,null,"円"]
[null,"既交付決定額(H)",null,null,null,null,null,null,null,"円","差引追加交付(一部取消)申請額(I=G-H)",null,null,null,null,null,null,null,null,null,null,null,null,"円"]
["評価指標",1,"指標名"]
[null,null,"目標値",null,null,null,null,null,"[",null,null,null,"]"]
[null,null,"備考"]
[null,2,"指標名"]
[null,null,"目標値",null,null,null,null,null,"[",null,null,null,"]"]
[null,null,"備考"]
[null,3,"指標名"]
[null,null,"目標値",null,null,null,null,null,"[",null,null,null,"]"]
[null,null,"備考"]
["備考"]

{"sheet":"市町村コード","index":7,"n_rows":1744,"n_cols":7,"rows_kept":1744,"cut":false,"hidden":true,"merged":[]}
["*",null,"団体コード","都道府県名\n（漢字）","市区町村名\n（漢字）","都道府県名\n（カナ）","市区町村名\n（カナ）"]
[{"$f":"ROUNDDOWN(C2/10000,0)","v":1},1100,"011002","北海道","札幌市","ﾎｯｶｲﾄﾞｳ","ｻｯﾎﾟﾛｼ"]
[1,1202,"012025","北海道","函館市","ﾎｯｶｲﾄﾞｳ","ﾊｺﾀﾞﾃｼ"]
[1,1203,"012033","北海道","小樽市","ﾎｯｶｲﾄﾞｳ","ｵﾀﾙｼ"]
[1,1204,"012041","北海道","旭川市","ﾎｯｶｲﾄﾞｳ","ｱｻﾋｶﾜｼ"]
[1,1205,"012050","北海道","室蘭市","ﾎｯｶｲﾄﾞｳ","ﾑﾛﾗﾝｼ"]
[1,1206,"012068","北海道","釧路市","ﾎｯｶｲﾄﾞｳ","ｸｼﾛｼ"]
[1,1207,"012076","北海道","帯広市","ﾎｯｶｲﾄﾞｳ","ｵﾋﾞﾋﾛｼ"]
[1,1208,"012084","北海道","北見市","ﾎｯｶｲﾄﾞｳ","ｷﾀﾐｼ"]
[1,1209,"012092","北海道","夕張市","ﾎｯｶｲﾄﾞｳ","ﾕｳﾊﾞﾘｼ"]
[1,1210,"012106","北海道","岩見沢市","ﾎｯｶｲﾄﾞｳ","ｲﾜﾐｻﾞﾜｼ"]
[1,1211,"012114","北海道","網走市","ﾎｯｶｲﾄﾞｳ","ｱﾊﾞｼﾘｼ"]
[1,1212,"012122","北海道","留萌市","ﾎｯｶｲﾄﾞｳ","ﾙﾓｲｼ"]
[1,1213,"012131","北海道","苫小牧市","ﾎｯｶｲﾄﾞｳ","ﾄﾏｺﾏｲｼ"]
[1,1214,"012149","北海道","稚内市","ﾎｯｶｲﾄﾞｳ","ﾜｯｶﾅｲｼ"]
[1,1215,"012157","北海道","美唄市","ﾎｯｶｲﾄﾞｳ","ﾋﾞﾊﾞｲｼ"]
[1,1216,"012165","北海道","芦別市","ﾎｯｶｲﾄﾞｳ","ｱｼﾍﾞﾂｼ"]
[1,1217,"012173","北海道","江別市","ﾎｯｶｲﾄﾞｳ","ｴﾍﾞﾂｼ"]
[1,1218,"012181","北海道","赤平市","ﾎｯｶｲﾄﾞｳ","ｱｶﾋﾞﾗｼ"]
[1,1219,"012190","北海道","紋別市","ﾎｯｶｲﾄﾞｳ","ﾓﾝﾍﾞﾂｼ"]
[1,1220,"012203","北海道","士別市","ﾎｯｶｲﾄﾞｳ","ｼﾍﾞﾂｼ"]
[1,1221,"012211","北海道","名寄市","ﾎｯｶｲﾄﾞｳ","ﾅﾖﾛｼ"]
[1,1222,"012220","北海道","三笠市","ﾎｯｶｲﾄﾞｳ","ﾐｶｻｼ"]
[1,1223,"012238","北海道","根室市","ﾎｯｶｲﾄﾞｳ","ﾈﾑﾛｼ"]
[1,1224,"012246","北海道","千歳市","ﾎｯｶｲﾄﾞｳ","ﾁﾄｾｼ"]
[1,1225,"012254","北海道","滝川市","ﾎｯｶｲﾄﾞｳ","ﾀｷｶﾜｼ"]
[1,1226,"012262","北海道","砂川市","ﾎｯｶｲﾄﾞｳ","ｽﾅｶﾞﾜｼ"]
[1,1227,"012271","北海道","歌志内市","ﾎｯｶｲﾄﾞｳ","ｳﾀｼﾅｲｼ"]
[1,1228,"012289","北海道","深川市","ﾎｯｶｲﾄﾞｳ","ﾌｶｶﾞﾜｼ"]
[1,1229,"012297","北海道","富良野市","ﾎｯｶｲﾄﾞｳ","ﾌﾗﾉｼ"]
[1,1230,"012301","北海道","登別市","ﾎｯｶｲﾄﾞｳ","ﾉﾎﾞﾘﾍﾞﾂｼ"]
[1,1231,"012319","北海道","恵庭市","ﾎｯｶｲﾄﾞｳ","ｴﾆﾜｼ"]
[1,1233,"012335","北海道","伊達市","ﾎｯｶｲﾄﾞｳ","ﾀﾞﾃｼ"]
[1,1234,"012343","北海道","北広島市","ﾎｯｶｲﾄﾞｳ","ｷﾀﾋﾛｼﾏｼ"]
[1,1235,"012351","北海道","石狩市","ﾎｯｶｲﾄﾞｳ","ｲｼｶﾘｼ"]
[1,1236,"012360","北海道","北斗市","ﾎｯｶｲﾄﾞｳ","ﾎｸﾄｼ"]
[1,1303,"013030","北海道","当別町","ﾎｯｶｲﾄﾞｳ","ﾄｳﾍﾞﾂﾁｮｳ"]
[1,1304,"013048","北海道","新篠津村","ﾎｯｶｲﾄﾞｳ","ｼﾝｼﾉﾂﾑﾗ"]
[1,1331,"013315","北海道","松前町","ﾎｯｶｲﾄﾞｳ","ﾏﾂﾏｴﾁｮｳ"]
[1,1332,"013323","北海道","福島町","ﾎｯｶｲﾄﾞｳ","ﾌｸｼﾏﾁｮｳ"]
[1,1333,"013331","北海道","知内町","ﾎｯｶｲﾄﾞｳ","ｼﾘｳﾁﾁｮｳ"]
[1,1334,"013340","北海道","木古内町","ﾎｯｶｲﾄﾞｳ","ｷｺﾅｲﾁｮｳ"]
[1,1337,"013374","北海道","七飯町","ﾎｯｶｲﾄﾞｳ","ﾅﾅｴﾁｮｳ"]
[1,1343,"013439","北海道","鹿部町","ﾎｯｶｲﾄﾞｳ","ｼｶﾍﾞﾁｮｳ"]
[1,1345,"013455","北海道","森町","ﾎｯｶｲﾄﾞｳ","ﾓﾘﾏﾁ"]
[1,1346,"013463","北海道","八雲町","ﾎｯｶｲﾄﾞｳ","ﾔｸﾓﾁｮｳ"]
[1,1347,"013471","北海道","長万部町","ﾎｯｶｲﾄﾞｳ","ｵｼｬﾏﾝﾍﾞﾁｮｳ"]
[1,1361,"013617","北海道","江差町","ﾎｯｶｲﾄﾞｳ","ｴｻｼﾁｮｳ"]
[1,1362,"013625","北海道","上ノ国町","ﾎｯｶｲﾄﾞｳ","ｶﾐﾉｸﾆﾁｮｳ"]
[1,1363,"013633","北海道","厚沢部町","ﾎｯｶｲﾄﾞｳ","ｱｯｻﾌﾞﾁｮｳ"]
[1,1364,"013641","北海道","乙部町","ﾎｯｶｲﾄﾞｳ","ｵﾄﾍﾞﾁｮｳ"]
[1,1367,"013676","北海道","奥尻町","ﾎｯｶｲﾄﾞｳ","ｵｸｼﾘﾁｮｳ"]
[1,1370,"013706","北海道","今金町","ﾎｯｶｲﾄﾞｳ","ｲﾏｶﾈﾁｮｳ"]
[1,1371,"013714","北海道","せたな町","ﾎｯｶｲﾄﾞｳ","ｾﾀﾅﾁｮｳ"]
[1,1391,"013919","北海道","島牧村","ﾎｯｶｲﾄﾞｳ","ｼﾏﾏｷﾑﾗ"]
[1,1392,"013927","北海道","寿都町","ﾎｯｶｲﾄﾞｳ","ｽｯﾂﾁｮｳ"]
[1,1393,"013935","北海道","黒松内町","ﾎｯｶｲﾄﾞｳ","ｸﾛﾏﾂﾅｲﾁｮｳ"]
[1,1394,"013943","北海道","蘭越町","ﾎｯｶｲﾄﾞｳ","ﾗﾝｺｼﾁｮｳ"]
[1,1395,"013951","北海道","ニセコ町","ﾎｯｶｲﾄﾞｳ","ﾆｾｺﾁｮｳ"]
[1,1396,"013960","北海道","真狩村","ﾎｯｶｲﾄﾞｳ","ﾏｯｶﾘﾑﾗ"]
[1,1397,"013978","北海道","留寿都村","ﾎｯｶｲﾄﾞｳ","ﾙｽﾂﾑﾗ"]
[1,1398,"013986","北海道","喜茂別町","ﾎｯｶｲﾄﾞｳ","ｷﾓﾍﾞﾂﾁｮｳ"]
[1,1399,"013994","北海道","京極町","ﾎｯｶｲﾄﾞｳ","ｷｮｳｺﾞｸﾁｮｳ"]
[1,1400,"014001","北海道","倶知安町","ﾎｯｶｲﾄﾞｳ","ｸｯﾁｬﾝﾁｮｳ"]
[1,1401,"014010","北海道","共和町","ﾎｯｶｲﾄﾞｳ","ｷｮｳﾜﾁｮｳ"]
[{"$f":"ROUNDDOWN(C66/10000,0)","v":1},1402,"014028","北海道","岩内町","ﾎｯｶｲﾄﾞｳ","ｲﾜﾅｲﾁｮｳ"]
[1,1403,"014036","北海道","泊村","ﾎｯｶｲﾄﾞｳ","ﾄﾏﾘﾑﾗ"]
[1,1404,"014044","北海道","神恵内村","ﾎｯｶｲﾄﾞｳ","ｶﾓｴﾅｲﾑﾗ"]
[1,1405,"014052","北海道","積丹町","ﾎｯｶｲﾄﾞｳ","ｼｬｺﾀﾝﾁｮｳ"]
[1,1406,"014061","北海道","古平町","ﾎｯｶｲﾄﾞｳ","ﾌﾙﾋﾞﾗﾁｮｳ"]
[1,1407,"014079","北海道","仁木町","ﾎｯｶｲﾄﾞｳ","ﾆｷﾁｮｳ"]
[1,1408,"014087","北海道","余市町","ﾎｯｶｲﾄﾞｳ","ﾖｲﾁﾁｮｳ"]
[1,1409,"014095","北海道","赤井川村","ﾎｯｶｲﾄﾞｳ","ｱｶｲｶﾞﾜﾑﾗ"]
[1,1423,"014231","北海道","南幌町","ﾎｯｶｲﾄﾞｳ","ﾅﾝﾎﾟﾛﾁｮｳ"]
[1,1424,"014249","北海道","奈井江町","ﾎｯｶｲﾄﾞｳ","ﾅｲｴﾁｮｳ"]
[1,1425,"014257","北海道","上砂川町","ﾎｯｶｲﾄﾞｳ","ｶﾐｽﾅｶﾞﾜﾁｮｳ"]
[1,1427,"014273","北海道","由仁町","ﾎｯｶｲﾄﾞｳ","ﾕﾆﾁｮｳ"]
[1,1428,"014281","北海道","長沼町","ﾎｯｶｲﾄﾞｳ","ﾅｶﾞﾇﾏﾁｮｳ"]
[1,1429,"014290","北海道","栗山町","ﾎｯｶｲﾄﾞｳ","ｸﾘﾔﾏﾁｮｳ"]
[1,1430,"014303","北海道","月形町","ﾎｯｶｲﾄﾞｳ","ﾂｷｶﾞﾀﾁｮｳ"]
[1,1431,"014311","北海道","浦臼町","ﾎｯｶｲﾄﾞｳ","ｳﾗｳｽﾁｮｳ"]
[1,1432,"014320","北海道","新十津川町","ﾎｯｶｲﾄﾞｳ","ｼﾝﾄﾂｶﾜﾁｮｳ"]
[1,1433,"014338","北海道","妹背牛町","ﾎｯｶｲﾄﾞｳ","ﾓｾｳｼﾁｮｳ"]
[1,1434,"014346","北海道","秩父別町","ﾎｯｶｲﾄﾞｳ","ﾁｯﾌﾟﾍﾞﾂﾁｮｳ"]
[1,1436,"014362","北海道","雨竜町","ﾎｯｶｲﾄﾞｳ","ｳﾘｭｳﾁｮｳ"]
[1,1437,"014371","北海道","北竜町","ﾎｯｶｲﾄﾞｳ","ﾎｸﾘｭｳﾁｮｳ"]
[1,1438,"014389","北海道","沼田町","ﾎｯｶｲﾄﾞｳ","ﾇﾏﾀﾁｮｳ"]
[1,1452,"014524","北海道","鷹栖町","ﾎｯｶｲﾄﾞｳ","ﾀｶｽﾁｮｳ"]
[1,1453,"014532","北海道","東神楽町","ﾎｯｶｲﾄﾞｳ","ﾋｶﾞｼｶｸﾞﾗﾁｮｳ"]
[1,1454,"014541","北海道","当麻町","ﾎｯｶｲﾄﾞｳ","ﾄｳﾏﾁｮｳ"]
[1,1455,"014559","北海道","比布町","ﾎｯｶｲﾄﾞｳ","ﾋﾟｯﾌﾟﾁｮｳ"]
[1,1456,"014567","北海道","愛別町","ﾎｯｶｲﾄﾞｳ","ｱｲﾍﾞﾂﾁｮｳ"]
[1,1457,"014575","北海道","上川町","ﾎｯｶｲﾄﾞｳ","ｶﾐｶﾜﾁｮｳ"]
[1,1458,"014583","北海道","東川町","ﾎｯｶｲﾄﾞｳ","ﾋｶﾞｼｶﾜﾁｮｳ"]
[1,1459,"014591","北海道","美瑛町","ﾎｯｶｲﾄﾞｳ","ﾋﾞｴｲﾁｮｳ"]
[1,1460,"014605","北海道","上富良野町","ﾎｯｶｲﾄﾞｳ","ｶﾐﾌﾗﾉﾁｮｳ"]
[1,1461,"014613","北海道","中富良野町","ﾎｯｶｲﾄﾞｳ","ﾅｶﾌﾗﾉﾁｮｳ"]
[1,1462,"014621","北海道","南富良野町","ﾎｯｶｲﾄﾞｳ","ﾐﾅﾐﾌﾗﾉﾁｮｳ"]
[1,1463,"014630","北海道","占冠村","ﾎｯｶｲﾄﾞｳ","ｼﾑｶｯﾌﾟﾑﾗ"]
[1,1464,"014648","北海道","和寒町","ﾎｯｶｲﾄﾞｳ","ﾜｯｻﾑﾁｮｳ"]
[1,1465,"014656","北海道","剣淵町","ﾎｯｶｲﾄﾞｳ","ｹﾝﾌﾞﾁﾁｮｳ"]
[1,1468,"014681","北海道","下川町","ﾎｯｶｲﾄﾞｳ","ｼﾓｶﾜﾁｮｳ"]
[1,1469,"014699","北海道","美深町","ﾎｯｶｲﾄﾞｳ","ﾋﾞﾌｶﾁｮｳ"]
[1,1470,"014702","北海道","音威子府村","ﾎｯｶｲﾄﾞｳ","ｵﾄｲﾈｯﾌﾟﾑﾗ"]
[1,1471,"014711","北海道","中川町","ﾎｯｶｲﾄﾞｳ","ﾅｶｶﾞﾜﾁｮｳ"]
[1,1472,"014729","北海道","幌加内町","ﾎｯｶｲﾄﾞｳ","ﾎﾛｶﾅｲﾁｮｳ"]
[1,1481,"014818","北海道","増毛町","ﾎｯｶｲﾄﾞｳ","ﾏｼｹﾁｮｳ"]
[1,1482,"014826","北海道","小平町","ﾎｯｶｲﾄﾞｳ","ｵﾋﾞﾗﾁｮｳ"]
[1,1483,"014834","北海道","苫前町","ﾎｯｶｲﾄﾞｳ","ﾄﾏﾏｴﾁｮｳ"]
[1,1484,"014842","北海道","羽幌町","ﾎｯｶｲﾄﾞｳ","ﾊﾎﾞﾛﾁｮｳ"]
[1,1485,"014851","北海道","初山別村","ﾎｯｶｲﾄﾞｳ","ｼｮｻﾝﾍﾞﾂﾑﾗ"]
[1,1486,"014869","北海道","遠別町","ﾎｯｶｲﾄﾞｳ","ｴﾝﾍﾞﾂﾁｮｳ"]
[1,1487,"014877","北海道","天塩町","ﾎｯｶｲﾄﾞｳ","ﾃｼｵﾁｮｳ"]
[1,1511,"015113","北海道","猿払村","ﾎｯｶｲﾄﾞｳ","ｻﾙﾌﾂﾑﾗ"]
[1,1512,"015121","北海道","浜頓別町","ﾎｯｶｲﾄﾞｳ","ﾊﾏﾄﾝﾍﾞﾂﾁｮｳ"]
[1,1513,"015130","北海道","中頓別町","ﾎｯｶｲﾄﾞｳ","ﾅｶﾄﾝﾍﾞﾂﾁｮｳ"]
[1,1514,"015148","北海道","枝幸町","ﾎｯｶｲﾄﾞｳ","ｴｻｼﾁｮｳ"]
[1,1516,"015164","北海道","豊富町","ﾎｯｶｲﾄﾞｳ","ﾄﾖﾄﾐﾁｮｳ"]
[1,1517,"015172","北海道","礼文町","ﾎｯｶｲﾄﾞｳ","ﾚﾌﾞﾝﾁｮｳ"]
[1,1518,"015181","北海道","利尻町","ﾎｯｶｲﾄﾞｳ","ﾘｼﾘﾁｮｳ"]
[1,1519,"015199","北海道","利尻富士町","ﾎｯｶｲﾄﾞｳ","ﾘｼﾘﾌｼﾞﾁｮｳ"]
[1,1520,"015202","北海道","幌延町","ﾎｯｶｲﾄﾞｳ","ﾎﾛﾉﾍﾞﾁｮｳ"]
[1,1543,"015431","北海道","美幌町","ﾎｯｶｲﾄﾞｳ","ﾋﾞﾎﾛﾁｮｳ"]
[1,1544,"015440","北海道","津別町","ﾎｯｶｲﾄﾞｳ","ﾂﾍﾞﾂﾁｮｳ"]
[1,1545,"015458","北海道","斜里町","ﾎｯｶｲﾄﾞｳ","ｼｬﾘﾁｮｳ"]
[1,1546,"015466","北海道","清里町","ﾎｯｶｲﾄﾞｳ","ｷﾖｻﾄﾁｮｳ"]
[1,1547,"015474","北海道","小清水町","ﾎｯｶｲﾄﾞｳ","ｺｼﾐｽﾞﾁｮｳ"]
[1,1549,"015491","北海道","訓子府町","ﾎｯｶｲﾄﾞｳ","ｸﾝﾈｯﾌﾟﾁｮｳ"]
[1,1550,"015504","北海道","置戸町","ﾎｯｶｲﾄﾞｳ","ｵｹﾄﾁｮｳ"]
[{"$f":"ROUNDDOWN(C130/10000,0)","v":1},1552,"015521","北海道","佐呂間町","ﾎｯｶｲﾄﾞｳ","ｻﾛﾏﾁｮｳ"]
[1,1555,"015555","北海道","遠軽町","ﾎｯｶｲﾄﾞｳ","ｴﾝｶﾞﾙﾁｮｳ"]
[1,1559,"015598","北海道","湧別町","ﾎｯｶｲﾄﾞｳ","ﾕｳﾍﾞﾂﾁｮｳ"]
[1,1560,"015601","北海道","滝上町","ﾎｯｶｲﾄﾞｳ","ﾀｷﾉｳｴﾁｮｳ"]
[1,1561,"015610","北海道","興部町","ﾎｯｶｲﾄﾞｳ","ｵｺｯﾍﾟﾁｮｳ"]
[1,1562,"015628","北海道","西興部村","ﾎｯｶｲﾄﾞｳ","ﾆｼｵｺｯﾍﾟﾑﾗ"]
[1,1563,"015636","北海道","雄武町","ﾎｯｶｲﾄﾞｳ","ｵｳﾑﾁｮｳ"]
[1,1564,"015644","北海道","大空町","ﾎｯｶｲﾄﾞｳ","ｵｵｿﾞﾗﾁｮｳ"]
[1,1571,"015717","北海道","豊浦町","ﾎｯｶｲﾄﾞｳ","ﾄﾖｳﾗﾁｮｳ"]
[1,1575,"015750","北海道","壮瞥町","ﾎｯｶｲﾄﾞｳ","ｿｳﾍﾞﾂﾁｮｳ"]
[1,1578,"015784","北海道","白老町","ﾎｯｶｲﾄﾞｳ","ｼﾗｵｲﾁｮｳ"]
[1,1581,"015814","北海道","厚真町","ﾎｯｶｲﾄﾞｳ","ｱﾂﾏﾁｮｳ"]
[1,1584,"015849","北海道","洞爺湖町","ﾎｯｶｲﾄﾞｳ","ﾄｳﾔｺﾁｮｳ"]
[1,1585,"015857","北海道","安平町","ﾎｯｶｲﾄﾞｳ","ｱﾋﾞﾗﾁｮｳ"]
[1,1586,"015865","北海道","むかわ町","ﾎｯｶｲﾄﾞｳ","ﾑｶﾜﾁｮｳ"]
[1,1601,"016012","北海道","日高町","ﾎｯｶｲﾄﾞｳ","ﾋﾀﾞｶﾁｮｳ"]
[1,1602,"016021","北海道","平取町","ﾎｯｶｲﾄﾞｳ","ﾋﾞﾗﾄﾘﾁｮｳ"]
[1,1604,"016047","北海道","新冠町","ﾎｯｶｲﾄﾞｳ","ﾆｲｶｯﾌﾟﾁｮｳ"]
[1,1607,"016071","北海道","浦河町","ﾎｯｶｲﾄﾞｳ","ｳﾗｶﾜﾁｮｳ"]
[1,1608,"016080","北海道","様似町","ﾎｯｶｲﾄﾞｳ","ｻﾏﾆﾁｮｳ"]
[1,1609,"016098","北海道","えりも町","ﾎｯｶｲﾄﾞｳ","ｴﾘﾓﾁｮｳ"]
[1,1610,"016101","北海道","新ひだか町","ﾎｯｶｲﾄﾞｳ","ｼﾝﾋﾀﾞｶﾁｮｳ"]
[1,1631,"016314","北海道","音更町","ﾎｯｶｲﾄﾞｳ","ｵﾄﾌｹﾁｮｳ"]
[1,1632,"016322","北海道","士幌町","ﾎｯｶｲﾄﾞｳ","ｼﾎﾛﾁｮｳ"]
[1,1633,"016331","北海道","上士幌町","ﾎｯｶｲﾄﾞｳ","ｶﾐｼﾎﾛﾁｮｳ"]
[1,1634,"016349","北海道","鹿追町","ﾎｯｶｲﾄﾞｳ","ｼｶｵｲﾁｮｳ"]
[1,1635,"016357","北海道","新得町","ﾎｯｶｲﾄﾞｳ","ｼﾝﾄｸﾁｮｳ"]
[1,1636,"016365","北海道","清水町","ﾎｯｶｲﾄﾞｳ","ｼﾐｽﾞﾁｮｳ"]
[1,1637,"016373","北海道","芽室町","ﾎｯｶｲﾄﾞｳ","ﾒﾑﾛﾁｮｳ"]
[1,1638,"016381","北海道","中札内村","ﾎｯｶｲﾄﾞｳ","ﾅｶｻﾂﾅｲﾑﾗ"]
[1,1639,"016390","北海道","更別村","ﾎｯｶｲﾄﾞｳ","ｻﾗﾍﾞﾂﾑﾗ"]
[1,1641,"016411","北海道","大樹町","ﾎｯｶｲﾄﾞｳ","ﾀｲｷﾁｮｳ"]
[1,1642,"016420","北海道","広尾町","ﾎｯｶｲﾄﾞｳ","ﾋﾛｵﾁｮｳ"]
[1,1643,"016438","北海道","幕別町","ﾎｯｶｲﾄﾞｳ","ﾏｸﾍﾞﾂﾁｮｳ"]
[1,1644,"016446","北海道","池田町","ﾎｯｶｲﾄﾞｳ","ｲｹﾀﾞﾁｮｳ"]
[1,1645,"016454","北海道","豊頃町","ﾎｯｶｲﾄﾞｳ","ﾄﾖｺﾛﾁｮｳ"]
[1,1646,"016462","北海道","本別町","ﾎｯｶｲﾄﾞｳ","ﾎﾝﾍﾞﾂﾁｮｳ"]
[1,1647,"016471","北海道","足寄町","ﾎｯｶｲﾄﾞｳ","ｱｼｮﾛﾁｮｳ"]
[1,1648,"016489","北海道","陸別町","ﾎｯｶｲﾄﾞｳ","ﾘｸﾍﾞﾂﾁｮｳ"]
[1,1649,"016497","北海道","浦幌町","ﾎｯｶｲﾄﾞｳ","ｳﾗﾎﾛﾁｮｳ"]
[1,1661,"016616","北海道","釧路町","ﾎｯｶｲﾄﾞｳ","ｸｼﾛﾁｮｳ"]
[1,1662,"016624","北海道","厚岸町","ﾎｯｶｲﾄﾞｳ","ｱｯｹｼﾁｮｳ"]
[1,1663,"016632","北海道","浜中町","ﾎｯｶｲﾄﾞｳ","ﾊﾏﾅｶﾁｮｳ"]
[1,1664,"016641","北海道","標茶町","ﾎｯｶｲﾄﾞｳ","ｼﾍﾞﾁｬﾁｮｳ"]
[1,1665,"016659","北海道","弟子屈町","ﾎｯｶｲﾄﾞｳ","ﾃｼｶｶﾞﾁｮｳ"]
[1,1667,"016675","北海道","鶴居村","ﾎｯｶｲﾄﾞｳ","ﾂﾙｲﾑﾗ"]
[1,1668,"016683","北海道","白糠町","ﾎｯｶｲﾄﾞｳ","ｼﾗﾇｶﾁｮｳ"]
[1,1691,"016918","北海道","別海町","ﾎｯｶｲﾄﾞｳ","ﾍﾞﾂｶｲﾁｮｳ"]
[1,1692,"016926","北海道","中標津町","ﾎｯｶｲﾄﾞｳ","ﾅｶｼﾍﾞﾂﾁｮｳ"]
[1,1693,"016934","北海道","標津町","ﾎｯｶｲﾄﾞｳ","ｼﾍﾞﾂﾁｮｳ"]
[1,1694,"016942","北海道","羅臼町","ﾎｯｶｲﾄﾞｳ","ﾗｳｽﾁｮｳ"]
[2,2201,"022012","青森県","青森市","ｱｵﾓﾘｹﾝ","ｱｵﾓﾘｼ"]
[2,2202,"022021","青森県","弘前市","ｱｵﾓﾘｹﾝ","ﾋﾛｻｷｼ"]
[2,2203,"022039","青森県","八戸市","ｱｵﾓﾘｹﾝ","ﾊﾁﾉﾍｼ"]
[2,2204,"022047","青森県","黒石市","ｱｵﾓﾘｹﾝ","ｸﾛｲｼｼ"]
[2,2205,"022055","青森県","五所川原市","ｱｵﾓﾘｹﾝ","ｺﾞｼｮｶﾞﾜﾗｼ"]
[2,2206,"022063","青森県","十和田市","ｱｵﾓﾘｹﾝ","ﾄﾜﾀﾞｼ"]
[2,2207,"022071","青森県","三沢市","ｱｵﾓﾘｹﾝ","ﾐｻﾜｼ"]
[2,2208,"022080","青森県","むつ市","ｱｵﾓﾘｹﾝ","ﾑﾂｼ"]
[2,2209,"022098","青森県","つがる市","ｱｵﾓﾘｹﾝ","ﾂｶﾞﾙｼ"]
[2,2210,"022101","青森県","平川市","ｱｵﾓﾘｹﾝ","ﾋﾗｶﾜｼ"]
[2,2301,"023019","青森県","平内町","ｱｵﾓﾘｹﾝ","ﾋﾗﾅｲﾏﾁ"]
[2,2303,"023035","青森県","今別町","ｱｵﾓﾘｹﾝ","ｲﾏﾍﾞﾂﾏﾁ"]
[2,2304,"023043","青森県","蓬田村","ｱｵﾓﾘｹﾝ","ﾖﾓｷﾞﾀﾑﾗ"]
[{"$f":"ROUNDDOWN(C194/10000,0)","v":2},2307,"023078","青森県","外ヶ浜町","ｱｵﾓﾘｹﾝ","ｿﾄｶﾞﾊﾏﾏﾁ"]
[2,2321,"023213","青森県","鰺ヶ沢町","ｱｵﾓﾘｹﾝ","ｱｼﾞｶﾞｻﾜﾏﾁ"]
[2,2323,"023230","青森県","深浦町","ｱｵﾓﾘｹﾝ","ﾌｶｳﾗﾏﾁ"]
[2,2343,"023434","青森県","西目屋村","ｱｵﾓﾘｹﾝ","ﾆｼﾒﾔﾑﾗ"]
[2,2361,"023612","青森県","藤崎町","ｱｵﾓﾘｹﾝ","ﾌｼﾞｻｷﾏﾁ"]
[2,2362,"023621","青森県","大鰐町","ｱｵﾓﾘｹﾝ","ｵｵﾜﾆﾏﾁ"]
[2,2367,"023671","青森県","田舎館村","ｱｵﾓﾘｹﾝ","ｲﾅｶﾀﾞﾃﾑﾗ"]
[2,2381,"023817","青森県","板柳町","ｱｵﾓﾘｹﾝ","ｲﾀﾔﾅｷﾞﾏﾁ"]
[2,2384,"023841","青森県","鶴田町","ｱｵﾓﾘｹﾝ","ﾂﾙﾀﾏﾁ"]
[2,2387,"023876","青森県","中泊町","ｱｵﾓﾘｹﾝ","ﾅｶﾄﾞﾏﾘﾏﾁ"]
[2,2401,"024015","青森県","野辺地町","ｱｵﾓﾘｹﾝ","ﾉﾍｼﾞﾏﾁ"]
[2,2402,"024023","青森県","七戸町","ｱｵﾓﾘｹﾝ","ｼﾁﾉﾍﾏﾁ"]
[2,2405,"024058","青森県","六戸町","ｱｵﾓﾘｹﾝ","ﾛｸﾉﾍﾏﾁ"]
[2,2406,"024066","青森県","横浜町","ｱｵﾓﾘｹﾝ","ﾖｺﾊﾏﾏﾁ"]
[2,2408,"024082","青森県","東北町","ｱｵﾓﾘｹﾝ","ﾄｳﾎｸﾏﾁ"]
[2,2411,"024112","青森県","六ヶ所村","ｱｵﾓﾘｹﾝ","ﾛｯｶｼｮﾑﾗ"]
[2,2412,"024121","青森県","おいらせ町","ｱｵﾓﾘｹﾝ","ｵｲﾗｾﾁｮｳ"]
[2,2423,"024236","青森県","大間町","ｱｵﾓﾘｹﾝ","ｵｵﾏﾏﾁ"]
[2,2424,"024244","青森県","東通村","ｱｵﾓﾘｹﾝ","ﾋｶﾞｼﾄﾞｵﾘﾑﾗ"]
[2,2425,"024252","青森県","風間浦村","ｱｵﾓﾘｹﾝ","ｶｻﾞﾏｳﾗﾑﾗ"]
[2,2426,"024261","青森県","佐井村","ｱｵﾓﾘｹﾝ","ｻｲﾑﾗ"]
[2,2441,"024414","青森県","三戸町","ｱｵﾓﾘｹﾝ","ｻﾝﾉﾍﾏﾁ"]
[2,2442,"024422","青森県","五戸町","ｱｵﾓﾘｹﾝ","ｺﾞﾉﾍﾏﾁ"]
[2,2443,"024431","青森県","田子町","ｱｵﾓﾘｹﾝ","ﾀｯｺﾏﾁ"]
[2,2445,"024457","青森県","南部町","ｱｵﾓﾘｹﾝ","ﾅﾝﾌﾞﾁｮｳ"]
[2,2446,"024465","青森県","階上町","ｱｵﾓﾘｹﾝ","ﾊｼｶﾐﾁｮｳ"]
[2,2450,"024503","青森県","新郷村","ｱｵﾓﾘｹﾝ","ｼﾝｺﾞｳﾑﾗ"]
[3,3201,"032018","岩手県","盛岡市","ｲﾜﾃｹﾝ","ﾓﾘｵｶｼ"]
[3,3202,"032026","岩手県","宮古市","ｲﾜﾃｹﾝ","ﾐﾔｺｼ"]
[3,3203,"032034","岩手県","大船渡市","ｲﾜﾃｹﾝ","ｵｵﾌﾅﾄｼ"]
[3,3205,"032051","岩手県","花巻市","ｲﾜﾃｹﾝ","ﾊﾅﾏｷｼ"]
[3,3206,"032069","岩手県","北上市","ｲﾜﾃｹﾝ","ｷﾀｶﾐｼ"]
[3,3207,"032077","岩手県","久慈市","ｲﾜﾃｹﾝ","ｸｼﾞｼ"]
[3,3208,"032085","岩手県","遠野市","ｲﾜﾃｹﾝ","ﾄｵﾉｼ"]
[3,3209,"032093","岩手県","一関市","ｲﾜﾃｹﾝ","ｲﾁﾉｾｷｼ"]
[3,3210,"032107","岩手県","陸前高田市","ｲﾜﾃｹﾝ","ﾘｸｾﾞﾝﾀｶﾀｼ"]
[3,3211,"032115","岩手県","釜石市","ｲﾜﾃｹﾝ","ｶﾏｲｼｼ"]
[3,3213,"032131","岩手県","二戸市","ｲﾜﾃｹﾝ","ﾆﾉﾍｼ"]
[3,3214,"032140","岩手県","八幡平市","ｲﾜﾃｹﾝ","ﾊﾁﾏﾝﾀｲｼ"]
[3,3215,"032158","岩手県","奥州市","ｲﾜﾃｹﾝ","ｵｳｼｭｳｼ"]
[3,3216,"032166","岩手県","滝沢市","ｲﾜﾃｹﾝ","ﾀｷｻﾞﾜｼ"]
[3,3301,"033014","岩手県","雫石町","ｲﾜﾃｹﾝ","ｼｽﾞｸｲｼﾁｮｳ"]
[3,3302,"033022","岩手県","葛巻町","ｲﾜﾃｹﾝ","ｸｽﾞﾏｷﾏﾁ"]
[3,3303,"033031","岩手県","岩手町","ｲﾜﾃｹﾝ","ｲﾜﾃﾏﾁ"]
[3,3321,"033219","岩手県","紫波町","ｲﾜﾃｹﾝ","ｼﾜﾁｮｳ"]
[3,3322,"033227","岩手県","矢巾町","ｲﾜﾃｹﾝ","ﾔﾊﾊﾞﾁｮｳ"]
[3,3366,"033669","岩手県","西和賀町","ｲﾜﾃｹﾝ","ﾆｼﾜｶﾞﾏﾁ"]
[3,3381,"033812","岩手県","金ケ崎町","ｲﾜﾃｹﾝ","ｶﾈｶﾞｻｷﾁｮｳ"]
[3,3402,"034029","岩手県","平泉町","ｲﾜﾃｹﾝ","ﾋﾗｲｽﾞﾐﾁｮｳ"]
[3,3441,"034410","岩手県","住田町","ｲﾜﾃｹﾝ","ｽﾐﾀﾁｮｳ"]
[3,3461,"034614","岩手県","大槌町","ｲﾜﾃｹﾝ","ｵｵﾂﾁﾁｮｳ"]
[3,3482,"034827","岩手県","山田町","ｲﾜﾃｹﾝ","ﾔﾏﾀﾞﾏﾁ"]
[3,3483,"034835","岩手県","岩泉町","ｲﾜﾃｹﾝ","ｲﾜｲｽﾞﾐﾁｮｳ"]
[3,3484,"034843","岩手県","田野畑村","ｲﾜﾃｹﾝ","ﾀﾉﾊﾀﾑﾗ"]
[3,3485,"034851","岩手県","普代村","ｲﾜﾃｹﾝ","ﾌﾀﾞｲﾑﾗ"]
[3,3501,"035017","岩手県","軽米町","ｲﾜﾃｹﾝ","ｶﾙﾏｲﾏﾁ"]
[3,3503,"035033","岩手県","野田村","ｲﾜﾃｹﾝ","ﾉﾀﾞﾑﾗ"]
[3,3506,"035068","岩手県","九戸村","ｲﾜﾃｹﾝ","ｸﾉﾍﾑﾗ"]
[3,3507,"035076","岩手県","洋野町","ｲﾜﾃｹﾝ","ﾋﾛﾉﾁｮｳ"]
[3,3524,"035246","岩手県","一戸町","ｲﾜﾃｹﾝ","ｲﾁﾉﾍﾏﾁ"]
[4,4100,"041009","宮城県","仙台市","ﾐﾔｷﾞｹﾝ","ｾﾝﾀﾞｲｼ"]
[4,4202,"042021","宮城県","石巻市","ﾐﾔｷﾞｹﾝ","ｲｼﾉﾏｷｼ"]
[4,4203,"042030","宮城県","塩竈市","ﾐﾔｷﾞｹﾝ","ｼｵｶﾞﾏｼ"]
[4,4205,"042056","宮城県","気仙沼市","ﾐﾔｷﾞｹﾝ","ｹｾﾝﾇﾏｼ"]
[{"$f":"ROUNDDOWN(C258/10000,0)","v":4},4206,"042064","宮城県","白石市","ﾐﾔｷﾞｹﾝ","ｼﾛｲｼｼ"]
[4,4207,"042072","宮城県","名取市","ﾐﾔｷﾞｹﾝ","ﾅﾄﾘｼ"]
[4,4208,"042081","宮城県","角田市","ﾐﾔｷﾞｹﾝ","ｶｸﾀﾞｼ"]
[4,4209,"042099","宮城県","多賀城市","ﾐﾔｷﾞｹﾝ","ﾀｶﾞｼﾞｮｳｼ"]
[4,4211,"042111","宮城県","岩沼市","ﾐﾔｷﾞｹﾝ","ｲﾜﾇﾏｼ"]
[4,4212,"042129","宮城県","登米市","ﾐﾔｷﾞｹﾝ","ﾄﾒｼ"]
[4,4213,"042137","宮城県","栗原市","ﾐﾔｷﾞｹﾝ","ｸﾘﾊﾗｼ"]
[4,4214,"042145","宮城県","東松島市","ﾐﾔｷﾞｹﾝ","ﾋｶﾞｼﾏﾂｼﾏｼ"]
[4,4215,"042153","宮城県","大崎市","ﾐﾔｷﾞｹﾝ","ｵｵｻｷｼ"]
[4,4216,"042161","宮城県","富谷市","ﾐﾔｷﾞｹﾝ","ﾄﾐﾔｼ"]
[4,4301,"043010","宮城県","蔵王町","ﾐﾔｷﾞｹﾝ","ｻﾞｵｳﾏﾁ"]
[4,4302,"043028","宮城県","七ヶ宿町","ﾐﾔｷﾞｹﾝ","ｼﾁｶｼｭｸﾏﾁ"]
[4,4321,"043214","宮城県","大河原町","ﾐﾔｷﾞｹﾝ","ｵｵｶﾞﾜﾗﾏﾁ"]
[4,4322,"043222","宮城県","村田町","ﾐﾔｷﾞｹﾝ","ﾑﾗﾀﾏﾁ"]
[4,4323,"043231","宮城県","柴田町","ﾐﾔｷﾞｹﾝ","ｼﾊﾞﾀﾏﾁ"]
[4,4324,"043249","宮城県","川崎町","ﾐﾔｷﾞｹﾝ","ｶﾜｻｷﾏﾁ"]
[4,4341,"043419","宮城県","丸森町","ﾐﾔｷﾞｹﾝ","ﾏﾙﾓﾘﾏﾁ"]
[4,4361,"043613","宮城県","亘理町","ﾐﾔｷﾞｹﾝ","ﾜﾀﾘﾁｮｳ"]
[4,4362,"043621","宮城県","山元町","ﾐﾔｷﾞｹﾝ","ﾔﾏﾓﾄﾁｮｳ"]
[4,4401,"044016","宮城県","松島町","ﾐﾔｷﾞｹﾝ","ﾏﾂｼﾏﾏﾁ"]
[4,4404,"044041","宮城県","七ヶ浜町","ﾐﾔｷﾞｹﾝ","ｼﾁｶﾞﾊﾏﾏﾁ"]
[4,4406,"044067","宮城県","利府町","ﾐﾔｷﾞｹﾝ","ﾘﾌﾁｮｳ"]
[4,4421,"044211","宮城県","大和町","ﾐﾔｷﾞｹﾝ","ﾀｲﾜﾁｮｳ"]
[4,4422,"044229","宮城県","大郷町","ﾐﾔｷﾞｹﾝ","ｵｵｻﾄﾁｮｳ"]
[4,4424,"044245","宮城県","大衡村","ﾐﾔｷﾞｹﾝ","ｵｵﾋﾗﾑﾗ"]
[4,4444,"044440","宮城県","色麻町","ﾐﾔｷﾞｹﾝ","ｼｶﾏﾁｮｳ"]
[4,4445,"044458","宮城県","加美町","ﾐﾔｷﾞｹﾝ","ｶﾐﾏﾁ"]
[4,4501,"045012","宮城県","涌谷町","ﾐﾔｷﾞｹﾝ","ﾜｸﾔﾁｮｳ"]
[4,4505,"045055","宮城県","美里町","ﾐﾔｷﾞｹﾝ","ﾐｻﾄﾏﾁ"]
[4,4581,"045811","宮城県","女川町","ﾐﾔｷﾞｹﾝ","ｵﾅｶﾞﾜﾁｮｳ"]
[4,4606,"046060","宮城県","南三陸町","ﾐﾔｷﾞｹﾝ","ﾐﾅﾐｻﾝﾘｸﾁｮｳ"]
[5,5201,"052019","秋田県","秋田市","ｱｷﾀｹﾝ","ｱｷﾀｼ"]
[5,5202,"052027","秋田県","能代市","ｱｷﾀｹﾝ","ﾉｼﾛｼ"]
[5,5203,"052035","秋田県","横手市","ｱｷﾀｹﾝ","ﾖｺﾃｼ"]
[5,5204,"052043","秋田県","大館市","ｱｷﾀｹﾝ","ｵｵﾀﾞﾃｼ"]
[5,5206,"052060","秋田県","男鹿市","ｱｷﾀｹﾝ","ｵｶﾞｼ"]
[5,5207,"052078","秋田県","湯沢市","ｱｷﾀｹﾝ","ﾕｻﾞﾜｼ"]
[5,5209,"052094","秋田県","鹿角市","ｱｷﾀｹﾝ","ｶﾂﾞﾉｼ"]
[5,5210,"052108","秋田県","由利本荘市","ｱｷﾀｹﾝ","ﾕﾘﾎﾝｼﾞｮｳｼ"]
[5,5211,"052116","秋田県","潟上市","ｱｷﾀｹﾝ","ｶﾀｶﾞﾐｼ"]
[5,5212,"052124","秋田県","大仙市","ｱｷﾀｹﾝ","ﾀﾞｲｾﾝｼ"]
[5,5213,"052132","秋田県","北秋田市","ｱｷﾀｹﾝ","ｷﾀｱｷﾀｼ"]
[5,5214,"052141","秋田県","にかほ市","ｱｷﾀｹﾝ","ﾆｶﾎｼ"]
[5,5215,"052159","秋田県","仙北市","ｱｷﾀｹﾝ","ｾﾝﾎﾞｸｼ"]
[5,5303,"053031","秋田県","小坂町","ｱｷﾀｹﾝ","ｺｻｶﾏﾁ"]
[5,5327,"053279","秋田県","上小阿仁村","ｱｷﾀｹﾝ","ｶﾐｺｱﾆﾑﾗ"]
[5,5346,"053465","秋田県","藤里町","ｱｷﾀｹﾝ","ﾌｼﾞｻﾄﾏﾁ"]
[5,5348,"053481","秋田県","三種町","ｱｷﾀｹﾝ","ﾐﾀﾈﾁｮｳ"]
[5,5349,"053490","秋田県","八峰町","ｱｷﾀｹﾝ","ﾊｯﾎﾟｳﾁｮｳ"]
[5,5361,"053619","秋田県","五城目町","ｱｷﾀｹﾝ","ｺﾞｼﾞｮｳﾒﾏﾁ"]
[5,5363,"053635","秋田県","八郎潟町","ｱｷﾀｹﾝ","ﾊﾁﾛｳｶﾞﾀﾏﾁ"]
[5,5366,"053660","秋田県","井川町","ｱｷﾀｹﾝ","ｲｶﾜﾏﾁ"]
[5,5368,"053686","秋田県","大潟村","ｱｷﾀｹﾝ","ｵｵｶﾞﾀﾑﾗ"]
[5,5434,"054348","秋田県","美郷町","ｱｷﾀｹﾝ","ﾐｻﾄﾁｮｳ"]
[5,5463,"054631","秋田県","羽後町","ｱｷﾀｹﾝ","ｳｺﾞﾏﾁ"]
[5,5464,"054640","秋田県","東成瀬村","ｱｷﾀｹﾝ","ﾋｶﾞｼﾅﾙｾﾑﾗ"]
[6,6201,"062014","山形県","山形市","ﾔﾏｶﾞﾀｹﾝ","ﾔﾏｶﾞﾀｼ"]
[6,6202,"062022","山形県","米沢市","ﾔﾏｶﾞﾀｹﾝ","ﾖﾈｻﾞﾜｼ"]
[6,6203,"062031","山形県","鶴岡市","ﾔﾏｶﾞﾀｹﾝ","ﾂﾙｵｶｼ"]
[6,6204,"062049","山形県","酒田市","ﾔﾏｶﾞﾀｹﾝ","ｻｶﾀｼ"]
[6,6205,"062057","山形県","新庄市","ﾔﾏｶﾞﾀｹﾝ","ｼﾝｼﾞｮｳｼ"]
[6,6206,"062065","山形県","寒河江市","ﾔﾏｶﾞﾀｹﾝ","ｻｶﾞｴｼ"]
[6,6207,"062073","山形県","上山市","ﾔﾏｶﾞﾀｹﾝ","ｶﾐﾉﾔﾏｼ"]
[6,6208,"062081","山形県","村山市","ﾔﾏｶﾞﾀｹﾝ","ﾑﾗﾔﾏｼ"]
[{"$f":"ROUNDDOWN(C322/10000,0)","v":6},6209,"062090","山形県","長井市","ﾔﾏｶﾞﾀｹﾝ","ﾅｶﾞｲｼ"]
[6,6210,"062103","山形県","天童市","ﾔﾏｶﾞﾀｹﾝ","ﾃﾝﾄﾞｳｼ"]
[6,6211,"062111","山形県","東根市","ﾔﾏｶﾞﾀｹﾝ","ﾋｶﾞｼﾈｼ"]
[6,6212,"062120","山形県","尾花沢市","ﾔﾏｶﾞﾀｹﾝ","ｵﾊﾞﾅｻﾞﾜｼ"]
[6,6213,"062138","山形県","南陽市","ﾔﾏｶﾞﾀｹﾝ","ﾅﾝﾖｳｼ"]
[6,6301,"063011","山形県","山辺町","ﾔﾏｶﾞﾀｹﾝ","ﾔﾏﾉﾍﾞﾏﾁ"]
[6,6302,"063029","山形県","中山町","ﾔﾏｶﾞﾀｹﾝ","ﾅｶﾔﾏﾏﾁ"]
[6,6321,"063215","山形県","河北町","ﾔﾏｶﾞﾀｹﾝ","ｶﾎｸﾁｮｳ"]
[6,6322,"063223","山形県","西川町","ﾔﾏｶﾞﾀｹﾝ","ﾆｼｶﾜﾏﾁ"]
[6,6323,"063231","山形県","朝日町","ﾔﾏｶﾞﾀｹﾝ","ｱｻﾋﾏﾁ"]
[6,6324,"063240","山形県","大江町","ﾔﾏｶﾞﾀｹﾝ","ｵｵｴﾏﾁ"]
[6,6341,"063410","山形県","大石田町","ﾔﾏｶﾞﾀｹﾝ","ｵｵｲｼﾀﾞﾏﾁ"]
[6,6361,"063614","山形県","金山町","ﾔﾏｶﾞﾀｹﾝ","ｶﾈﾔﾏﾏﾁ"]
[6,6362,"063622","山形県","最上町","ﾔﾏｶﾞﾀｹﾝ","ﾓｶﾞﾐﾏﾁ"]
[6,6363,"063631","山形県","舟形町","ﾔﾏｶﾞﾀｹﾝ","ﾌﾅｶﾞﾀﾏﾁ"]
[6,6364,"063649","山形県","真室川町","ﾔﾏｶﾞﾀｹﾝ","ﾏﾑﾛｶﾞﾜﾏﾁ"]
[6,6365,"063657","山形県","大蔵村","ﾔﾏｶﾞﾀｹﾝ","ｵｵｸﾗﾑﾗ"]
[6,6366,"063665","山形県","鮭川村","ﾔﾏｶﾞﾀｹﾝ","ｻｹｶﾞﾜﾑﾗ"]
[6,6367,"063673","山形県","戸沢村","ﾔﾏｶﾞﾀｹﾝ","ﾄｻﾞﾜﾑﾗ"]
[6,6381,"063819","山形県","高畠町","ﾔﾏｶﾞﾀｹﾝ","ﾀｶﾊﾀﾏﾁ"]
[6,6382,"063827","山形県","川西町","ﾔﾏｶﾞﾀｹﾝ","ｶﾜﾆｼﾏﾁ"]
[6,6401,"064017","山形県","小国町","ﾔﾏｶﾞﾀｹﾝ","ｵｸﾞﾆﾏﾁ"]
[6,6402,"064025","山形県","白鷹町","ﾔﾏｶﾞﾀｹﾝ","ｼﾗﾀｶﾏﾁ"]
[6,6403,"064033","山形県","飯豊町","ﾔﾏｶﾞﾀｹﾝ","ｲｲﾃﾞﾏﾁ"]
[6,6426,"064262","山形県","三川町","ﾔﾏｶﾞﾀｹﾝ","ﾐｶﾜﾏﾁ"]
[6,6428,"064289","山形県","庄内町","ﾔﾏｶﾞﾀｹﾝ","ｼﾖｳﾅｲﾏﾁ"]
[6,6461,"064611","山形県","遊佐町","ﾔﾏｶﾞﾀｹﾝ","ﾕｻﾞﾏﾁ"]
[7,7201,"072010","福島県","福島市","ﾌｸｼﾏｹﾝ","ﾌｸｼﾏｼ"]
[7,7202,"072028","福島県","会津若松市","ﾌｸｼﾏｹﾝ","ｱｲﾂﾞﾜｶﾏﾂｼ"]
[7,7203,"072036","福島県","郡山市","ﾌｸｼﾏｹﾝ","ｺｵﾘﾔﾏｼ"]
[7,7204,"072044","福島県","いわき市","ﾌｸｼﾏｹﾝ","ｲﾜｷｼ"]
[7,7205,"072052","福島県","白河市","ﾌｸｼﾏｹﾝ","ｼﾗｶﾜｼ"]
[7,7207,"072079","福島県","須賀川市","ﾌｸｼﾏｹﾝ","ｽｶｶﾞﾜｼ"]
[7,7208,"072087","福島県","喜多方市","ﾌｸｼﾏｹﾝ","ｷﾀｶﾀｼ"]
[7,7209,"072095","福島県","相馬市","ﾌｸｼﾏｹﾝ","ｿｳﾏｼ"]
[7,7210,"072109","福島県","二本松市","ﾌｸｼﾏｹﾝ","ﾆﾎﾝﾏﾂｼ"]
[7,7211,"072117","福島県","田村市","ﾌｸｼﾏｹﾝ","ﾀﾑﾗｼ"]
[7,7212,"072125","福島県","南相馬市","ﾌｸｼﾏｹﾝ","ﾐﾅﾐｿｳﾏｼ"]
[7,7213,"072133","福島県","伊達市","ﾌｸｼﾏｹﾝ","ﾀﾞﾃｼ"]
[7,7214,"072141","福島県","本宮市","ﾌｸｼﾏｹﾝ","ﾓﾄﾐﾔｼ"]
[7,7301,"073016","福島県","桑折町","ﾌｸｼﾏｹﾝ","ｺｵﾘﾏﾁ"]
[7,7303,"073032","福島県","国見町","ﾌｸｼﾏｹﾝ","ｸﾆﾐﾏﾁ"]
[7,7308,"073083","福島県","川俣町","ﾌｸｼﾏｹﾝ","ｶﾜﾏﾀﾏﾁ"]
[7,7322,"073229","福島県","大玉村","ﾌｸｼﾏｹﾝ","ｵｵﾀﾏﾑﾗ"]
[7,7342,"073423","福島県","鏡石町","ﾌｸｼﾏｹﾝ","ｶｶﾞﾐｲｼﾏﾁ"]
[7,7344,"073440","福島県","天栄村","ﾌｸｼﾏｹﾝ","ﾃﾝｴｲﾑﾗ"]
[7,7362,"073628","福島県","下郷町","ﾌｸｼﾏｹﾝ","ｼﾓｺﾞｳﾏﾁ"]
[7,7364,"073644","福島県","檜枝岐村","ﾌｸｼﾏｹﾝ","ﾋﾉｴﾏﾀﾑﾗ"]
[7,7367,"073679","福島県","只見町","ﾌｸｼﾏｹﾝ","ﾀﾀﾞﾐﾏﾁ"]
[7,7368,"073687","福島県","南会津町","ﾌｸｼﾏｹﾝ","ﾐﾅﾐｱｲﾂﾞﾏﾁ"]
[7,7402,"074021","福島県","北塩原村","ﾌｸｼﾏｹﾝ","ｷﾀｼｵﾊﾞﾗﾑﾗ"]
[7,7405,"074055","福島県","西会津町","ﾌｸｼﾏｹﾝ","ﾆｼｱｲﾂﾞﾏﾁ"]
[7,7407,"074071","福島県","磐梯町","ﾌｸｼﾏｹﾝ","ﾊﾞﾝﾀﾞｲﾏﾁ"]
[7,7408,"074080","福島県","猪苗代町","ﾌｸｼﾏｹﾝ","ｲﾅﾜｼﾛﾏﾁ"]
[7,7421,"074217","福島県","会津坂下町","ﾌｸｼﾏｹﾝ","ｱｲﾂﾞﾊﾞﾝｹﾞﾏﾁ"]
[7,7422,"074225","福島県","湯川村","ﾌｸｼﾏｹﾝ","ﾕｶﾞﾜﾑﾗ"]
[7,7423,"074233","福島県","柳津町","ﾌｸｼﾏｹﾝ","ﾔﾅｲﾂﾞﾏﾁ"]
[7,7444,"074446","福島県","三島町","ﾌｸｼﾏｹﾝ","ﾐｼﾏﾏﾁ"]
[7,7445,"074454","福島県","金山町","ﾌｸｼﾏｹﾝ","ｶﾈﾔﾏﾏﾁ"]
[7,7446,"074462","福島県","昭和村","ﾌｸｼﾏｹﾝ","ｼｮｳﾜﾑﾗ"]
[7,7447,"074471","福島県","会津美里町","ﾌｸｼﾏｹﾝ","ｱｲﾂﾞﾐｻﾄﾏﾁ"]
[7,7461,"074616","福島県","西郷村","ﾌｸｼﾏｹﾝ","ﾆｼｺﾞｳﾑﾗ"]
[7,7464,"074641","福島県","泉崎村","ﾌｸｼﾏｹﾝ","ｲｽﾞﾐｻﾞｷﾑﾗ"]
[7,7465,"074659","福島県","中島村","ﾌｸｼﾏｹﾝ","ﾅｶｼﾞﾏﾑﾗ"]
[{"$f":"ROUNDDOWN(C386/10000,0)","v":7},7466,"074667","福島県","矢吹町","ﾌｸｼﾏｹﾝ","ﾔﾌﾞｷﾏﾁ"]
[7,7481,"074811","福島県","棚倉町","ﾌｸｼﾏｹﾝ","ﾀﾅｸﾞﾗﾏﾁ"]
[7,7482,"074829","福島県","矢祭町","ﾌｸｼﾏｹﾝ","ﾔﾏﾂﾘﾏﾁ"]
[7,7483,"074837","福島県","塙町","ﾌｸｼﾏｹﾝ","ﾊﾅﾜﾏﾁ"]
[7,7484,"074845","福島県","鮫川村","ﾌｸｼﾏｹﾝ","ｻﾒｶﾞﾜﾑﾗ"]
[7,7501,"075019","福島県","石川町","ﾌｸｼﾏｹﾝ","ｲｼｶﾜﾏﾁ"]
[7,7502,"075027","福島県","玉川村","ﾌｸｼﾏｹﾝ","ﾀﾏｶﾜﾑﾗ"]
[7,7503,"075035","福島県","平田村","ﾌｸｼﾏｹﾝ","ﾋﾗﾀﾑﾗ"]
[7,7504,"075043","福島県","浅川町","ﾌｸｼﾏｹﾝ","ｱｻｶﾜﾏﾁ"]
[7,7505,"075051","福島県","古殿町","ﾌｸｼﾏｹﾝ","ﾌﾙﾄﾞﾉﾏﾁ"]
[7,7521,"075213","福島県","三春町","ﾌｸｼﾏｹﾝ","ﾐﾊﾙﾏﾁ"]
[7,7522,"075221","福島県","小野町","ﾌｸｼﾏｹﾝ","ｵﾉﾏﾁ"]
[7,7541,"075418","福島県","広野町","ﾌｸｼﾏｹﾝ","ﾋﾛﾉﾏﾁ"]
[7,7542,"075426","福島県","楢葉町","ﾌｸｼﾏｹﾝ","ﾅﾗﾊﾏﾁ"]
[7,7543,"075434","福島県","富岡町","ﾌｸｼﾏｹﾝ","ﾄﾐｵｶﾏﾁ"]
[7,7544,"075442","福島県","川内村","ﾌｸｼﾏｹﾝ","ｶﾜｳﾁﾑﾗ"]
[7,7545,"075451","福島県","大熊町","ﾌｸｼﾏｹﾝ","ｵｵｸﾏﾏﾁ"]
[7,7546,"075469","福島県","双葉町","ﾌｸｼﾏｹﾝ","ﾌﾀﾊﾞﾏﾁ"]
[7,7547,"075477","福島県","浪江町","ﾌｸｼﾏｹﾝ","ﾅﾐｴﾏﾁ"]
[7,7548,"075485","福島県","葛尾村","ﾌｸｼﾏｹﾝ","ｶﾂﾗｵﾑﾗ"]
[7,7561,"075612","福島県","新地町","ﾌｸｼﾏｹﾝ","ｼﾝﾁﾏﾁ"]
[7,7564,"075647","福島県","飯舘村","ﾌｸｼﾏｹﾝ","ｲｲﾀﾃﾑﾗ"]
[8,8201,"082015","茨城県","水戸市","ｲﾊﾞﾗｷｹﾝ","ﾐﾄｼ"]
[8,8202,"082023","茨城県","日立市","ｲﾊﾞﾗｷｹﾝ","ﾋﾀﾁｼ"]
[8,8203,"082031","茨城県","土浦市","ｲﾊﾞﾗｷｹﾝ","ﾂﾁｳﾗｼ"]
[8,8204,"082040","茨城県","古河市","ｲﾊﾞﾗｷｹﾝ","ｺｶﾞｼ"]
[8,8205,"082058","茨城県","石岡市","ｲﾊﾞﾗｷｹﾝ","ｲｼｵｶｼ"]
[8,8207,"082074","茨城県","結城市","ｲﾊﾞﾗｷｹﾝ","ﾕｳｷｼ"]
[8,8208,"082082","茨城県","龍ケ崎市","ｲﾊﾞﾗｷｹﾝ","ﾘｭｳｶﾞｻｷｼ"]
[8,8210,"082104","茨城県","下妻市","ｲﾊﾞﾗｷｹﾝ","ｼﾓﾂﾏｼ"]
[8,8211,"082112","茨城県","常総市","ｲﾊﾞﾗｷｹﾝ","ｼﾞｮｳｿｳｼ"]
[8,8212,"082121","茨城県","常陸太田市","ｲﾊﾞﾗｷｹﾝ","ﾋﾀﾁｵｵﾀｼ"]
[8,8214,"082147","茨城県","高萩市","ｲﾊﾞﾗｷｹﾝ","ﾀｶﾊｷﾞｼ"]
[8,8215,"082155","茨城県","北茨城市","ｲﾊﾞﾗｷｹﾝ","ｷﾀｲﾊﾞﾗｷｼ"]
[8,8216,"082163","茨城県","笠間市","ｲﾊﾞﾗｷｹﾝ","ｶｻﾏｼ"]
[8,8217,"082171","茨城県","取手市","ｲﾊﾞﾗｷｹﾝ","ﾄﾘﾃﾞｼ"]
[8,8219,"082198","茨城県","牛久市","ｲﾊﾞﾗｷｹﾝ","ｳｼｸｼ"]
[8,8220,"082201","茨城県","つくば市","ｲﾊﾞﾗｷｹﾝ","ﾂｸﾊﾞｼ"]
[8,8221,"082210","茨城県","ひたちなか市","ｲﾊﾞﾗｷｹﾝ","ﾋﾀﾁﾅｶｼ"]
[8,8222,"082228","茨城県","鹿嶋市","ｲﾊﾞﾗｷｹﾝ","ｶｼﾏｼ"]
[8,8223,"082236","茨城県","潮来市","ｲﾊﾞﾗｷｹﾝ","ｲﾀｺｼ"]
[8,8224,"082244","茨城県","守谷市","ｲﾊﾞﾗｷｹﾝ","ﾓﾘﾔｼ"]
[8,8225,"082252","茨城県","常陸大宮市","ｲﾊﾞﾗｷｹﾝ","ﾋﾀﾁｵｵﾐﾔｼ"]
[8,8226,"082261","茨城県","那珂市","ｲﾊﾞﾗｷｹﾝ","ﾅｶｼ"]
[8,8227,"082279","茨城県","筑西市","ｲﾊﾞﾗｷｹﾝ","ﾁｸｾｲｼ"]
[8,8228,"082287","茨城県","坂東市","ｲﾊﾞﾗｷｹﾝ","ﾊﾞﾝﾄﾞｳｼ"]
[8,8229,"082295","茨城県","稲敷市","ｲﾊﾞﾗｷｹﾝ","ｲﾅｼｷｼ"]
[8,8230,"082309","茨城県","かすみがうら市","ｲﾊﾞﾗｷｹﾝ","ｶｽﾐｶﾞｳﾗｼ"]
[8,8231,"082317","茨城県","桜川市","ｲﾊﾞﾗｷｹﾝ","ｻｸﾗｶﾞﾜｼ"]
[8,8232,"082325","茨城県","神栖市","ｲﾊﾞﾗｷｹﾝ","ｶﾐｽｼ"]
[8,8233,"082333","茨城県","行方市","ｲﾊﾞﾗｷｹﾝ","ﾅﾒｶﾞﾀｼ"]
[8,8234,"082341","茨城県","鉾田市","ｲﾊﾞﾗｷｹﾝ","ﾎｺﾀｼ"]
[8,8235,"082350","茨城県","つくばみらい市","ｲﾊﾞﾗｷｹﾝ","ﾂｸﾊﾞﾐﾗｲｼ"]
[8,8236,"082368","茨城県","小美玉市","ｲﾊﾞﾗｷｹﾝ","ｵﾐﾀﾏｼ"]
[8,8302,"083020","茨城県","茨城町","ｲﾊﾞﾗｷｹﾝ","ｲﾊﾞﾗｷﾏﾁ"]
[8,8309,"083097","茨城県","大洗町","ｲﾊﾞﾗｷｹﾝ","ｵｵｱﾗｲﾏﾁ"]
[8,8310,"083101","茨城県","城里町","ｲﾊﾞﾗｷｹﾝ","ｼﾛｻﾄﾏﾁ"]
[8,8341,"083411","茨城県","東海村","ｲﾊﾞﾗｷｹﾝ","ﾄｳｶｲﾑﾗ"]
[8,8364,"083640","茨城県","大子町","ｲﾊﾞﾗｷｹﾝ","ﾀﾞｲｺﾞﾏﾁ"]
[8,8442,"084425","茨城県","美浦村","ｲﾊﾞﾗｷｹﾝ","ﾐﾎﾑﾗ"]
[8,8443,"084433","茨城県","阿見町","ｲﾊﾞﾗｷｹﾝ","ｱﾐﾏﾁ"]
[8,8447,"084476","茨城県","河内町","ｲﾊﾞﾗｷｹﾝ","ｶﾜﾁﾏﾁ"]
[8,8521,"085219","茨城県","八千代町","ｲﾊﾞﾗｷｹﾝ","ﾔﾁﾖﾏﾁ"]
[8,8542,"085421","茨城県","五霞町","ｲﾊﾞﾗｷｹﾝ","ｺﾞｶﾏﾁ"]
[{"$f":"ROUNDDOWN(C450/10000,0)","v":8},8546,"085464","茨城県","境町","ｲﾊﾞﾗｷｹﾝ","ｻｶｲﾏﾁ"]
[8,8564,"085642","茨城県","利根町","ｲﾊﾞﾗｷｹﾝ","ﾄﾈﾏﾁ"]
[9,9201,"092011","栃木県","宇都宮市","ﾄﾁｷﾞｹﾝ","ｳﾂﾉﾐﾔｼ"]
[9,9202,"092029","栃木県","足利市","ﾄﾁｷﾞｹﾝ","ｱｼｶｶﾞｼ"]
[9,9203,"092037","栃木県","栃木市","ﾄﾁｷﾞｹﾝ","ﾄﾁｷﾞｼ"]
[9,9204,"092045","栃木県","佐野市","ﾄﾁｷﾞｹﾝ","ｻﾉｼ"]
[9,9205,"092053","栃木県","鹿沼市","ﾄﾁｷﾞｹﾝ","ｶﾇﾏｼ"]
[9,9206,"092061","栃木県","日光市","ﾄﾁｷﾞｹﾝ","ﾆｯｺｳｼ"]
[9,9208,"092088","栃木県","小山市","ﾄﾁｷﾞｹﾝ","ｵﾔﾏｼ"]
[9,9209,"092096","栃木県","真岡市","ﾄﾁｷﾞｹﾝ","ﾓｵｶｼ"]
[9,9210,"092100","栃木県","大田原市","ﾄﾁｷﾞｹﾝ","ｵｵﾀﾜﾗｼ"]
[9,9211,"092118","栃木県","矢板市","ﾄﾁｷﾞｹﾝ","ﾔｲﾀｼ"]
[9,9213,"092134","栃木県","那須塩原市","ﾄﾁｷﾞｹﾝ","ﾅｽｼｵﾊﾞﾗｼ"]
[9,9214,"092142","栃木県","さくら市","ﾄﾁｷﾞｹﾝ","ｻｸﾗｼ"]
[9,9215,"092151","栃木県","那須烏山市","ﾄﾁｷﾞｹﾝ","ﾅｽｶﾗｽﾔﾏｼ"]
[9,9216,"092169","栃木県","下野市","ﾄﾁｷﾞｹﾝ","ｼﾓﾂｹｼ"]
[9,9301,"093017","栃木県","上三川町","ﾄﾁｷﾞｹﾝ","ｶﾐﾉｶﾜﾏﾁ"]
[9,9342,"093424","栃木県","益子町","ﾄﾁｷﾞｹﾝ","ﾏｼｺﾏﾁ"]
[9,9343,"093432","栃木県","茂木町","ﾄﾁｷﾞｹﾝ","ﾓﾃｷﾞﾏﾁ"]
[9,9344,"093441","栃木県","市貝町","ﾄﾁｷﾞｹﾝ","ｲﾁｶｲﾏﾁ"]
[9,9345,"093459","栃木県","芳賀町","ﾄﾁｷﾞｹﾝ","ﾊｶﾞﾏﾁ"]
[9,9361,"093611","栃木県","壬生町","ﾄﾁｷﾞｹﾝ","ﾐﾌﾞﾏﾁ"]
[9,9364,"093645","栃木県","野木町","ﾄﾁｷﾞｹﾝ","ﾉｷﾞﾏﾁ"]
[9,9384,"093840","栃木県","塩谷町","ﾄﾁｷﾞｹﾝ","ｼｵﾔﾏﾁ"]
[9,9386,"093866","栃木県","高根沢町","ﾄﾁｷﾞｹﾝ","ﾀｶﾈｻﾞﾜﾏﾁ"]
[9,9407,"094072","栃木県","那須町","ﾄﾁｷﾞｹﾝ","ﾅｽﾏﾁ"]
[9,9411,"094111","栃木県","那珂川町","ﾄﾁｷﾞｹﾝ","ﾅｶｶﾞﾜﾏﾁ"]
[10,10201,"102016","群馬県","前橋市","ｸﾞﾝﾏｹﾝ","ﾏｴﾊﾞｼｼ"]
[10,10202,"102024","群馬県","高崎市","ｸﾞﾝﾏｹﾝ","ﾀｶｻｷｼ"]
[10,10203,"102032","群馬県","桐生市","ｸﾞﾝﾏｹﾝ","ｷﾘｭｳｼ"]
[10,10204,"102041","群馬県","伊勢崎市","ｸﾞﾝﾏｹﾝ","ｲｾｻｷｼ"]
[10,10205,"102059","群馬県","太田市","ｸﾞﾝﾏｹﾝ","ｵｵﾀｼ"]
[10,10206,"102067","群馬県","沼田市","ｸﾞﾝﾏｹﾝ","ﾇﾏﾀｼ"]
[10,10207,"102075","群馬県","館林市","ｸﾞﾝﾏｹﾝ","ﾀﾃﾊﾞﾔｼｼ"]
[10,10208,"102083","群馬県","渋川市","ｸﾞﾝﾏｹﾝ","ｼﾌﾞｶﾜｼ"]
[10,10209,"102091","群馬県","藤岡市","ｸﾞﾝﾏｹﾝ","ﾌｼﾞｵｶｼ"]
[10,10210,"102105","群馬県","富岡市","ｸﾞﾝﾏｹﾝ","ﾄﾐｵｶｼ"]
[10,10211,"102113","群馬県","安中市","ｸﾞﾝﾏｹﾝ","ｱﾝﾅｶｼ"]
[10,10212,"102121","群馬県","みどり市","ｸﾞﾝﾏｹﾝ","ﾐﾄﾞﾘｼ"]
[10,10344,"103446","群馬県","榛東村","ｸﾞﾝﾏｹﾝ","ｼﾝﾄｳﾑﾗ"]
[10,10345,"103454","群馬県","吉岡町","ｸﾞﾝﾏｹﾝ","ﾖｼｵｶﾏﾁ"]
[10,10366,"103667","群馬県","上野村","ｸﾞﾝﾏｹﾝ","ｳｴﾉﾑﾗ"]
[10,10367,"103675","群馬県","神流町","ｸﾞﾝﾏｹﾝ","ｶﾝﾅﾏﾁ"]
[10,10382,"103829","群馬県","下仁田町","ｸﾞﾝﾏｹﾝ","ｼﾓﾆﾀﾏﾁ"]
[10,10383,"103837","群馬県","南牧村","ｸﾞﾝﾏｹﾝ","ﾅﾝﾓｸﾑﾗ"]
[10,10384,"103845","群馬県","甘楽町","ｸﾞﾝﾏｹﾝ","ｶﾝﾗﾏﾁ"]
[10,10421,"104213","群馬県","中之条町","ｸﾞﾝﾏｹﾝ","ﾅｶﾉｼﾞﾖｳﾏﾁ"]
[10,10424,"104248","群馬県","長野原町","ｸﾞﾝﾏｹﾝ","ﾅｶﾞﾉﾊﾗﾏﾁ"]
[10,10425,"104256","群馬県","嬬恋村","ｸﾞﾝﾏｹﾝ","ﾂﾏｺﾞｲﾑﾗ"]
[10,10426,"104264","群馬県","草津町","ｸﾞﾝﾏｹﾝ","ｸｻﾂﾏﾁ"]
[10,10428,"104281","群馬県","高山村","ｸﾞﾝﾏｹﾝ","ﾀｶﾔﾏﾑﾗ"]
[10,10429,"104299","群馬県","東吾妻町","ｸﾞﾝﾏｹﾝ","ﾋｶﾞｼｱｶﾞﾂﾏﾏﾁ"]
[10,10443,"104434","群馬県","片品村","ｸﾞﾝﾏｹﾝ","ｶﾀｼﾅﾑﾗ"]
[10,10444,"104442","群馬県","川場村","ｸﾞﾝﾏｹﾝ","ｶﾜﾊﾞﾑﾗ"]
[10,10448,"104485","群馬県","昭和村","ｸﾞﾝﾏｹﾝ","ｼｮｳﾜﾑﾗ"]
[10,10449,"104493","群馬県","みなかみ町","ｸﾞﾝﾏｹﾝ","ﾐﾅｶﾐﾏﾁ"]
[10,10464,"104647","群馬県","玉村町","ｸﾞﾝﾏｹﾝ","ﾀﾏﾑﾗﾏﾁ"]
[10,10521,"105210","群馬県","板倉町","ｸﾞﾝﾏｹﾝ","ｲﾀｸﾗﾏﾁ"]
[10,10522,"105228","群馬県","明和町","ｸﾞﾝﾏｹﾝ","ﾒｲﾜﾏﾁ"]
[10,10523,"105236","群馬県","千代田町","ｸﾞﾝﾏｹﾝ","ﾁﾖﾀﾞﾏﾁ"]
[10,10524,"105244","群馬県","大泉町","ｸﾞﾝﾏｹﾝ","ｵｵｲｽﾞﾐﾏﾁ"]
[10,10525,"105252","群馬県","邑楽町","ｸﾞﾝﾏｹﾝ","ｵｳﾗﾏﾁ"]
[11,11100,"111007","埼玉県","さいたま市","ｻｲﾀﾏｹﾝ","ｻｲﾀﾏｼ"]
[11,11201,"112011","埼玉県","川越市","ｻｲﾀﾏｹﾝ","ｶﾜｺﾞｴｼ"]
[{"$f":"ROUNDDOWN(C514/10000,0)","v":11},11202,"112020","埼玉県","熊谷市","ｻｲﾀﾏｹﾝ","ｸﾏｶﾞﾔｼ"]
[11,11203,"112038","埼玉県","川口市","ｻｲﾀﾏｹﾝ","ｶﾜｸﾞﾁｼ"]
[11,11206,"112062","埼玉県","行田市","ｻｲﾀﾏｹﾝ","ｷﾞﾖｳﾀﾞｼ"]
[11,11207,"112071","埼玉県","秩父市","ｻｲﾀﾏｹﾝ","ﾁﾁﾌﾞｼ"]
[11,11208,"112089","埼玉県","所沢市","ｻｲﾀﾏｹﾝ","ﾄｺﾛｻﾞﾜｼ"]
[11,11209,"112097","埼玉県","飯能市","ｻｲﾀﾏｹﾝ","ﾊﾝﾉｳｼ"]
[11,11210,"112101","埼玉県","加須市","ｻｲﾀﾏｹﾝ","ｶｿﾞｼ"]
[11,11211,"112119","埼玉県","本庄市","ｻｲﾀﾏｹﾝ","ﾎﾝｼﾞﾖｳｼ"]
[11,11212,"112127","埼玉県","東松山市","ｻｲﾀﾏｹﾝ","ﾋｶﾞｼﾏﾂﾔﾏｼ"]
[11,11214,"112143","埼玉県","春日部市","ｻｲﾀﾏｹﾝ","ｶｽｶﾍﾞｼ"]
[11,11215,"112151","埼玉県","狭山市","ｻｲﾀﾏｹﾝ","ｻﾔﾏｼ"]
[11,11216,"112160","埼玉県","羽生市","ｻｲﾀﾏｹﾝ","ﾊﾆﾕｳｼ"]
[11,11217,"112178","埼玉県","鴻巣市","ｻｲﾀﾏｹﾝ","ｺｳﾉｽｼ"]
[11,11218,"112186","埼玉県","深谷市","ｻｲﾀﾏｹﾝ","ﾌｶﾔｼ"]
[11,11219,"112194","埼玉県","上尾市","ｻｲﾀﾏｹﾝ","ｱｹﾞｵｼ"]
[11,11221,"112216","埼玉県","草加市","ｻｲﾀﾏｹﾝ","ｿｳｶｼ"]
[11,11222,"112224","埼玉県","越谷市","ｻｲﾀﾏｹﾝ","ｺｼｶﾞﾔｼ"]
[11,11223,"112232","埼玉県","蕨市","ｻｲﾀﾏｹﾝ","ﾜﾗﾋﾞｼ"]
[11,11224,"112241","埼玉県","戸田市","ｻｲﾀﾏｹﾝ","ﾄﾀﾞｼ"]
[11,11225,"112259","埼玉県","入間市","ｻｲﾀﾏｹﾝ","ｲﾙﾏｼ"]
[11,11227,"112275","埼玉県","朝霞市","ｻｲﾀﾏｹﾝ","ｱｻｶｼ"]
[11,11228,"112283","埼玉県","志木市","ｻｲﾀﾏｹﾝ","ｼｷｼ"]
[11,11229,"112291","埼玉県","和光市","ｻｲﾀﾏｹﾝ","ﾜｺｳｼ"]
[11,11230,"112305","埼玉県","新座市","ｻｲﾀﾏｹﾝ","ﾆｲｻﾞｼ"]
[11,11231,"112313","埼玉県","桶川市","ｻｲﾀﾏｹﾝ","ｵｹｶﾞﾜｼ"]
[11,11232,"112321","埼玉県","久喜市","ｻｲﾀﾏｹﾝ","ｸｷｼ"]
[11,11233,"112330","埼玉県","北本市","ｻｲﾀﾏｹﾝ","ｷﾀﾓﾄｼ"]
[11,11234,"112348","埼玉県","八潮市","ｻｲﾀﾏｹﾝ","ﾔｼｵｼ"]
[11,11235,"112356","埼玉県","富士見市","ｻｲﾀﾏｹﾝ","ﾌｼﾞﾐｼ"]
[11,11237,"112372","埼玉県","三郷市","ｻｲﾀﾏｹﾝ","ﾐｻﾄｼ"]
[11,11238,"112381","埼玉県","蓮田市","ｻｲﾀﾏｹﾝ","ﾊｽﾀﾞｼ"]
[11,11239,"112399","埼玉県","坂戸市","ｻｲﾀﾏｹﾝ","ｻｶﾄﾞｼ"]
[11,11240,"112402","埼玉県","幸手市","ｻｲﾀﾏｹﾝ","ｻｯﾃｼ"]
[11,11241,"112411","埼玉県","鶴ヶ島市","ｻｲﾀﾏｹﾝ","ﾂﾙｶﾞｼﾏｼ"]
[11,11242,"112429","埼玉県","日高市","ｻｲﾀﾏｹﾝ","ﾋﾀﾞｶｼ"]
[11,11243,"112437","埼玉県","吉川市","ｻｲﾀﾏｹﾝ","ﾖｼｶﾜｼ"]
[11,11245,"112453","埼玉県","ふじみ野市","ｻｲﾀﾏｹﾝ","ﾌｼﾞﾐﾉｼ"]
[11,11246,"112461","埼玉県","白岡市","ｻｲﾀﾏｹﾝ","ｼﾗｵｶｼ"]
[11,11301,"113018","埼玉県","伊奈町","ｻｲﾀﾏｹﾝ","ｲﾅﾏﾁ"]
[11,11324,"113247","埼玉県","三芳町","ｻｲﾀﾏｹﾝ","ﾐﾖｼﾏﾁ"]
[11,11326,"113263","埼玉県","毛呂山町","ｻｲﾀﾏｹﾝ","ﾓﾛﾔﾏﾏﾁ"]
[11,11327,"113271","埼玉県","越生町","ｻｲﾀﾏｹﾝ","ｵｺﾞｾﾏﾁ"]
[11,11341,"113417","埼玉県","滑川町","ｻｲﾀﾏｹﾝ","ﾅﾒｶﾞﾜﾏﾁ"]
[11,11342,"113425","埼玉県","嵐山町","ｻｲﾀﾏｹﾝ","ﾗﾝｻﾞﾝﾏﾁ"]
[11,11343,"113433","埼玉県","小川町","ｻｲﾀﾏｹﾝ","ｵｶﾞﾜﾏﾁ"]
[11,11346,"113468","埼玉県","川島町","ｻｲﾀﾏｹﾝ","ｶﾜｼﾞﾏﾏﾁ"]
[11,11347,"113476","埼玉県","吉見町","ｻｲﾀﾏｹﾝ","ﾖｼﾐﾏﾁ"]
[11,11348,"113484","埼玉県","鳩山町","ｻｲﾀﾏｹﾝ","ﾊﾄﾔﾏﾏﾁ"]
[11,11349,"113492","埼玉県","ときがわ町","ｻｲﾀﾏｹﾝ","ﾄｷｶﾞﾜﾏﾁ"]
[11,11361,"113611","埼玉県","横瀬町","ｻｲﾀﾏｹﾝ","ﾖｺｾﾞﾏﾁ"]
[11,11362,"113620","埼玉県","皆野町","ｻｲﾀﾏｹﾝ","ﾐﾅﾉﾏﾁ"]
[11,11363,"113638","埼玉県","長瀞町","ｻｲﾀﾏｹﾝ","ﾅｶﾞﾄﾛﾏﾁ"]
[11,11365,"113654","埼玉県","小鹿野町","ｻｲﾀﾏｹﾝ","ｵｶﾞﾉﾏﾁ"]
[11,11369,"113697","埼玉県","東秩父村","ｻｲﾀﾏｹﾝ","ﾋｶﾞｼﾁﾁﾌﾞﾑﾗ"]
[11,11381,"113816","埼玉県","美里町","ｻｲﾀﾏｹﾝ","ﾐｻﾄﾏﾁ"]
[11,11383,"113832","埼玉県","神川町","ｻｲﾀﾏｹﾝ","ｶﾐｶﾜﾏﾁ"]
[11,11385,"113859","埼玉県","上里町","ｻｲﾀﾏｹﾝ","ｶﾐｻﾄﾏﾁ"]
[11,11408,"114081","埼玉県","寄居町","ｻｲﾀﾏｹﾝ","ﾖﾘｲﾏﾁ"]
[11,11442,"114421","埼玉県","宮代町","ｻｲﾀﾏｹﾝ","ﾐﾔｼﾛﾏﾁ"]
[11,11464,"114642","埼玉県","杉戸町","ｻｲﾀﾏｹﾝ","ｽｷﾞﾄﾏﾁ"]
[11,11465,"114651","埼玉県","松伏町","ｻｲﾀﾏｹﾝ","ﾏﾂﾌﾞｼﾏﾁ"]
[12,12100,"121002","千葉県","千葉市","ﾁﾊﾞｹﾝ","ﾁﾊﾞｼ"]
[12,12202,"122025","千葉県","銚子市","ﾁﾊﾞｹﾝ","ﾁｮｳｼｼ"]
[12,12203,"122033","千葉県","市川市","ﾁﾊﾞｹﾝ","ｲﾁｶﾜｼ"]
[{"$f":"ROUNDDOWN(C578/10000,0)","v":12},12204,"122041","千葉県","船橋市","ﾁﾊﾞｹﾝ","ﾌﾅﾊﾞｼｼ"]
[12,12205,"122050","千葉県","館山市","ﾁﾊﾞｹﾝ","ﾀﾃﾔﾏｼ"]
[12,12206,"122068","千葉県","木更津市","ﾁﾊﾞｹﾝ","ｷｻﾗﾂﾞｼ"]
[12,12207,"122076","千葉県","松戸市","ﾁﾊﾞｹﾝ","ﾏﾂﾄﾞｼ"]
[12,12208,"122084","千葉県","野田市","ﾁﾊﾞｹﾝ","ﾉﾀﾞｼ"]
[12,12210,"122106","千葉県","茂原市","ﾁﾊﾞｹﾝ","ﾓﾊﾞﾗｼ"]
[12,12211,"122114","千葉県","成田市","ﾁﾊﾞｹﾝ","ﾅﾘﾀｼ"]
[12,12212,"122122","千葉県","佐倉市","ﾁﾊﾞｹﾝ","ｻｸﾗｼ"]
[12,12213,"122131","千葉県","東金市","ﾁﾊﾞｹﾝ","ﾄｳｶﾞﾈｼ"]
[12,12215,"122157","千葉県","旭市","ﾁﾊﾞｹﾝ","ｱｻﾋｼ"]
[12,12216,"122165","千葉県","習志野市","ﾁﾊﾞｹﾝ","ﾅﾗｼﾉｼ"]
[12,12217,"122173","千葉県","柏市","ﾁﾊﾞｹﾝ","ｶｼﾜｼ"]
[12,12218,"122181","千葉県","勝浦市","ﾁﾊﾞｹﾝ","ｶﾂｳﾗｼ"]
[12,12219,"122190","千葉県","市原市","ﾁﾊﾞｹﾝ","ｲﾁﾊﾗｼ"]
[12,12220,"122203","千葉県","流山市","ﾁﾊﾞｹﾝ","ﾅｶﾞﾚﾔﾏｼ"]
[12,12221,"122211","千葉県","八千代市","ﾁﾊﾞｹﾝ","ﾔﾁﾖｼ"]
[12,12222,"122220","千葉県","我孫子市","ﾁﾊﾞｹﾝ","ｱﾋﾞｺｼ"]
[12,12223,"122238","千葉県","鴨川市","ﾁﾊﾞｹﾝ","ｶﾓｶﾞﾜｼ"]
[12,12224,"122246","千葉県","鎌ケ谷市","ﾁﾊﾞｹﾝ","ｶﾏｶﾞﾔｼ"]
[12,12225,"122254","千葉県","君津市","ﾁﾊﾞｹﾝ","ｷﾐﾂｼ"]
[12,12226,"122262","千葉県","富津市","ﾁﾊﾞｹﾝ","ﾌｯﾂｼ"]
[12,12227,"122271","千葉県","浦安市","ﾁﾊﾞｹﾝ","ｳﾗﾔｽｼ"]
[12,12228,"122289","千葉県","四街道市","ﾁﾊﾞｹﾝ","ﾖﾂｶｲﾄﾞｳｼ"]
[12,12229,"122297","千葉県","袖ケ浦市","ﾁﾊﾞｹﾝ","ｿﾃﾞｶﾞｳﾗｼ"]
[12,12230,"122301","千葉県","八街市","ﾁﾊﾞｹﾝ","ﾔﾁﾏﾀｼ"]
[12,12231,"122319","千葉県","印西市","ﾁﾊﾞｹﾝ","ｲﾝｻﾞｲｼ"]
[12,12232,"122327","千葉県","白井市","ﾁﾊﾞｹﾝ","ｼﾛｲｼ"]
[12,12233,"122335","千葉県","富里市","ﾁﾊﾞｹﾝ","ﾄﾐｻﾄｼ"]
[12,12234,"122343","千葉県","南房総市","ﾁﾊﾞｹﾝ","ﾐﾅﾐﾎﾞｳｿｳｼ"]
[12,12235,"122351","千葉県","匝瑳市","ﾁﾊﾞｹﾝ","ｿｳｻｼ"]
[12,12236,"122360","千葉県","香取市","ﾁﾊﾞｹﾝ","ｶﾄﾘｼ"]
[12,12237,"122378","千葉県","山武市","ﾁﾊﾞｹﾝ","ｻﾝﾑｼ"]
[12,12238,"122386","千葉県","いすみ市","ﾁﾊﾞｹﾝ","ｲｽﾐｼ"]
[12,12239,"122394","千葉県","大網白里市","ﾁﾊﾞｹﾝ","ｵｵｱﾐｼﾗｻﾄｼ"]
[12,12322,"123226","千葉県","酒々井町","ﾁﾊﾞｹﾝ","ｼｽｲﾏﾁ"]
[12,12329,"123293","千葉県","栄町","ﾁﾊﾞｹﾝ","ｻｶｴﾏﾁ"]
[12,12342,"123421","千葉県","神崎町","ﾁﾊﾞｹﾝ","ｺｳｻﾞｷﾏﾁ"]
[12,12347,"123471","千葉県","多古町","ﾁﾊﾞｹﾝ","ﾀｺﾏﾁ"]
[12,12349,"123498","千葉県","東庄町","ﾁﾊﾞｹﾝ","ﾄｳﾉｼｮｳﾏﾁ"]
[12,12403,"124036","千葉県","九十九里町","ﾁﾊﾞｹﾝ","ｸｼﾞﾕｳｸﾘﾏﾁ"]
[12,12409,"124095","千葉県","芝山町","ﾁﾊﾞｹﾝ","ｼﾊﾞﾔﾏﾏﾁ"]
[12,12410,"124109","千葉県","横芝光町","ﾁﾊﾞｹﾝ","ﾖｺｼﾊﾞﾋｶﾘﾏﾁ"]
[12,12421,"124214","千葉県","一宮町","ﾁﾊﾞｹﾝ","ｲﾁﾉﾐﾔﾏﾁ"]
[12,12422,"124222","千葉県","睦沢町","ﾁﾊﾞｹﾝ","ﾑﾂｻﾞﾜﾏﾁ"]
[12,12423,"124231","千葉県","長生村","ﾁﾊﾞｹﾝ","ﾁｮｳｾｲﾑﾗ"]
[12,12424,"124249","千葉県","白子町","ﾁﾊﾞｹﾝ","ｼﾗｺﾏﾁ"]
[12,12426,"124265","千葉県","長柄町","ﾁﾊﾞｹﾝ","ﾅｶﾞﾗﾏﾁ"]
[12,12427,"124273","千葉県","長南町","ﾁﾊﾞｹﾝ","ﾁｮｳﾅﾝﾏﾁ"]
[12,12441,"124419","千葉県","大多喜町","ﾁﾊﾞｹﾝ","ｵｵﾀｷﾏﾁ"]
[12,12443,"124435","千葉県","御宿町","ﾁﾊﾞｹﾝ","ｵﾝｼﾞﾕｸﾏﾁ"]
[12,12463,"124630","千葉県","鋸南町","ﾁﾊﾞｹﾝ","ｷﾖﾅﾝﾏﾁ"]
[13,13101,"131016","東京都","千代田区","ﾄｳｷｮｳﾄ","ﾁﾖﾀﾞｸ"]
[13,13102,"131024","東京都","中央区","ﾄｳｷｮｳﾄ","ﾁｭｳｵｳｸ"]
[13,13103,"131032","東京都","港区","ﾄｳｷｮｳﾄ","ﾐﾅﾄｸ"]
[13,13104,"131041","東京都","新宿区","ﾄｳｷｮｳﾄ","ｼﾝｼﾞｭｸｸ"]
[13,13105,"131059","東京都","文京区","ﾄｳｷｮｳﾄ","ﾌﾞﾝｷｮｳｸ"]
[13,13106,"131067","東京都","台東区","ﾄｳｷｮｳﾄ","ﾀｲﾄｳｸ"]
[13,13107,"131075","東京都","墨田区","ﾄｳｷｮｳﾄ","ｽﾐﾀﾞｸ"]
[13,13108,"131083","東京都","江東区","ﾄｳｷｮｳﾄ","ｺｳﾄｳｸ"]
[13,13109,"131091","東京都","品川区","ﾄｳｷｮｳﾄ","ｼﾅｶﾞﾜｸ"]
[13,13110,"131105","東京都","目黒区","ﾄｳｷｮｳﾄ","ﾒｸﾞﾛｸ"]
[13,13111,"131113","東京都","大田区","ﾄｳｷｮｳﾄ","ｵｵﾀｸ"]
[13,13112,"131121","東京都","世田谷区","ﾄｳｷｮｳﾄ","ｾﾀｶﾞﾔｸ"]
[13,13113,"131130","東京都","渋谷区","ﾄｳｷｮｳﾄ","ｼﾌﾞﾔｸ"]
[{"$f":"ROUNDDOWN(C642/10000,0)","v":13},13114,"131148","東京都","中野区","ﾄｳｷｮｳﾄ","ﾅｶﾉｸ"]
[13,13115,"131156","東京都","杉並区","ﾄｳｷｮｳﾄ","ｽｷﾞﾅﾐｸ"]
[13,13116,"131164","東京都","豊島区","ﾄｳｷｮｳﾄ","ﾄｼﾏｸ"]
[13,13117,"131172","東京都","北区","ﾄｳｷｮｳﾄ","ｷﾀｸ"]
[13,13118,"131181","東京都","荒川区","ﾄｳｷｮｳﾄ","ｱﾗｶﾜｸ"]
[13,13119,"131199","東京都","板橋区","ﾄｳｷｮｳﾄ","ｲﾀﾊﾞｼｸ"]
[13,13120,"131202","東京都","練馬区","ﾄｳｷｮｳﾄ","ﾈﾘﾏｸ"]
[13,13121,"131211","東京都","足立区","ﾄｳｷｮｳﾄ","ｱﾀﾞﾁｸ"]
[13,13122,"131229","東京都","葛飾区","ﾄｳｷｮｳﾄ","ｶﾂｼｶｸ"]
[13,13123,"131237","東京都","江戸川区","ﾄｳｷｮｳﾄ","ｴﾄﾞｶﾞﾜｸ"]
[13,13201,"132012","東京都","八王子市","ﾄｳｷｮｳﾄ","ﾊﾁｵｳｼﾞｼ"]
[13,13202,"132021","東京都","立川市","ﾄｳｷｮｳﾄ","ﾀﾁｶﾜｼ"]
[13,13203,"132039","東京都","武蔵野市","ﾄｳｷｮｳﾄ","ﾑｻｼﾉｼ"]
[13,13204,"132047","東京都","三鷹市","ﾄｳｷｮｳﾄ","ﾐﾀｶｼ"]
[13,13205,"132055","東京都","青梅市","ﾄｳｷｮｳﾄ","ｵｳﾒｼ"]
[13,13206,"132063","東京都","府中市","ﾄｳｷｮｳﾄ","ﾌﾁｭｳｼ"]
[13,13207,"132071","東京都","昭島市","ﾄｳｷｮｳﾄ","ｱｷｼﾏｼ"]
[13,13208,"132080","東京都","調布市","ﾄｳｷｮｳﾄ","ﾁｮｳﾌｼ"]
[13,13209,"132098","東京都","町田市","ﾄｳｷｮｳﾄ","ﾏﾁﾀﾞｼ"]
[13,13210,"132101","東京都","小金井市","ﾄｳｷｮｳﾄ","ｺｶﾞﾈｲｼ"]
[13,13211,"132110","東京都","小平市","ﾄｳｷｮｳﾄ","ｺﾀﾞｲﾗｼ"]
[13,13212,"132128","東京都","日野市","ﾄｳｷｮｳﾄ","ﾋﾉｼ"]
[13,13213,"132136","東京都","東村山市","ﾄｳｷｮｳﾄ","ﾋｶﾞｼﾑﾗﾔﾏｼ"]
[13,13214,"132144","東京都","国分寺市","ﾄｳｷｮｳﾄ","ｺｸﾌﾞﾝｼﾞｼ"]
[13,13215,"132152","東京都","国立市","ﾄｳｷｮｳﾄ","ｸﾆﾀﾁｼ"]
[13,13218,"132187","東京都","福生市","ﾄｳｷｮｳﾄ","ﾌｯｻｼ"]
[13,13219,"132195","東京都","狛江市","ﾄｳｷｮｳﾄ","ｺﾏｴｼ"]
[13,13220,"132209","東京都","東大和市","ﾄｳｷｮｳﾄ","ﾋｶﾞｼﾔﾏﾄｼ"]
[13,13221,"132217","東京都","清瀬市","ﾄｳｷｮｳﾄ","ｷﾖｾｼ"]
[13,13222,"132225","東京都","東久留米市","ﾄｳｷｮｳﾄ","ﾋｶﾞｼｸﾙﾒｼ"]
[13,13223,"132233","東京都","武蔵村山市","ﾄｳｷｮｳﾄ","ﾑｻｼﾑﾗﾔﾏｼ"]
[13,13224,"132241","東京都","多摩市","ﾄｳｷｮｳﾄ","ﾀﾏｼ"]
[13,13225,"132250","東京都","稲城市","ﾄｳｷｮｳﾄ","ｲﾅｷﾞｼ"]
[13,13227,"132276","東京都","羽村市","ﾄｳｷｮｳﾄ","ﾊﾑﾗｼ"]
[13,13228,"132284","東京都","あきる野市","ﾄｳｷｮｳﾄ","ｱｷﾙﾉｼ"]
[13,13229,"132292","東京都","西東京市","ﾄｳｷｮｳﾄ","ﾆｼﾄｳｷｮｳｼ"]
[13,13303,"133035","東京都","瑞穂町","ﾄｳｷｮｳﾄ","ﾐｽﾞﾎﾏﾁ"]
[13,13305,"133051","東京都","日の出町","ﾄｳｷｮｳﾄ","ﾋﾉﾃﾞﾏﾁ"]
[13,13307,"133078","東京都","檜原村","ﾄｳｷｮｳﾄ","ﾋﾉﾊﾗﾑﾗ"]
[13,13308,"133086","東京都","奥多摩町","ﾄｳｷｮｳﾄ","ｵｸﾀﾏﾏﾁ"]
[13,13361,"133612","東京都","大島町","ﾄｳｷｮｳﾄ","ｵｵｼﾏﾏﾁ"]
[13,13362,"133621","東京都","利島村","ﾄｳｷｮｳﾄ","ﾄｼﾏﾑﾗ"]
[13,13363,"133639","東京都","新島村","ﾄｳｷｮｳﾄ","ﾆｲｼﾞﾏﾑﾗ"]
[13,13364,"133647","東京都","神津島村","ﾄｳｷｮｳﾄ","ｺｳﾂﾞｼﾏﾑﾗ"]
[13,13381,"133817","東京都","三宅村","ﾄｳｷｮｳﾄ","ﾐﾔｹﾑﾗ"]
[13,13382,"133825","東京都","御蔵島村","ﾄｳｷｮｳﾄ","ﾐｸﾗｼﾞﾏﾑﾗ"]
[13,13401,"134015","東京都","八丈町","ﾄｳｷｮｳﾄ","ﾊﾁｼﾞｮｳﾏﾁ"]
[13,13402,"134023","東京都","青ヶ島村","ﾄｳｷｮｳﾄ","ｱｵｶﾞｼﾏﾑﾗ"]
[13,13421,"134210","東京都","小笠原村","ﾄｳｷｮｳﾄ","ｵｶﾞｻﾜﾗﾑﾗ"]
[14,14100,"141003","神奈川県","横浜市","ｶﾅｶﾞﾜｹﾝ","ﾖｺﾊﾏｼ"]
[14,14130,"141305","神奈川県","川崎市","ｶﾅｶﾞﾜｹﾝ","ｶﾜｻｷｼ"]
[14,14150,"141500","神奈川県","相模原市","ｶﾅｶﾞﾜｹﾝ","ｻｶﾞﾐﾊﾗｼ"]
[14,14201,"142018","神奈川県","横須賀市","ｶﾅｶﾞﾜｹﾝ","ﾖｺｽｶｼ"]
[14,14203,"142034","神奈川県","平塚市","ｶﾅｶﾞﾜｹﾝ","ﾋﾗﾂｶｼ"]
[14,14204,"142042","神奈川県","鎌倉市","ｶﾅｶﾞﾜｹﾝ","ｶﾏｸﾗｼ"]
[14,14205,"142051","神奈川県","藤沢市","ｶﾅｶﾞﾜｹﾝ","ﾌｼﾞｻﾜｼ"]
[14,14206,"142069","神奈川県","小田原市","ｶﾅｶﾞﾜｹﾝ","ｵﾀﾞﾜﾗｼ"]
[14,14207,"142077","神奈川県","茅ヶ崎市","ｶﾅｶﾞﾜｹﾝ","ﾁｶﾞｻｷｼ"]
[14,14208,"142085","神奈川県","逗子市","ｶﾅｶﾞﾜｹﾝ","ｽﾞｼｼ"]
[14,14210,"142107","神奈川県","三浦市","ｶﾅｶﾞﾜｹﾝ","ﾐｳﾗｼ"]
[14,14211,"142115","神奈川県","秦野市","ｶﾅｶﾞﾜｹﾝ","ﾊﾀﾞﾉｼ"]
[14,14212,"142123","神奈川県","厚木市","ｶﾅｶﾞﾜｹﾝ","ｱﾂｷﾞｼ"]
[14,14213,"142131","神奈川県","大和市","ｶﾅｶﾞﾜｹﾝ","ﾔﾏﾄｼ"]
[14,14214,"142140","神奈川県","伊勢原市","ｶﾅｶﾞﾜｹﾝ","ｲｾﾊﾗｼ"]
[{"$f":"ROUNDDOWN(C706/10000,0)","v":14},14215,"142158","神奈川県","海老名市","ｶﾅｶﾞﾜｹﾝ","ｴﾋﾞﾅｼ"]
[14,14216,"142166","神奈川県","座間市","ｶﾅｶﾞﾜｹﾝ","ｻﾞﾏｼ"]
[14,14217,"142174","神奈川県","南足柄市","ｶﾅｶﾞﾜｹﾝ","ﾐﾅﾐｱｼｶﾞﾗｼ"]
[14,14218,"142182","神奈川県","綾瀬市","ｶﾅｶﾞﾜｹﾝ","ｱﾔｾｼ"]
[14,14301,"143014","神奈川県","葉山町","ｶﾅｶﾞﾜｹﾝ","ﾊﾔﾏﾏﾁ"]
[14,14321,"143219","神奈川県","寒川町","ｶﾅｶﾞﾜｹﾝ","ｻﾑｶﾜﾏﾁ"]
[14,14341,"143413","神奈川県","大磯町","ｶﾅｶﾞﾜｹﾝ","ｵｵｲｿﾏﾁ"]
[14,14342,"143421","神奈川県","二宮町","ｶﾅｶﾞﾜｹﾝ","ﾆﾉﾐﾔﾏﾁ"]
[14,14361,"143618","神奈川県","中井町","ｶﾅｶﾞﾜｹﾝ","ﾅｶｲﾏﾁ"]
[14,14362,"143626","神奈川県","大井町","ｶﾅｶﾞﾜｹﾝ","ｵｵｲﾏﾁ"]
[14,14363,"143634","神奈川県","松田町","ｶﾅｶﾞﾜｹﾝ","ﾏﾂﾀﾞﾏﾁ"]
[14,14364,"143642","神奈川県","山北町","ｶﾅｶﾞﾜｹﾝ","ﾔﾏｷﾀﾏﾁ"]
[14,14366,"143669","神奈川県","開成町","ｶﾅｶﾞﾜｹﾝ","ｶｲｾｲﾏﾁ"]
[14,14382,"143821","神奈川県","箱根町","ｶﾅｶﾞﾜｹﾝ","ﾊｺﾈﾏﾁ"]
[14,14383,"143839","神奈川県","真鶴町","ｶﾅｶﾞﾜｹﾝ","ﾏﾅﾂﾙﾏﾁ"]
[14,14384,"143847","神奈川県","湯河原町","ｶﾅｶﾞﾜｹﾝ","ﾕｶﾞﾜﾗﾏﾁ"]
[14,14401,"144011","神奈川県","愛川町","ｶﾅｶﾞﾜｹﾝ","ｱｲｶﾜﾏﾁ"]
[14,14402,"144029","神奈川県","清川村","ｶﾅｶﾞﾜｹﾝ","ｷﾖｶﾜﾑﾗ"]
[15,15100,"151009","新潟県","新潟市","ﾆｲｶﾞﾀｹﾝ","ﾆｲｶﾞﾀｼ"]
[15,15202,"152021","新潟県","長岡市","ﾆｲｶﾞﾀｹﾝ","ﾅｶﾞｵｶｼ"]
[15,15204,"152048","新潟県","三条市","ﾆｲｶﾞﾀｹﾝ","ｻﾝｼﾞｮｳｼ"]
[15,15205,"152056","新潟県","柏崎市","ﾆｲｶﾞﾀｹﾝ","ｶｼﾜｻﾞｷｼ"]
[15,15206,"152064","新潟県","新発田市","ﾆｲｶﾞﾀｹﾝ","ｼﾊﾞﾀｼ"]
[15,15208,"152081","新潟県","小千谷市","ﾆｲｶﾞﾀｹﾝ","ｵﾁﾞﾔｼ"]
[15,15209,"152099","新潟県","加茂市","ﾆｲｶﾞﾀｹﾝ","ｶﾓｼ"]
[15,15210,"152102","新潟県","十日町市","ﾆｲｶﾞﾀｹﾝ","ﾄｵｶﾏﾁｼ"]
[15,15211,"152111","新潟県","見附市","ﾆｲｶﾞﾀｹﾝ","ﾐﾂｹｼ"]
[15,15212,"152129","新潟県","村上市","ﾆｲｶﾞﾀｹﾝ","ﾑﾗｶﾐｼ"]
[15,15213,"152137","新潟県","燕市","ﾆｲｶﾞﾀｹﾝ","ﾂﾊﾞﾒｼ"]
[15,15216,"152161","新潟県","糸魚川市","ﾆｲｶﾞﾀｹﾝ","ｲﾄｲｶﾞﾜｼ"]
[15,15217,"152170","新潟県","妙高市","ﾆｲｶﾞﾀｹﾝ","ﾐｮｳｺｳｼ"]
[15,15218,"152188","新潟県","五泉市","ﾆｲｶﾞﾀｹﾝ","ｺﾞｾﾝｼ"]
[15,15222,"152226","新潟県","上越市","ﾆｲｶﾞﾀｹﾝ","ｼﾞｮｳｴﾂｼ"]
[15,15223,"152234","新潟県","阿賀野市","ﾆｲｶﾞﾀｹﾝ","ｱｶﾞﾉｼ"]
[15,15224,"152242","新潟県","佐渡市","ﾆｲｶﾞﾀｹﾝ","ｻﾄﾞｼ"]
[15,15225,"152251","新潟県","魚沼市","ﾆｲｶﾞﾀｹﾝ","ｳｵﾇﾏｼ"]
[15,15226,"152269","新潟県","南魚沼市","ﾆｲｶﾞﾀｹﾝ","ﾐﾅﾐｳｵﾇﾏｼ"]
[15,15227,"152277","新潟県","胎内市","ﾆｲｶﾞﾀｹﾝ","ﾀｲﾅｲｼ"]
[15,15307,"153079","新潟県","聖籠町","ﾆｲｶﾞﾀｹﾝ","ｾｲﾛｳﾏﾁ"]
[15,15342,"153427","新潟県","弥彦村","ﾆｲｶﾞﾀｹﾝ","ﾔﾋｺﾑﾗ"]
[15,15361,"153613","新潟県","田上町","ﾆｲｶﾞﾀｹﾝ","ﾀｶﾞﾐﾏﾁ"]
[15,15385,"153851","新潟県","阿賀町","ﾆｲｶﾞﾀｹﾝ","ｱｶﾞﾏﾁ"]
[15,15405,"154059","新潟県","出雲崎町","ﾆｲｶﾞﾀｹﾝ","ｲｽﾞﾓｻﾞｷﾏﾁ"]
[15,15461,"154610","新潟県","湯沢町","ﾆｲｶﾞﾀｹﾝ","ﾕｻﾞﾜﾏﾁ"]
[15,15482,"154822","新潟県","津南町","ﾆｲｶﾞﾀｹﾝ","ﾂﾅﾝﾏﾁ"]
[15,15504,"155047","新潟県","刈羽村","ﾆｲｶﾞﾀｹﾝ","ｶﾘﾜﾑﾗ"]
[15,15581,"155811","新潟県","関川村","ﾆｲｶﾞﾀｹﾝ","ｾｷｶﾜﾑﾗ"]
[15,15586,"155861","新潟県","粟島浦村","ﾆｲｶﾞﾀｹﾝ","ｱﾜｼﾏｳﾗﾑﾗ"]
[16,16201,"162019","富山県","富山市","ﾄﾔﾏｹﾝ","ﾄﾔﾏｼ"]
[16,16202,"162027","富山県","高岡市","ﾄﾔﾏｹﾝ","ﾀｶｵｶｼ"]
[16,16204,"162043","富山県","魚津市","ﾄﾔﾏｹﾝ","ｳｵﾂﾞｼ"]
[16,16205,"162051","富山県","氷見市","ﾄﾔﾏｹﾝ","ﾋﾐｼ"]
[16,16206,"162060","富山県","滑川市","ﾄﾔﾏｹﾝ","ﾅﾒﾘｶﾜｼ"]
[16,16207,"162078","富山県","黒部市","ﾄﾔﾏｹﾝ","ｸﾛﾍﾞｼ"]
[16,16208,"162086","富山県","砺波市","ﾄﾔﾏｹﾝ","ﾄﾅﾐｼ"]
[16,16209,"162094","富山県","小矢部市","ﾄﾔﾏｹﾝ","ｵﾔﾍﾞｼ"]
[16,16210,"162108","富山県","南砺市","ﾄﾔﾏｹﾝ","ﾅﾝﾄｼ"]
[16,16211,"162116","富山県","射水市","ﾄﾔﾏｹﾝ","ｲﾐｽﾞｼ"]
[16,16321,"163210","富山県","舟橋村","ﾄﾔﾏｹﾝ","ﾌﾅﾊｼﾑﾗ"]
[16,16322,"163228","富山県","上市町","ﾄﾔﾏｹﾝ","ｶﾐｲﾁﾏﾁ"]
[16,16323,"163236","富山県","立山町","ﾄﾔﾏｹﾝ","ﾀﾃﾔﾏﾏﾁ"]
[16,16342,"163422","富山県","入善町","ﾄﾔﾏｹﾝ","ﾆｭｳｾﾞﾝﾏﾁ"]
[16,16343,"163431","富山県","朝日町","ﾄﾔﾏｹﾝ","ｱｻﾋﾏﾁ"]
[17,17201,"172014","石川県","金沢市","ｲｼｶﾜｹﾝ","ｶﾅｻﾞﾜｼ"]
[{"$f":"ROUNDDOWN(C770/10000,0)","v":17},17202,"172022","石川県","七尾市","ｲｼｶﾜｹﾝ","ﾅﾅｵｼ"]
[17,17203,"172031","石川県","小松市","ｲｼｶﾜｹﾝ","ｺﾏﾂｼ"]
[17,17204,"172049","石川県","輪島市","ｲｼｶﾜｹﾝ","ﾜｼﾞﾏｼ"]
[17,17205,"172057","石川県","珠洲市","ｲｼｶﾜｹﾝ","ｽｽﾞｼ"]
[17,17206,"172065","石川県","加賀市","ｲｼｶﾜｹﾝ","ｶｶﾞｼ"]
[17,17207,"172073","石川県","羽咋市","ｲｼｶﾜｹﾝ","ﾊｸｲｼ"]
[17,17209,"172090","石川県","かほく市","ｲｼｶﾜｹﾝ","ｶﾎｸｼ"]
[17,17210,"172103","石川県","白山市","ｲｼｶﾜｹﾝ","ﾊｸｻﾝｼ"]
[17,17211,"172111","石川県","能美市","ｲｼｶﾜｹﾝ","ﾉﾐｼ"]
[17,17212,"172120","石川県","野々市市","ｲｼｶﾜｹﾝ","ﾉﾉｲﾁｼ"]
[17,17324,"173240","石川県","川北町","ｲｼｶﾜｹﾝ","ｶﾜｷﾀﾏﾁ"]
[17,17361,"173614","石川県","津幡町","ｲｼｶﾜｹﾝ","ﾂﾊﾞﾀﾏﾁ"]
[17,17365,"173657","石川県","内灘町","ｲｼｶﾜｹﾝ","ｳﾁﾅﾀﾞﾏﾁ"]
[17,17384,"173843","石川県","志賀町","ｲｼｶﾜｹﾝ","ｼｶﾏﾁ"]
[17,17386,"173860","石川県","宝達志水町","ｲｼｶﾜｹﾝ","ﾎｳﾀﾞﾂｼﾐｽﾞﾁｮｳ"]
[17,17407,"174076","石川県","中能登町","ｲｼｶﾜｹﾝ","ﾅｶﾉﾄﾏﾁ"]
[17,17461,"174611","石川県","穴水町","ｲｼｶﾜｹﾝ","ｱﾅﾐｽﾞﾏﾁ"]
[17,17463,"174637","石川県","能登町","ｲｼｶﾜｹﾝ","ﾉﾄﾁｮｳ"]
[18,18201,"182010","福井県","福井市","ﾌｸｲｹﾝ","ﾌｸｲｼ"]
[18,18202,"182028","福井県","敦賀市","ﾌｸｲｹﾝ","ﾂﾙｶﾞｼ"]
[18,18204,"182044","福井県","小浜市","ﾌｸｲｹﾝ","ｵﾊﾞﾏｼ"]
[18,18205,"182052","福井県","大野市","ﾌｸｲｹﾝ","ｵｵﾉｼ"]
[18,18206,"182061","福井県","勝山市","ﾌｸｲｹﾝ","ｶﾂﾔﾏｼ"]
[18,18207,"182079","福井県","鯖江市","ﾌｸｲｹﾝ","ｻﾊﾞｴｼ"]
[18,18208,"182087","福井県","あわら市","ﾌｸｲｹﾝ","ｱﾜﾗｼ"]
[18,18209,"182095","福井県","越前市","ﾌｸｲｹﾝ","ｴﾁｾﾞﾝｼ"]
[18,18210,"182109","福井県","坂井市","ﾌｸｲｹﾝ","ｻｶｲｼ"]
[18,18322,"183229","福井県","永平寺町","ﾌｸｲｹﾝ","ｴｲﾍｲｼﾞﾁｮｳ"]
[18,18382,"183822","福井県","池田町","ﾌｸｲｹﾝ","ｲｹﾀﾞﾁｮｳ"]
[18,18404,"184047","福井県","南越前町","ﾌｸｲｹﾝ","ﾐﾅﾐｴﾁｾﾞﾝﾁｮｳ"]
[18,18423,"184233","福井県","越前町","ﾌｸｲｹﾝ","ｴﾁｾﾞﾝﾁｮｳ"]
[18,18442,"184420","福井県","美浜町","ﾌｸｲｹﾝ","ﾐﾊﾏﾁｮｳ"]
[18,18481,"184811","福井県","高浜町","ﾌｸｲｹﾝ","ﾀｶﾊﾏﾁｮｳ"]
[18,18483,"184837","福井県","おおい町","ﾌｸｲｹﾝ","ｵｵｲﾁｮｳ"]
[18,18501,"185019","福井県","若狭町","ﾌｸｲｹﾝ","ﾜｶｻﾁｮｳ"]
[19,19201,"192015","山梨県","甲府市","ﾔﾏﾅｼｹﾝ","ｺｳﾌｼ"]
[19,19202,"192023","山梨県","富士吉田市","ﾔﾏﾅｼｹﾝ","ﾌｼﾞﾖｼﾀﾞｼ"]
[19,19204,"192040","山梨県","都留市","ﾔﾏﾅｼｹﾝ","ﾂﾙｼ"]
[19,19205,"192058","山梨県","山梨市","ﾔﾏﾅｼｹﾝ","ﾔﾏﾅｼｼ"]
[19,19206,"192066","山梨県","大月市","ﾔﾏﾅｼｹﾝ","ｵｵﾂｷｼ"]
[19,19207,"192074","山梨県","韮崎市","ﾔﾏﾅｼｹﾝ","ﾆﾗｻｷｼ"]
[19,19208,"192082","山梨県","南アルプス市","ﾔﾏﾅｼｹﾝ","ﾐﾅﾐｱﾙﾌﾟｽｼ"]
[19,19209,"192091","山梨県","北杜市","ﾔﾏﾅｼｹﾝ","ﾎｸﾄｼ"]
[19,19210,"192104","山梨県","甲斐市","ﾔﾏﾅｼｹﾝ","ｶｲｼ"]
[19,19211,"192112","山梨県","笛吹市","ﾔﾏﾅｼｹﾝ","ﾌｴﾌｷｼ"]
[19,19212,"192121","山梨県","上野原市","ﾔﾏﾅｼｹﾝ","ｳｴﾉﾊﾗｼ"]
[19,19213,"192139","山梨県","甲州市","ﾔﾏﾅｼｹﾝ","ｺｳｼｭｳｼ"]
[19,19214,"192147","山梨県","中央市","ﾔﾏﾅｼｹﾝ","ﾁｭｳｵｳｼ"]
[19,19346,"193461","山梨県","市川三郷町","ﾔﾏﾅｼｹﾝ","ｲﾁｶﾜﾐｻﾄﾁｮｳ"]
[19,19364,"193640","山梨県","早川町","ﾔﾏﾅｼｹﾝ","ﾊﾔｶﾜﾁｮｳ"]
[19,19365,"193658","山梨県","身延町","ﾔﾏﾅｼｹﾝ","ﾐﾉﾌﾞﾁｮｳ"]
[19,19366,"193666","山梨県","南部町","ﾔﾏﾅｼｹﾝ","ﾅﾝﾌﾞﾁｮｳ"]
[19,19368,"193682","山梨県","富士川町","ﾔﾏﾅｼｹﾝ","ﾌｼﾞｶﾜﾁｮｳ"]
[19,19384,"193844","山梨県","昭和町","ﾔﾏﾅｼｹﾝ","ｼｮｳﾜﾁｮｳ"]
[19,19422,"194221","山梨県","道志村","ﾔﾏﾅｼｹﾝ","ﾄﾞｳｼﾑﾗ"]
[19,19423,"194239","山梨県","西桂町","ﾔﾏﾅｼｹﾝ","ﾆｼｶﾂﾗﾁｮｳ"]
[19,19424,"194247","山梨県","忍野村","ﾔﾏﾅｼｹﾝ","ｵｼﾉﾑﾗ"]
[19,19425,"194255","山梨県","山中湖村","ﾔﾏﾅｼｹﾝ","ﾔﾏﾅｶｺﾑﾗ"]
[19,19429,"194298","山梨県","鳴沢村","ﾔﾏﾅｼｹﾝ","ﾅﾙｻﾜﾑﾗ"]
[19,19430,"194301","山梨県","富士河口湖町","ﾔﾏﾅｼｹﾝ","ﾌｼﾞｶﾜｸﾞﾁｺﾏﾁ"]
[19,19442,"194425","山梨県","小菅村","ﾔﾏﾅｼｹﾝ","ｺｽｹﾞﾑﾗ"]
[19,19443,"194433","山梨県","丹波山村","ﾔﾏﾅｼｹﾝ","ﾀﾊﾞﾔﾏﾑﾗ"]
[20,20201,"202011","長野県","長野市","ﾅｶﾞﾉｹﾝ","ﾅｶﾞﾉｼ"]
[20,20202,"202029","長野県","松本市","ﾅｶﾞﾉｹﾝ","ﾏﾂﾓﾄｼ"]
[{"$f":"ROUNDDOWN(C834/10000,0)","v":20},20203,"202037","長野県","上田市","ﾅｶﾞﾉｹﾝ","ｳｴﾀﾞｼ"]
[20,20204,"202045","長野県","岡谷市","ﾅｶﾞﾉｹﾝ","ｵｶﾔｼ"]
[20,20205,"202053","長野県","飯田市","ﾅｶﾞﾉｹﾝ","ｲｲﾀﾞｼ"]
[20,20206,"202061","長野県","諏訪市","ﾅｶﾞﾉｹﾝ","ｽﾜｼ"]
[20,20207,"202070","長野県","須坂市","ﾅｶﾞﾉｹﾝ","ｽｻﾞｶｼ"]
[20,20208,"202088","長野県","小諸市","ﾅｶﾞﾉｹﾝ","ｺﾓﾛｼ"]
[20,20209,"202096","長野県","伊那市","ﾅｶﾞﾉｹﾝ","ｲﾅｼ"]
[20,20210,"202100","長野県","駒ヶ根市","ﾅｶﾞﾉｹﾝ","ｺﾏｶﾞﾈｼ"]
[20,20211,"202118","長野県","中野市","ﾅｶﾞﾉｹﾝ","ﾅｶﾉｼ"]
[20,20212,"202126","長野県","大町市","ﾅｶﾞﾉｹﾝ","ｵｵﾏﾁｼ"]
[20,20213,"202134","長野県","飯山市","ﾅｶﾞﾉｹﾝ","ｲｲﾔﾏｼ"]
[20,20214,"202142","長野県","茅野市","ﾅｶﾞﾉｹﾝ","ﾁﾉｼ"]
[20,20215,"202151","長野県","塩尻市","ﾅｶﾞﾉｹﾝ","ｼｵｼﾞﾘｼ"]
[20,20217,"202177","長野県","佐久市","ﾅｶﾞﾉｹﾝ","ｻｸｼ"]
[20,20218,"202185","長野県","千曲市","ﾅｶﾞﾉｹﾝ","ﾁｸﾏｼ"]
[20,20219,"202193","長野県","東御市","ﾅｶﾞﾉｹﾝ","ﾄｳﾐｼ"]
[20,20220,"202207","長野県","安曇野市","ﾅｶﾞﾉｹﾝ","ｱﾂﾞﾐﾉｼ"]
[20,20303,"203033","長野県","小海町","ﾅｶﾞﾉｹﾝ","ｺｳﾐﾏﾁ"]
[20,20304,"203041","長野県","川上村","ﾅｶﾞﾉｹﾝ","ｶﾜｶﾐﾑﾗ"]
[20,20305,"203050","長野県","南牧村","ﾅｶﾞﾉｹﾝ","ﾐﾅﾐﾏｷﾑﾗ"]
[20,20306,"203068","長野県","南相木村","ﾅｶﾞﾉｹﾝ","ﾐﾅﾐｱｲｷﾑﾗ"]
[20,20307,"203076","長野県","北相木村","ﾅｶﾞﾉｹﾝ","ｷﾀｱｲｷﾑﾗ"]
[20,20309,"203092","長野県","佐久穂町","ﾅｶﾞﾉｹﾝ","ｻｸﾎﾏﾁ"]
[20,20321,"203211","長野県","軽井沢町","ﾅｶﾞﾉｹﾝ","ｶﾙｲｻﾞﾜﾏﾁ"]
[20,20323,"203238","長野県","御代田町","ﾅｶﾞﾉｹﾝ","ﾐﾖﾀﾏﾁ"]
[20,20324,"203246","長野県","立科町","ﾅｶﾞﾉｹﾝ","ﾀﾃｼﾅﾏﾁ"]
[20,20349,"203491","長野県","青木村","ﾅｶﾞﾉｹﾝ","ｱｵｷﾑﾗ"]
[20,20350,"203505","長野県","長和町","ﾅｶﾞﾉｹﾝ","ﾅｶﾞﾜﾏﾁ"]
[20,20361,"203611","長野県","下諏訪町","ﾅｶﾞﾉｹﾝ","ｼﾓｽﾜﾏﾁ"]
[20,20362,"203629","長野県","富士見町","ﾅｶﾞﾉｹﾝ","ﾌｼﾞﾐﾏﾁ"]
[20,20363,"203637","長野県","原村","ﾅｶﾞﾉｹﾝ","ﾊﾗﾑﾗ"]
[20,20382,"203823","長野県","辰野町","ﾅｶﾞﾉｹﾝ","ﾀﾂﾉﾏﾁ"]
[20,20383,"203831","長野県","箕輪町","ﾅｶﾞﾉｹﾝ","ﾐﾉﾜﾏﾁ"]
[20,20384,"203840","長野県","飯島町","ﾅｶﾞﾉｹﾝ","ｲｲｼﾞﾏﾏﾁ"]
[20,20385,"203858","長野県","南箕輪村","ﾅｶﾞﾉｹﾝ","ﾐﾅﾐﾐﾉﾜﾑﾗ"]
[20,20386,"203866","長野県","中川村","ﾅｶﾞﾉｹﾝ","ﾅｶｶﾞﾜﾑﾗ"]
[20,20388,"203882","長野県","宮田村","ﾅｶﾞﾉｹﾝ","ﾐﾔﾀﾞﾑﾗ"]
[20,20402,"204021","長野県","松川町","ﾅｶﾞﾉｹﾝ","ﾏﾂｶﾜﾏﾁ"]
[20,20403,"204030","長野県","高森町","ﾅｶﾞﾉｹﾝ","ﾀｶﾓﾘﾏﾁ"]
[20,20404,"204048","長野県","阿南町","ﾅｶﾞﾉｹﾝ","ｱﾅﾝﾁｮｳ"]
[20,20407,"204072","長野県","阿智村","ﾅｶﾞﾉｹﾝ","ｱﾁﾑﾗ"]
[20,20409,"204099","長野県","平谷村","ﾅｶﾞﾉｹﾝ","ﾋﾗﾔﾑﾗ"]
[20,20410,"204102","長野県","根羽村","ﾅｶﾞﾉｹﾝ","ﾈﾊﾞﾑﾗ"]
[20,20411,"204111","長野県","下條村","ﾅｶﾞﾉｹﾝ","ｼﾓｼﾞｮｳﾑﾗ"]
[20,20412,"204129","長野県","売木村","ﾅｶﾞﾉｹﾝ","ｳﾙｷﾞﾑﾗ"]
[20,20413,"204137","長野県","天龍村","ﾅｶﾞﾉｹﾝ","ﾃﾝﾘｭｳﾑﾗ"]
[20,20414,"204145","長野県","泰阜村","ﾅｶﾞﾉｹﾝ","ﾔｽｵｶﾑﾗ"]
[20,20415,"204153","長野県","喬木村","ﾅｶﾞﾉｹﾝ","ﾀｶｷﾞﾑﾗ"]
[20,20416,"204161","長野県","豊丘村","ﾅｶﾞﾉｹﾝ","ﾄﾖｵｶﾑﾗ"]
[20,20417,"204170","長野県","大鹿村","ﾅｶﾞﾉｹﾝ","ｵｵｼｶﾑﾗ"]
[20,20422,"204226","長野県","上松町","ﾅｶﾞﾉｹﾝ","ｱｹﾞﾏﾂﾏﾁ"]
[20,20423,"204234","長野県","南木曽町","ﾅｶﾞﾉｹﾝ","ﾅｷﾞｿﾏﾁ"]
[20,20425,"204251","長野県","木祖村","ﾅｶﾞﾉｹﾝ","ｷｿﾑﾗ"]
[20,20429,"204293","長野県","王滝村","ﾅｶﾞﾉｹﾝ","ｵｳﾀｷﾑﾗ"]
[20,20430,"204307","長野県","大桑村","ﾅｶﾞﾉｹﾝ","ｵｵｸﾜﾑﾗ"]
[20,20432,"204323","長野県","木曽町","ﾅｶﾞﾉｹﾝ","ｷｿﾏﾁ"]
[20,20446,"204463","長野県","麻績村","ﾅｶﾞﾉｹﾝ","ｵﾐﾑﾗ"]
[20,20448,"204480","長野県","生坂村","ﾅｶﾞﾉｹﾝ","ｲｸｻｶﾑﾗ"]
[20,20450,"204501","長野県","山形村","ﾅｶﾞﾉｹﾝ","ﾔﾏｶﾞﾀﾑﾗ"]
[20,20451,"204510","長野県","朝日村","ﾅｶﾞﾉｹﾝ","ｱｻﾋﾑﾗ"]
[20,20452,"204528","長野県","筑北村","ﾅｶﾞﾉｹﾝ","ﾁｸﾎｸﾑﾗ"]
[20,20481,"204811","長野県","池田町","ﾅｶﾞﾉｹﾝ","ｲｹﾀﾞﾏﾁ"]
[20,20482,"204820","長野県","松川村","ﾅｶﾞﾉｹﾝ","ﾏﾂｶﾜﾑﾗ"]
[20,20485,"204854","長野県","白馬村","ﾅｶﾞﾉｹﾝ","ﾊｸﾊﾞﾑﾗ"]
[{"$f":"ROUNDDOWN(C898/10000,0)","v":20},20486,"204862","長野県","小谷村","ﾅｶﾞﾉｹﾝ","ｵﾀﾘﾑﾗ"]
[20,20521,"205214","長野県","坂城町","ﾅｶﾞﾉｹﾝ","ｻｶｷﾏﾁ"]
[20,20541,"205419","長野県","小布施町","ﾅｶﾞﾉｹﾝ","ｵﾌﾞｾﾏﾁ"]
[20,20543,"205435","長野県","高山村","ﾅｶﾞﾉｹﾝ","ﾀｶﾔﾏﾑﾗ"]
[20,20561,"205613","長野県","山ノ内町","ﾅｶﾞﾉｹﾝ","ﾔﾏﾉｳﾁﾏﾁ"]
[20,20562,"205621","長野県","木島平村","ﾅｶﾞﾉｹﾝ","ｷｼﾞﾏﾀﾞｲﾗﾑﾗ"]
[20,20563,"205630","長野県","野沢温泉村","ﾅｶﾞﾉｹﾝ","ﾉｻﾞﾜｵﾝｾﾝﾑﾗ"]
[20,20583,"205834","長野県","信濃町","ﾅｶﾞﾉｹﾝ","ｼﾅﾉﾏﾁ"]
[20,20588,"205885","長野県","小川村","ﾅｶﾞﾉｹﾝ","ｵｶﾞﾜﾑﾗ"]
[20,20590,"205907","長野県","飯綱町","ﾅｶﾞﾉｹﾝ","ｲｲﾂﾞﾅﾏﾁ"]
[20,20602,"206024","長野県","栄村","ﾅｶﾞﾉｹﾝ","ｻｶｴﾑﾗ"]
[21,21201,"212016","岐阜県","岐阜市","ｷﾞﾌｹﾝ","ｷﾞﾌｼ"]
[21,21202,"212024","岐阜県","大垣市","ｷﾞﾌｹﾝ","ｵｵｶﾞｷｼ"]
[21,21203,"212032","岐阜県","高山市","ｷﾞﾌｹﾝ","ﾀｶﾔﾏｼ"]
[21,21204,"212041","岐阜県","多治見市","ｷﾞﾌｹﾝ","ﾀｼﾞﾐｼ"]
[21,21205,"212059","岐阜県","関市","ｷﾞﾌｹﾝ","ｾｷｼ"]
[21,21206,"212067","岐阜県","中津川市","ｷﾞﾌｹﾝ","ﾅｶﾂｶﾞﾜｼ"]
[21,21207,"212075","岐阜県","美濃市","ｷﾞﾌｹﾝ","ﾐﾉｼ"]
[21,21208,"212083","岐阜県","瑞浪市","ｷﾞﾌｹﾝ","ﾐｽﾞﾅﾐｼ"]
[21,21209,"212091","岐阜県","羽島市","ｷﾞﾌｹﾝ","ﾊｼﾏｼ"]
[21,21210,"212105","岐阜県","恵那市","ｷﾞﾌｹﾝ","ｴﾅｼ"]
[21,21211,"212113","岐阜県","美濃加茂市","ｷﾞﾌｹﾝ","ﾐﾉｶﾓｼ"]
[21,21212,"212121","岐阜県","土岐市","ｷﾞﾌｹﾝ","ﾄｷｼ"]
[21,21213,"212130","岐阜県","各務原市","ｷﾞﾌｹﾝ","ｶｶﾐｶﾞﾊﾗｼ"]
[21,21214,"212148","岐阜県","可児市","ｷﾞﾌｹﾝ","ｶﾆｼ"]
[21,21215,"212156","岐阜県","山県市","ｷﾞﾌｹﾝ","ﾔﾏｶﾞﾀｼ"]
[21,21216,"212164","岐阜県","瑞穂市","ｷﾞﾌｹﾝ","ﾐｽﾞﾎｼ"]
[21,21217,"212172","岐阜県","飛騨市","ｷﾞﾌｹﾝ","ﾋﾀﾞｼ"]
[21,21218,"212181","岐阜県","本巣市","ｷﾞﾌｹﾝ","ﾓﾄｽｼ"]
[21,21219,"212199","岐阜県","郡上市","ｷﾞﾌｹﾝ","ｸﾞｼﾞｮｳｼ"]
[21,21220,"212202","岐阜県","下呂市","ｷﾞﾌｹﾝ","ｹﾞﾛｼ"]
[21,21221,"212211","岐阜県","海津市","ｷﾞﾌｹﾝ","ｶｲﾂﾞｼ"]
[21,21302,"213021","岐阜県","岐南町","ｷﾞﾌｹﾝ","ｷﾞﾅﾝﾁｮｳ"]
[21,21303,"213039","岐阜県","笠松町","ｷﾞﾌｹﾝ","ｶｻﾏﾂﾁｮｳ"]
[21,21341,"213411","岐阜県","養老町","ｷﾞﾌｹﾝ","ﾖｳﾛｳﾁｮｳ"]
[21,21361,"213616","岐阜県","垂井町","ｷﾞﾌｹﾝ","ﾀﾙｲﾁｮｳ"]
[21,21362,"213624","岐阜県","関ケ原町","ｷﾞﾌｹﾝ","ｾｷｶﾞﾊﾗﾁｮｳ"]
[21,21381,"213811","岐阜県","神戸町","ｷﾞﾌｹﾝ","ｺﾞｳﾄﾞﾁｮｳ"]
[21,21382,"213829","岐阜県","輪之内町","ｷﾞﾌｹﾝ","ﾜﾉｳﾁﾁｮｳ"]
[21,21383,"213837","岐阜県","安八町","ｷﾞﾌｹﾝ","ｱﾝﾊﾟﾁﾁｮｳ"]
[21,21401,"214019","岐阜県","揖斐川町","ｷﾞﾌｹﾝ","ｲﾋﾞｶﾞﾜﾁｮｳ"]
[21,21403,"214035","岐阜県","大野町","ｷﾞﾌｹﾝ","ｵｵﾉﾁｮｳ"]
[21,21404,"214043","岐阜県","池田町","ｷﾞﾌｹﾝ","ｲｹﾀﾞﾁｮｳ"]
[21,21421,"214213","岐阜県","北方町","ｷﾞﾌｹﾝ","ｷﾀｶﾞﾀﾁｮｳ"]
[21,21501,"215015","岐阜県","坂祝町","ｷﾞﾌｹﾝ","ｻｶﾎｷﾞﾁｮｳ"]
[21,21502,"215023","岐阜県","富加町","ｷﾞﾌｹﾝ","ﾄﾐｶﾁｮｳ"]
[21,21503,"215031","岐阜県","川辺町","ｷﾞﾌｹﾝ","ｶﾜﾍﾞﾁｮｳ"]
[21,21504,"215040","岐阜県","七宗町","ｷﾞﾌｹﾝ","ﾋﾁｿｳﾁｮｳ"]
[21,21505,"215058","岐阜県","八百津町","ｷﾞﾌｹﾝ","ﾔｵﾂﾁｮｳ"]
[21,21506,"215066","岐阜県","白川町","ｷﾞﾌｹﾝ","ｼﾗｶﾜﾁｮｳ"]
[21,21507,"215074","岐阜県","東白川村","ｷﾞﾌｹﾝ","ﾋｶﾞｼｼﾗｶﾜﾑﾗ"]
[21,21521,"215210","岐阜県","御嵩町","ｷﾞﾌｹﾝ","ﾐﾀｹﾁｮｳ"]
[21,21604,"216046","岐阜県","白川村","ｷﾞﾌｹﾝ","ｼﾗｶﾜﾑﾗ"]
[22,22100,"221007","静岡県","静岡市","ｼｽﾞｵｶｹﾝ","ｼｽﾞｵｶｼ"]
[22,22130,"221309","静岡県","浜松市","ｼｽﾞｵｶｹﾝ","ﾊﾏﾏﾂｼ"]
[22,22203,"222038","静岡県","沼津市","ｼｽﾞｵｶｹﾝ","ﾇﾏﾂﾞｼ"]
[22,22205,"222054","静岡県","熱海市","ｼｽﾞｵｶｹﾝ","ｱﾀﾐｼ"]
[22,22206,"222062","静岡県","三島市","ｼｽﾞｵｶｹﾝ","ﾐｼﾏｼ"]
[22,22207,"222071","静岡県","富士宮市","ｼｽﾞｵｶｹﾝ","ﾌｼﾞﾉﾐﾔｼ"]
[22,22208,"222089","静岡県","伊東市","ｼｽﾞｵｶｹﾝ","ｲﾄｳｼ"]
[22,22209,"222097","静岡県","島田市","ｼｽﾞｵｶｹﾝ","ｼﾏﾀﾞｼ"]
[22,22210,"222101","静岡県","富士市","ｼｽﾞｵｶｹﾝ","ﾌｼﾞｼ"]
[22,22211,"222119","静岡県","磐田市","ｼｽﾞｵｶｹﾝ","ｲﾜﾀｼ"]
[22,22212,"222127","静岡県","焼津市","ｼｽﾞｵｶｹﾝ","ﾔｲﾂﾞｼ"]
[{"$f":"ROUNDDOWN(C962/10000,0)","v":22},22213,"222135","静岡県","掛川市","ｼｽﾞｵｶｹﾝ","ｶｹｶﾞﾜｼ"]
[22,22214,"222143","静岡県","藤枝市","ｼｽﾞｵｶｹﾝ","ﾌｼﾞｴﾀﾞｼ"]
[22,22215,"222151","静岡県","御殿場市","ｼｽﾞｵｶｹﾝ","ｺﾞﾃﾝﾊﾞｼ"]
[22,22216,"222160","静岡県","袋井市","ｼｽﾞｵｶｹﾝ","ﾌｸﾛｲｼ"]
[22,22219,"222194","静岡県","下田市","ｼｽﾞｵｶｹﾝ","ｼﾓﾀﾞｼ"]
[22,22220,"222208","静岡県","裾野市","ｼｽﾞｵｶｹﾝ","ｽｿﾉｼ"]
[22,22221,"222216","静岡県","湖西市","ｼｽﾞｵｶｹﾝ","ｺｻｲｼ"]
[22,22222,"222224","静岡県","伊豆市","ｼｽﾞｵｶｹﾝ","ｲｽﾞｼ"]
[22,22223,"222232","静岡県","御前崎市","ｼｽﾞｵｶｹﾝ","ｵﾏｴｻﾞｷｼ"]
[22,22224,"222241","静岡県","菊川市","ｼｽﾞｵｶｹﾝ","ｷｸｶﾞﾜｼ"]
[22,22225,"222259","静岡県","伊豆の国市","ｼｽﾞｵｶｹﾝ","ｲｽﾞﾉｸﾆｼ"]
[22,22226,"222267","静岡県","牧之原市","ｼｽﾞｵｶｹﾝ","ﾏｷﾉﾊﾗｼ"]
[22,22301,"223018","静岡県","東伊豆町","ｼｽﾞｵｶｹﾝ","ﾋｶﾞｼｲｽﾞﾁｮｳ"]
[22,22302,"223026","静岡県","河津町","ｼｽﾞｵｶｹﾝ","ｶﾜﾂﾞﾁｮｳ"]
[22,22304,"223042","静岡県","南伊豆町","ｼｽﾞｵｶｹﾝ","ﾐﾅﾐｲｽﾞﾁｮｳ"]
[22,22305,"223051","静岡県","松崎町","ｼｽﾞｵｶｹﾝ","ﾏﾂｻﾞｷﾁｮｳ"]
[22,22306,"223069","静岡県","西伊豆町","ｼｽﾞｵｶｹﾝ","ﾆｼｲｽﾞﾁｮｳ"]
[22,22325,"223255","静岡県","函南町","ｼｽﾞｵｶｹﾝ","ｶﾝﾅﾐﾁｮｳ"]
[22,22341,"223417","静岡県","清水町","ｼｽﾞｵｶｹﾝ","ｼﾐｽﾞﾁｮｳ"]
[22,22342,"223425","静岡県","長泉町","ｼｽﾞｵｶｹﾝ","ﾅｶﾞｲｽﾞﾐﾁｮｳ"]
[22,22344,"223441","静岡県","小山町","ｼｽﾞｵｶｹﾝ","ｵﾔﾏﾁｮｳ"]
[22,22424,"224243","静岡県","吉田町","ｼｽﾞｵｶｹﾝ","ﾖｼﾀﾞﾁｮｳ"]
[22,22429,"224294","静岡県","川根本町","ｼｽﾞｵｶｹﾝ","ｶﾜﾈﾎﾝﾁｮｳ"]
[22,22461,"224618","静岡県","森町","ｼｽﾞｵｶｹﾝ","ﾓﾘﾏﾁ"]
[23,23100,"231002","愛知県","名古屋市","ｱｲﾁｹﾝ","ﾅｺﾞﾔｼ"]
[23,23201,"232017","愛知県","豊橋市","ｱｲﾁｹﾝ","ﾄﾖﾊｼｼ"]
[23,23202,"232025","愛知県","岡崎市","ｱｲﾁｹﾝ","ｵｶｻﾞｷｼ"]
[23,23203,"232033","愛知県","一宮市","ｱｲﾁｹﾝ","ｲﾁﾉﾐﾔｼ"]
[23,23204,"232041","愛知県","瀬戸市","ｱｲﾁｹﾝ","ｾﾄｼ"]
[23,23205,"232050","愛知県","半田市","ｱｲﾁｹﾝ","ﾊﾝﾀﾞｼ"]
[23,23206,"232068","愛知県","春日井市","ｱｲﾁｹﾝ","ｶｽｶﾞｲｼ"]
[23,23207,"232076","愛知県","豊川市","ｱｲﾁｹﾝ","ﾄﾖｶﾜｼ"]
[23,23208,"232084","愛知県","津島市","ｱｲﾁｹﾝ","ﾂｼﾏｼ"]
[23,23209,"232092","愛知県","碧南市","ｱｲﾁｹﾝ","ﾍｷﾅﾝｼ"]
[23,23210,"232106","愛知県","刈谷市","ｱｲﾁｹﾝ","ｶﾘﾔｼ"]
[23,23211,"232114","愛知県","豊田市","ｱｲﾁｹﾝ","ﾄﾖﾀｼ"]
[23,23212,"232122","愛知県","安城市","ｱｲﾁｹﾝ","ｱﾝｼﾞｮｳｼ"]
[23,23213,"232131","愛知県","西尾市","ｱｲﾁｹﾝ","ﾆｼｵｼ"]
[23,23214,"232149","愛知県","蒲郡市","ｱｲﾁｹﾝ","ｶﾞﾏｺﾞｵﾘｼ"]
[23,23215,"232157","愛知県","犬山市","ｱｲﾁｹﾝ","ｲﾇﾔﾏｼ"]
[23,23216,"232165","愛知県","常滑市","ｱｲﾁｹﾝ","ﾄｺﾅﾒｼ"]
[23,23217,"232173","愛知県","江南市","ｱｲﾁｹﾝ","ｺｳﾅﾝｼ"]
[23,23219,"232190","愛知県","小牧市","ｱｲﾁｹﾝ","ｺﾏｷｼ"]
[23,23220,"232203","愛知県","稲沢市","ｱｲﾁｹﾝ","ｲﾅｻﾞﾜｼ"]
[23,23221,"232211","愛知県","新城市","ｱｲﾁｹﾝ","ｼﾝｼﾛｼ"]
[23,23222,"232220","愛知県","東海市","ｱｲﾁｹﾝ","ﾄｳｶｲｼ"]
[23,23223,"232238","愛知県","大府市","ｱｲﾁｹﾝ","ｵｵﾌﾞｼ"]
[23,23224,"232246","愛知県","知多市","ｱｲﾁｹﾝ","ﾁﾀｼ"]
[23,23225,"232254","愛知県","知立市","ｱｲﾁｹﾝ","ﾁﾘｭｳｼ"]
[23,23226,"232262","愛知県","尾張旭市","ｱｲﾁｹﾝ","ｵﾜﾘｱｻﾋｼ"]
[23,23227,"232271","愛知県","高浜市","ｱｲﾁｹﾝ","ﾀｶﾊﾏｼ"]
[23,23228,"232289","愛知県","岩倉市","ｱｲﾁｹﾝ","ｲﾜｸﾗｼ"]
[23,23229,"232297","愛知県","豊明市","ｱｲﾁｹﾝ","ﾄﾖｱｹｼ"]
[23,23230,"232301","愛知県","日進市","ｱｲﾁｹﾝ","ﾆｯｼﾝｼ"]
[23,23231,"232319","愛知県","田原市","ｱｲﾁｹﾝ","ﾀﾊﾗｼ"]
[23,23232,"232327","愛知県","愛西市","ｱｲﾁｹﾝ","ｱｲｻｲｼ"]
[23,23233,"232335","愛知県","清須市","ｱｲﾁｹﾝ","ｷﾖｽｼ"]
[23,23234,"232343","愛知県","北名古屋市","ｱｲﾁｹﾝ","ｷﾀﾅｺﾞﾔｼ"]
[23,23235,"232351","愛知県","弥富市","ｱｲﾁｹﾝ","ﾔﾄﾐｼ"]
[23,23236,"232360","愛知県","みよし市","ｱｲﾁｹﾝ","ﾐﾖｼｼ"]
[23,23237,"232378","愛知県","あま市","ｱｲﾁｹﾝ","ｱﾏｼ"]
[23,23238,"232386","愛知県","長久手市","ｱｲﾁｹﾝ","ﾅｶﾞｸﾃｼ"]
[23,23302,"233021","愛知県","東郷町","ｱｲﾁｹﾝ","ﾄｳｺﾞｳﾁｮｳ"]
[23,23342,"233421","愛知県","豊山町","ｱｲﾁｹﾝ","ﾄﾖﾔﾏﾁｮｳ"]
[{"$f":"ROUNDDOWN(C1026/10000,0)","v":23},23361,"233617","愛知県","大口町","ｱｲﾁｹﾝ","ｵｵｸﾞﾁﾁｮｳ"]
[23,23362,"233625","愛知県","扶桑町","ｱｲﾁｹﾝ","ﾌｿｳﾁｮｳ"]
[23,23424,"234249","愛知県","大治町","ｱｲﾁｹﾝ","ｵｵﾊﾙﾁｮｳ"]
[23,23425,"234257","愛知県","蟹江町","ｱｲﾁｹﾝ","ｶﾆｴﾁｮｳ"]
[23,23427,"234273","愛知県","飛島村","ｱｲﾁｹﾝ","ﾄﾋﾞｼﾏﾑﾗ"]
[23,23441,"234419","愛知県","阿久比町","ｱｲﾁｹﾝ","ｱｸﾞｲﾁｮｳ"]
[23,23442,"234427","愛知県","東浦町","ｱｲﾁｹﾝ","ﾋｶﾞｼｳﾗﾁｮｳ"]
[23,23445,"234451","愛知県","南知多町","ｱｲﾁｹﾝ","ﾐﾅﾐﾁﾀﾁｮｳ"]
[23,23446,"234460","愛知県","美浜町","ｱｲﾁｹﾝ","ﾐﾊﾏﾁｮｳ"]
[23,23447,"234478","愛知県","武豊町","ｱｲﾁｹﾝ","ﾀｹﾄﾖﾁｮｳ"]
[23,23501,"235016","愛知県","幸田町","ｱｲﾁｹﾝ","ｺｳﾀﾁｮｳ"]
[23,23561,"235610","愛知県","設楽町","ｱｲﾁｹﾝ","ｼﾀﾗﾁｮｳ"]
[23,23562,"235628","愛知県","東栄町","ｱｲﾁｹﾝ","ﾄｳｴｲﾁｮｳ"]
[23,23563,"235636","愛知県","豊根村","ｱｲﾁｹﾝ","ﾄﾖﾈﾑﾗ"]
[24,24201,"242012","三重県","津市","ﾐｴｹﾝ","ﾂｼ"]
[24,24202,"242021","三重県","四日市市","ﾐｴｹﾝ","ﾖｯｶｲﾁｼ"]
[24,24203,"242039","三重県","伊勢市","ﾐｴｹﾝ","ｲｾｼ"]
[24,24204,"242047","三重県","松阪市","ﾐｴｹﾝ","ﾏﾂｻｶｼ"]
[24,24205,"242055","三重県","桑名市","ﾐｴｹﾝ","ｸﾜﾅｼ"]
[24,24207,"242071","三重県","鈴鹿市","ﾐｴｹﾝ","ｽｽﾞｶｼ"]
[24,24208,"242080","三重県","名張市","ﾐｴｹﾝ","ﾅﾊﾞﾘｼ"]
[24,24209,"242098","三重県","尾鷲市","ﾐｴｹﾝ","ｵﾜｾｼ"]
[24,24210,"242101","三重県","亀山市","ﾐｴｹﾝ","ｶﾒﾔﾏｼ"]
[24,24211,"242110","三重県","鳥羽市","ﾐｴｹﾝ","ﾄﾊﾞｼ"]
[24,24212,"242128","三重県","熊野市","ﾐｴｹﾝ","ｸﾏﾉｼ"]
[24,24214,"242144","三重県","いなべ市","ﾐｴｹﾝ","ｲﾅﾍﾞｼ"]
[24,24215,"242152","三重県","志摩市","ﾐｴｹﾝ","ｼﾏｼ"]
[24,24216,"242161","三重県","伊賀市","ﾐｴｹﾝ","ｲｶﾞｼ"]
[24,24303,"243035","三重県","木曽岬町","ﾐｴｹﾝ","ｷｿｻｷﾁｮｳ"]
[24,24324,"243248","三重県","東員町","ﾐｴｹﾝ","ﾄｳｲﾝﾁｮｳ"]
[24,24341,"243418","三重県","菰野町","ﾐｴｹﾝ","ｺﾓﾉﾁｮｳ"]
[24,24343,"243434","三重県","朝日町","ﾐｴｹﾝ","ｱｻﾋﾁｮｳ"]
[24,24344,"243442","三重県","川越町","ﾐｴｹﾝ","ｶﾜｺﾞｴﾁｮｳ"]
[24,24441,"244414","三重県","多気町","ﾐｴｹﾝ","ﾀｷﾁｮｳ"]
[24,24442,"244422","三重県","明和町","ﾐｴｹﾝ","ﾒｲﾜﾁｮｳ"]
[24,24443,"244431","三重県","大台町","ﾐｴｹﾝ","ｵｵﾀﾞｲﾁｮｳ"]
[24,24461,"244619","三重県","玉城町","ﾐｴｹﾝ","ﾀﾏｷﾁｮｳ"]
[24,24470,"244708","三重県","度会町","ﾐｴｹﾝ","ﾜﾀﾗｲﾁｮｳ"]
[24,24471,"244716","三重県","大紀町","ﾐｴｹﾝ","ﾀｲｷﾁｮｳ"]
[24,24472,"244724","三重県","南伊勢町","ﾐｴｹﾝ","ﾐﾅﾐｲｾﾁｮｳ"]
[24,24543,"245437","三重県","紀北町","ﾐｴｹﾝ","ｷﾎｸﾁｮｳ"]
[24,24561,"245615","三重県","御浜町","ﾐｴｹﾝ","ﾐﾊﾏﾁｮｳ"]
[24,24562,"245623","三重県","紀宝町","ﾐｴｹﾝ","ｷﾎｳﾁｮｳ"]
[25,25201,"252018","滋賀県","大津市","ｼｶﾞｹﾝ","ｵｵﾂｼ"]
[25,25202,"252026","滋賀県","彦根市","ｼｶﾞｹﾝ","ﾋｺﾈｼ"]
[25,25203,"252034","滋賀県","長浜市","ｼｶﾞｹﾝ","ﾅｶﾞﾊﾏｼ"]
[25,25204,"252042","滋賀県","近江八幡市","ｼｶﾞｹﾝ","ｵｳﾐﾊﾁﾏﾝｼ"]
[25,25206,"252069","滋賀県","草津市","ｼｶﾞｹﾝ","ｸｻﾂｼ"]
[25,25207,"252077","滋賀県","守山市","ｼｶﾞｹﾝ","ﾓﾘﾔﾏｼ"]
[25,25208,"252085","滋賀県","栗東市","ｼｶﾞｹﾝ","ﾘｯﾄｳｼ"]
[25,25209,"252093","滋賀県","甲賀市","ｼｶﾞｹﾝ","ｺｳｶｼ"]
[25,25210,"252107","滋賀県","野洲市","ｼｶﾞｹﾝ","ﾔｽｼ"]
[25,25211,"252115","滋賀県","湖南市","ｼｶﾞｹﾝ","ｺﾅﾝｼ"]
[25,25212,"252123","滋賀県","高島市","ｼｶﾞｹﾝ","ﾀｶｼﾏｼ"]
[25,25213,"252131","滋賀県","東近江市","ｼｶﾞｹﾝ","ﾋｶﾞｼｵｳﾐｼ"]
[25,25214,"252140","滋賀県","米原市","ｼｶﾞｹﾝ","ﾏｲﾊﾞﾗｼ"]
[25,25383,"253839","滋賀県","日野町","ｼｶﾞｹﾝ","ﾋﾉﾁｮｳ"]
[25,25384,"253847","滋賀県","竜王町","ｼｶﾞｹﾝ","ﾘﾕｳｵｳﾁｮｳ"]
[25,25425,"254258","滋賀県","愛荘町","ｼｶﾞｹﾝ","ｱｲｼｮｳﾁｮｳ"]
[25,25441,"254410","滋賀県","豊郷町","ｼｶﾞｹﾝ","ﾄﾖｻﾄﾁｮｳ"]
[25,25442,"254428","滋賀県","甲良町","ｼｶﾞｹﾝ","ｺｳﾗﾁｮｳ"]
[25,25443,"254436","滋賀県","多賀町","ｼｶﾞｹﾝ","ﾀｶﾞﾁｮｳ"]
[26,26100,"261009","京都府","京都市","ｷｮｳﾄﾌ","ｷｮｳﾄｼ"]
[26,26201,"262013","京都府","福知山市","ｷｮｳﾄﾌ","ﾌｸﾁﾔﾏｼ"]
[{"$f":"ROUNDDOWN(C1090/10000,0)","v":26},26202,"262021","京都府","舞鶴市","ｷｮｳﾄﾌ","ﾏｲﾂﾞﾙｼ"]
[26,26203,"262030","京都府","綾部市","ｷｮｳﾄﾌ","ｱﾔﾍﾞｼ"]
[26,26204,"262048","京都府","宇治市","ｷｮｳﾄﾌ","ｳｼﾞｼ"]
[26,26205,"262056","京都府","宮津市","ｷｮｳﾄﾌ","ﾐﾔﾂﾞｼ"]
[26,26206,"262064","京都府","亀岡市","ｷｮｳﾄﾌ","ｶﾒｵｶｼ"]
[26,26207,"262072","京都府","城陽市","ｷｮｳﾄﾌ","ｼﾞｮｳﾖｳｼ"]
[26,26208,"262081","京都府","向日市","ｷｮｳﾄﾌ","ﾑｺｳｼ"]
[26,26209,"262099","京都府","長岡京市","ｷｮｳﾄﾌ","ﾅｶﾞｵｶｷｮｳｼ"]
[26,26210,"262102","京都府","八幡市","ｷｮｳﾄﾌ","ﾔﾜﾀｼ"]
[26,26211,"262111","京都府","京田辺市","ｷｮｳﾄﾌ","ｷｮｳﾀﾅﾍﾞｼ"]
[26,26212,"262129","京都府","京丹後市","ｷｮｳﾄﾌ","ｷｮｳﾀﾝｺﾞｼ"]
[26,26213,"262137","京都府","南丹市","ｷｮｳﾄﾌ","ﾅﾝﾀﾝｼ"]
[26,26214,"262145","京都府","木津川市","ｷｮｳﾄﾌ","ｷﾂﾞｶﾞﾜｼ"]
[26,26303,"263036","京都府","大山崎町","ｷｮｳﾄﾌ","ｵｵﾔﾏｻﾞｷﾁｮｳ"]
[26,26322,"263222","京都府","久御山町","ｷｮｳﾄﾌ","ｸﾐﾔﾏﾁｮｳ"]
[26,26343,"263435","京都府","井手町","ｷｮｳﾄﾌ","ｲﾃﾞﾁｮｳ"]
[26,26344,"263443","京都府","宇治田原町","ｷｮｳﾄﾌ","ｳｼﾞﾀﾜﾗﾁｮｳ"]
[26,26364,"263648","京都府","笠置町","ｷｮｳﾄﾌ","ｶｻｷﾞﾁｮｳ"]
[26,26365,"263656","京都府","和束町","ｷｮｳﾄﾌ","ﾜﾂﾞｶﾁｮｳ"]
[26,26366,"263664","京都府","精華町","ｷｮｳﾄﾌ","ｾｲｶﾁｮｳ"]
[26,26367,"263672","京都府","南山城村","ｷｮｳﾄﾌ","ﾐﾅﾐﾔﾏｼﾛﾑﾗ"]
[26,26407,"264075","京都府","京丹波町","ｷｮｳﾄﾌ","ｷｮｳﾀﾝﾊﾞﾁｮｳ"]
[26,26463,"264636","京都府","伊根町","ｷｮｳﾄﾌ","ｲﾈﾁｮｳ"]
[26,26465,"264652","京都府","与謝野町","ｷｮｳﾄﾌ","ﾖｻﾉﾁｮｳ"]
[27,27100,"271004","大阪府","大阪市","ｵｵｻｶﾌ","ｵｵｻｶｼ"]
[27,27140,"271403","大阪府","堺市","ｵｵｻｶﾌ","ｻｶｲｼ"]
[27,27202,"272027","大阪府","岸和田市","ｵｵｻｶﾌ","ｷｼﾜﾀﾞｼ"]
[27,27203,"272035","大阪府","豊中市","ｵｵｻｶﾌ","ﾄﾖﾅｶｼ"]
[27,27204,"272043","大阪府","池田市","ｵｵｻｶﾌ","ｲｹﾀﾞｼ"]
[27,27205,"272051","大阪府","吹田市","ｵｵｻｶﾌ","ｽｲﾀｼ"]
[27,27206,"272060","大阪府","泉大津市","ｵｵｻｶﾌ","ｲｽﾞﾐｵｵﾂｼ"]
[27,27207,"272078","大阪府","高槻市","ｵｵｻｶﾌ","ﾀｶﾂｷｼ"]
[27,27208,"272086","大阪府","貝塚市","ｵｵｻｶﾌ","ｶｲﾂﾞｶｼ"]
[27,27209,"272094","大阪府","守口市","ｵｵｻｶﾌ","ﾓﾘｸﾞﾁｼ"]
[27,27210,"272108","大阪府","枚方市","ｵｵｻｶﾌ","ﾋﾗｶﾀｼ"]
[27,27211,"272116","大阪府","茨木市","ｵｵｻｶﾌ","ｲﾊﾞﾗｷｼ"]
[27,27212,"272124","大阪府","八尾市","ｵｵｻｶﾌ","ﾔｵｼ"]
[27,27213,"272132","大阪府","泉佐野市","ｵｵｻｶﾌ","ｲｽﾞﾐｻﾉｼ"]
[27,27214,"272141","大阪府","富田林市","ｵｵｻｶﾌ","ﾄﾝﾀﾞﾊﾞﾔｼｼ"]
[27,27215,"272159","大阪府","寝屋川市","ｵｵｻｶﾌ","ﾈﾔｶﾞﾜｼ"]
[27,27216,"272167","大阪府","河内長野市","ｵｵｻｶﾌ","ｶﾜﾁﾅｶﾞﾉｼ"]
[27,27217,"272175","大阪府","松原市","ｵｵｻｶﾌ","ﾏﾂﾊﾞﾗｼ"]
[27,27218,"272183","大阪府","大東市","ｵｵｻｶﾌ","ﾀﾞｲﾄｳｼ"]
[27,27219,"272191","大阪府","和泉市","ｵｵｻｶﾌ","ｲｽﾞﾐｼ"]
[27,27220,"272205","大阪府","箕面市","ｵｵｻｶﾌ","ﾐﾉｵｼ"]
[27,27221,"272213","大阪府","柏原市","ｵｵｻｶﾌ","ｶｼﾜﾗｼ"]
[27,27222,"272221","大阪府","羽曳野市","ｵｵｻｶﾌ","ﾊﾋﾞｷﾉｼ"]
[27,27223,"272230","大阪府","門真市","ｵｵｻｶﾌ","ｶﾄﾞﾏｼ"]
[27,27224,"272248","大阪府","摂津市","ｵｵｻｶﾌ","ｾｯﾂｼ"]
[27,27225,"272256","大阪府","高石市","ｵｵｻｶﾌ","ﾀｶｲｼｼ"]
[27,27226,"272264","大阪府","藤井寺市","ｵｵｻｶﾌ","ﾌｼﾞｲﾃﾞﾗｼ"]
[27,27227,"272272","大阪府","東大阪市","ｵｵｻｶﾌ","ﾋｶﾞｼｵｵｻｶｼ"]
[27,27228,"272281","大阪府","泉南市","ｵｵｻｶﾌ","ｾﾝﾅﾝｼ"]
[27,27229,"272299","大阪府","四條畷市","ｵｵｻｶﾌ","ｼｼﾞﾖｳﾅﾜﾃｼ"]
[27,27230,"272302","大阪府","交野市","ｵｵｻｶﾌ","ｶﾀﾉｼ"]
[27,27231,"272311","大阪府","大阪狭山市","ｵｵｻｶﾌ","ｵｵｻｶｻﾔﾏｼ"]
[27,27232,"272329","大阪府","阪南市","ｵｵｻｶﾌ","ﾊﾝﾅﾝｼ"]
[27,27301,"273015","大阪府","島本町","ｵｵｻｶﾌ","ｼﾏﾓﾄﾁｮｳ"]
[27,27321,"273210","大阪府","豊能町","ｵｵｻｶﾌ","ﾄﾖﾉﾁｮｳ"]
[27,27322,"273228","大阪府","能勢町","ｵｵｻｶﾌ","ﾉｾﾁｮｳ"]
[27,27341,"273414","大阪府","忠岡町","ｵｵｻｶﾌ","ﾀﾀﾞｵｶﾁｮｳ"]
[27,27361,"273619","大阪府","熊取町","ｵｵｻｶﾌ","ｸﾏﾄﾘﾁｮｳ"]
[27,27362,"273627","大阪府","田尻町","ｵｵｻｶﾌ","ﾀｼﾞﾘﾁｮｳ"]
[27,27366,"273660","大阪府","岬町","ｵｵｻｶﾌ","ﾐｻｷﾁｮｳ"]
[{"$f":"ROUNDDOWN(C1154/10000,0)","v":27},27381,"273813","大阪府","太子町","ｵｵｻｶﾌ","ﾀｲｼﾁｮｳ"]
[27,27382,"273821","大阪府","河南町","ｵｵｻｶﾌ","ｶﾅﾝﾁｮｳ"]
[27,27383,"273830","大阪府","千早赤阪村","ｵｵｻｶﾌ","ﾁﾊﾔｱｶｻｶﾑﾗ"]
[28,28100,"281000","兵庫県","神戸市","ﾋｮｳｺﾞｹﾝ","ｺｳﾍﾞｼ"]
[28,28201,"282014","兵庫県","姫路市","ﾋｮｳｺﾞｹﾝ","ﾋﾒｼﾞｼ"]
[28,28202,"282022","兵庫県","尼崎市","ﾋｮｳｺﾞｹﾝ","ｱﾏｶﾞｻｷｼ"]
[28,28203,"282031","兵庫県","明石市","ﾋｮｳｺﾞｹﾝ","ｱｶｼｼ"]
[28,28204,"282049","兵庫県","西宮市","ﾋｮｳｺﾞｹﾝ","ﾆｼﾉﾐﾔｼ"]
[28,28205,"282057","兵庫県","洲本市","ﾋｮｳｺﾞｹﾝ","ｽﾓﾄｼ"]
[28,28206,"282065","兵庫県","芦屋市","ﾋｮｳｺﾞｹﾝ","ｱｼﾔｼ"]
[28,28207,"282073","兵庫県","伊丹市","ﾋｮｳｺﾞｹﾝ","ｲﾀﾐｼ"]
[28,28208,"282081","兵庫県","相生市","ﾋｮｳｺﾞｹﾝ","ｱｲｵｲｼ"]
[28,28209,"282090","兵庫県","豊岡市","ﾋｮｳｺﾞｹﾝ","ﾄﾖｵｶｼ"]
[28,28210,"282103","兵庫県","加古川市","ﾋｮｳｺﾞｹﾝ","ｶｺｶﾞﾜｼ"]
[28,28212,"282120","兵庫県","赤穂市","ﾋｮｳｺﾞｹﾝ","ｱｺｳｼ"]
[28,28213,"282138","兵庫県","西脇市","ﾋｮｳｺﾞｹﾝ","ﾆｼﾜｷｼ"]
[28,28214,"282146","兵庫県","宝塚市","ﾋｮｳｺﾞｹﾝ","ﾀｶﾗﾂﾞｶｼ"]
[28,28215,"282154","兵庫県","三木市","ﾋｮｳｺﾞｹﾝ","ﾐｷｼ"]
[28,28216,"282162","兵庫県","高砂市","ﾋｮｳｺﾞｹﾝ","ﾀｶｻｺﾞｼ"]
[28,28217,"282171","兵庫県","川西市","ﾋｮｳｺﾞｹﾝ","ｶﾜﾆｼｼ"]
[28,28218,"282189","兵庫県","小野市","ﾋｮｳｺﾞｹﾝ","ｵﾉｼ"]
[28,28219,"282197","兵庫県","三田市","ﾋｮｳｺﾞｹﾝ","ｻﾝﾀﾞｼ"]
[28,28220,"282201","兵庫県","加西市","ﾋｮｳｺﾞｹﾝ","ｶｻｲｼ"]
[28,28221,"282219","兵庫県","篠山市","ﾋｮｳｺﾞｹﾝ","ｻｻﾔﾏｼ"]
[28,28222,"282227","兵庫県","養父市","ﾋｮｳｺﾞｹﾝ","ﾔﾌﾞｼ"]
[28,28223,"282235","兵庫県","丹波市","ﾋｮｳｺﾞｹﾝ","ﾀﾝﾊﾞｼ"]
[28,28224,"282243","兵庫県","南あわじ市","ﾋｮｳｺﾞｹﾝ","ﾐﾅﾐｱﾜｼﾞｼ"]
[28,28225,"282251","兵庫県","朝来市","ﾋｮｳｺﾞｹﾝ","ｱｻｺﾞｼ"]
[28,28226,"282260","兵庫県","淡路市","ﾋｮｳｺﾞｹﾝ","ｱﾜｼﾞｼ"]
[28,28227,"282278","兵庫県","宍粟市","ﾋｮｳｺﾞｹﾝ","ｼｿｳｼ"]
[28,28228,"282286","兵庫県","加東市","ﾋｮｳｺﾞｹﾝ","ｶﾄｳｼ"]
[28,28229,"282294","兵庫県","たつの市","ﾋｮｳｺﾞｹﾝ","ﾀﾂﾉｼ"]
[28,28301,"283011","兵庫県","猪名川町","ﾋｮｳｺﾞｹﾝ","ｲﾅｶﾞﾜﾁｮｳ"]
[28,28365,"283657","兵庫県","多可町","ﾋｮｳｺﾞｹﾝ","ﾀｶﾁｮｳ"]
[28,28381,"283819","兵庫県","稲美町","ﾋｮｳｺﾞｹﾝ","ｲﾅﾐﾁｮｳ"]
[28,28382,"283827","兵庫県","播磨町","ﾋｮｳｺﾞｹﾝ","ﾊﾘﾏﾁｮｳ"]
[28,28442,"284424","兵庫県","市川町","ﾋｮｳｺﾞｹﾝ","ｲﾁｶﾜﾁｮｳ"]
[28,28443,"284432","兵庫県","福崎町","ﾋｮｳｺﾞｹﾝ","ﾌｸｻｷﾁｮｳ"]
[28,28446,"284467","兵庫県","神河町","ﾋｮｳｺﾞｹﾝ","ｶﾐｶﾜﾁｮｳ"]
[28,28464,"284645","兵庫県","太子町","ﾋｮｳｺﾞｹﾝ","ﾀｲｼﾁｮｳ"]
[28,28481,"284815","兵庫県","上郡町","ﾋｮｳｺﾞｹﾝ","ｶﾐｺﾞｵﾘﾁｮｳ"]
[28,28501,"285013","兵庫県","佐用町","ﾋｮｳｺﾞｹﾝ","ｻﾖｳﾁｮｳ"]
[28,28585,"285854","兵庫県","香美町","ﾋｮｳｺﾞｹﾝ","ｶﾐﾁｮｳ"]
[28,28586,"285862","兵庫県","新温泉町","ﾋｮｳｺﾞｹﾝ","ｼﾝｵﾝｾﾝﾁｮｳ"]
[29,29201,"292010","奈良県","奈良市","ﾅﾗｹﾝ","ﾅﾗｼ"]
[29,29202,"292028","奈良県","大和高田市","ﾅﾗｹﾝ","ﾔﾏﾄﾀｶﾀﾞｼ"]
[29,29203,"292036","奈良県","大和郡山市","ﾅﾗｹﾝ","ﾔﾏﾄｺｵﾘﾔﾏｼ"]
[29,29204,"292044","奈良県","天理市","ﾅﾗｹﾝ","ﾃﾝﾘｼ"]
[29,29205,"292052","奈良県","橿原市","ﾅﾗｹﾝ","ｶｼﾊﾗｼ"]
[29,29206,"292061","奈良県","桜井市","ﾅﾗｹﾝ","ｻｸﾗｲｼ"]
[29,29207,"292079","奈良県","五條市","ﾅﾗｹﾝ","ｺﾞｼﾞｮｳｼ"]
[29,29208,"292087","奈良県","御所市","ﾅﾗｹﾝ","ｺﾞｾｼ"]
[29,29209,"292095","奈良県","生駒市","ﾅﾗｹﾝ","ｲｺﾏｼ"]
[29,29210,"292109","奈良県","香芝市","ﾅﾗｹﾝ","ｶｼﾊﾞｼ"]
[29,29211,"292117","奈良県","葛城市","ﾅﾗｹﾝ","ｶﾂﾗｷﾞｼ"]
[29,29212,"292125","奈良県","宇陀市","ﾅﾗｹﾝ","ｳﾀﾞｼ"]
[29,29322,"293229","奈良県","山添村","ﾅﾗｹﾝ","ﾔﾏｿﾞｴﾑﾗ"]
[29,29342,"293423","奈良県","平群町","ﾅﾗｹﾝ","ﾍｸﾞﾘﾁｮｳ"]
[29,29343,"293431","奈良県","三郷町","ﾅﾗｹﾝ","ｻﾝｺﾞｳﾁｮｳ"]
[29,29344,"293440","奈良県","斑鳩町","ﾅﾗｹﾝ","ｲｶﾙｶﾞﾁｮｳ"]
[29,29345,"293458","奈良県","安堵町","ﾅﾗｹﾝ","ｱﾝﾄﾞﾁｮｳ"]
[29,29361,"293610","奈良県","川西町","ﾅﾗｹﾝ","ｶﾜﾆｼﾁｮｳ"]
[29,29362,"293628","奈良県","三宅町","ﾅﾗｹﾝ","ﾐﾔｹﾁｮｳ"]
[29,29363,"293636","奈良県","田原本町","ﾅﾗｹﾝ","ﾀﾜﾗﾓﾄﾁｮｳ"]
[{"$f":"ROUNDDOWN(C1218/10000,0)","v":29},29385,"293857","奈良県","曽爾村","ﾅﾗｹﾝ","ｿﾆﾑﾗ"]
[29,29386,"293865","奈良県","御杖村","ﾅﾗｹﾝ","ﾐﾂｴﾑﾗ"]
[29,29401,"294012","奈良県","高取町","ﾅﾗｹﾝ","ﾀｶﾄﾘﾁｮｳ"]
[29,29402,"294021","奈良県","明日香村","ﾅﾗｹﾝ","ｱｽｶﾑﾗ"]
[29,29424,"294241","奈良県","上牧町","ﾅﾗｹﾝ","ｶﾝﾏｷﾁｮｳ"]
[29,29425,"294250","奈良県","王寺町","ﾅﾗｹﾝ","ｵｳｼﾞﾁｮｳ"]
[29,29426,"294268","奈良県","広陵町","ﾅﾗｹﾝ","ｺｳﾘﾖｳﾁｮｳ"]
[29,29427,"294276","奈良県","河合町","ﾅﾗｹﾝ","ｶﾜｲﾁｮｳ"]
[29,29441,"294411","奈良県","吉野町","ﾅﾗｹﾝ","ﾖｼﾉﾁｮｳ"]
[29,29442,"294420","奈良県","大淀町","ﾅﾗｹﾝ","ｵｵﾖﾄﾞﾁｮｳ"]
[29,29443,"294438","奈良県","下市町","ﾅﾗｹﾝ","ｼﾓｲﾁﾁｮｳ"]
[29,29444,"294446","奈良県","黒滝村","ﾅﾗｹﾝ","ｸﾛﾀｷﾑﾗ"]
[29,29446,"294462","奈良県","天川村","ﾅﾗｹﾝ","ﾃﾝｶﾜﾑﾗ"]
[29,29447,"294471","奈良県","野迫川村","ﾅﾗｹﾝ","ﾉｾｶﾞﾜﾑﾗ"]
[29,29449,"294497","奈良県","十津川村","ﾅﾗｹﾝ","ﾄﾂｶﾜﾑﾗ"]
[29,29450,"294501","奈良県","下北山村","ﾅﾗｹﾝ","ｼﾓｷﾀﾔﾏﾑﾗ"]
[29,29451,"294519","奈良県","上北山村","ﾅﾗｹﾝ","ｶﾐｷﾀﾔﾏﾑﾗ"]
[29,29452,"294527","奈良県","川上村","ﾅﾗｹﾝ","ｶﾜｶﾐﾑﾗ"]
[29,29453,"294535","奈良県","東吉野村","ﾅﾗｹﾝ","ﾋｶﾞｼﾖｼﾉﾑﾗ"]
[30,30201,"302015","和歌山県","和歌山市","ﾜｶﾔﾏｹﾝ","ﾜｶﾔﾏｼ"]
[30,30202,"302023","和歌山県","海南市","ﾜｶﾔﾏｹﾝ","ｶｲﾅﾝｼ"]
[30,30203,"302031","和歌山県","橋本市","ﾜｶﾔﾏｹﾝ","ﾊｼﾓﾄｼ"]
[30,30204,"302040","和歌山県","有田市","ﾜｶﾔﾏｹﾝ","ｱﾘﾀﾞｼ"]
[30,30205,"302058","和歌山県","御坊市","ﾜｶﾔﾏｹﾝ","ｺﾞﾎﾞｳｼ"]
[30,30206,"302066","和歌山県","田辺市","ﾜｶﾔﾏｹﾝ","ﾀﾅﾍﾞｼ"]
[30,30207,"302074","和歌山県","新宮市","ﾜｶﾔﾏｹﾝ","ｼﾝｸﾞｳｼ"]
[30,30208,"302082","和歌山県","紀の川市","ﾜｶﾔﾏｹﾝ","ｷﾉｶﾜｼ"]
[30,30209,"302091","和歌山県","岩出市","ﾜｶﾔﾏｹﾝ","ｲﾜﾃﾞｼ"]
[30,30304,"303046","和歌山県","紀美野町","ﾜｶﾔﾏｹﾝ","ｷﾐﾉﾁｮｳ"]
[30,30341,"303411","和歌山県","かつらぎ町","ﾜｶﾔﾏｹﾝ","ｶﾂﾗｷﾞﾁｮｳ"]
[30,30343,"303437","和歌山県","九度山町","ﾜｶﾔﾏｹﾝ","ｸﾄﾞﾔﾏﾁｮｳ"]
[30,30344,"303445","和歌山県","高野町","ﾜｶﾔﾏｹﾝ","ｺｳﾔﾁｮｳ"]
[30,30361,"303615","和歌山県","湯浅町","ﾜｶﾔﾏｹﾝ","ﾕｱｻﾁｮｳ"]
[30,30362,"303623","和歌山県","広川町","ﾜｶﾔﾏｹﾝ","ﾋﾛｶﾞﾜﾁｮｳ"]
[30,30366,"303666","和歌山県","有田川町","ﾜｶﾔﾏｹﾝ","ｱﾘﾀﾞｶﾞﾜﾁｮｳ"]
[30,30381,"303810","和歌山県","美浜町","ﾜｶﾔﾏｹﾝ","ﾐﾊﾏﾁｮｳ"]
[30,30382,"303828","和歌山県","日高町","ﾜｶﾔﾏｹﾝ","ﾋﾀﾞｶﾁｮｳ"]
[30,30383,"303836","和歌山県","由良町","ﾜｶﾔﾏｹﾝ","ﾕﾗﾁｮｳ"]
[30,30390,"303909","和歌山県","印南町","ﾜｶﾔﾏｹﾝ","ｲﾅﾐﾁｮｳ"]
[30,30391,"303917","和歌山県","みなべ町","ﾜｶﾔﾏｹﾝ","ﾐﾅﾍﾞﾁｮｳ"]
[30,30392,"303925","和歌山県","日高川町","ﾜｶﾔﾏｹﾝ","ﾋﾀﾞｶｶﾞﾜﾁｮｳ"]
[30,30401,"304018","和歌山県","白浜町","ﾜｶﾔﾏｹﾝ","ｼﾗﾊﾏﾁｮｳ"]
[30,30404,"304042","和歌山県","上富田町","ﾜｶﾔﾏｹﾝ","ｶﾐﾄﾝﾀﾞﾁｮｳ"]
[30,30406,"304069","和歌山県","すさみ町","ﾜｶﾔﾏｹﾝ","ｽｻﾐﾁｮｳ"]
[30,30421,"304212","和歌山県","那智勝浦町","ﾜｶﾔﾏｹﾝ","ﾅﾁｶﾂｳﾗﾁｮｳ"]
[30,30422,"304221","和歌山県","太地町","ﾜｶﾔﾏｹﾝ","ﾀｲｼﾞﾁｮｳ"]
[30,30424,"304247","和歌山県","古座川町","ﾜｶﾔﾏｹﾝ","ｺｻﾞｶﾞﾜﾁｮｳ"]
[30,30427,"304271","和歌山県","北山村","ﾜｶﾔﾏｹﾝ","ｷﾀﾔﾏﾑﾗ"]
[30,30428,"304280","和歌山県","串本町","ﾜｶﾔﾏｹﾝ","ｸｼﾓﾄﾁｮｳ"]
[31,31201,"312011","鳥取県","鳥取市","ﾄｯﾄﾘｹﾝ","ﾄｯﾄﾘｼ"]
[31,31202,"312029","鳥取県","米子市","ﾄｯﾄﾘｹﾝ","ﾖﾅｺﾞｼ"]
[31,31203,"312037","鳥取県","倉吉市","ﾄｯﾄﾘｹﾝ","ｸﾗﾖｼｼ"]
[31,31204,"312045","鳥取県","境港市","ﾄｯﾄﾘｹﾝ","ｻｶｲﾐﾅﾄｼ"]
[31,31302,"313025","鳥取県","岩美町","ﾄｯﾄﾘｹﾝ","ｲﾜﾐﾁｮｳ"]
[31,31325,"313254","鳥取県","若桜町","ﾄｯﾄﾘｹﾝ","ﾜｶｻﾁｮｳ"]
[31,31328,"313289","鳥取県","智頭町","ﾄｯﾄﾘｹﾝ","ﾁﾂﾞﾁｮｳ"]
[31,31329,"313297","鳥取県","八頭町","ﾄｯﾄﾘｹﾝ","ﾔｽﾞﾁｮｳ"]
[31,31364,"313645","鳥取県","三朝町","ﾄｯﾄﾘｹﾝ","ﾐｻｻﾁｮｳ"]
[31,31370,"313700","鳥取県","湯梨浜町","ﾄｯﾄﾘｹﾝ","ﾕﾘﾊﾏﾁｮｳ"]
[31,31371,"313718","鳥取県","琴浦町","ﾄｯﾄﾘｹﾝ","ｺﾄｳﾗﾁｮｳ"]
[31,31372,"313726","鳥取県","北栄町","ﾄｯﾄﾘｹﾝ","ﾎｸｴｲﾁｮｳ"]
[31,31384,"313840","鳥取県","日吉津村","ﾄｯﾄﾘｹﾝ","ﾋｴﾂﾞｿﾝ"]
[31,31386,"313866","鳥取県","大山町","ﾄｯﾄﾘｹﾝ","ﾀﾞｲｾﾝﾁｮｳ"]
[31,31389,"313891","鳥取県","南部町","ﾄｯﾄﾘｹﾝ","ﾅﾝﾌﾞﾁｮｳ"]
[{"$f":"ROUNDDOWN(C1282/10000,0)","v":31},31390,"313904","鳥取県","伯耆町","ﾄｯﾄﾘｹﾝ","ﾎｳｷﾁｮｳ"]
[31,31401,"314013","鳥取県","日南町","ﾄｯﾄﾘｹﾝ","ﾆﾁﾅﾝﾁｮｳ"]
[31,31402,"314021","鳥取県","日野町","ﾄｯﾄﾘｹﾝ","ﾋﾉﾁｮｳ"]
[31,31403,"314030","鳥取県","江府町","ﾄｯﾄﾘｹﾝ","ｺｳﾌﾁｮｳ"]
[32,32201,"322016","島根県","松江市","ｼﾏﾈｹﾝ","ﾏﾂｴｼ"]
[32,32202,"322024","島根県","浜田市","ｼﾏﾈｹﾝ","ﾊﾏﾀﾞｼ"]
[32,32203,"322032","島根県","出雲市","ｼﾏﾈｹﾝ","ｲｽﾞﾓｼ"]
[32,32204,"322041","島根県","益田市","ｼﾏﾈｹﾝ","ﾏｽﾀﾞｼ"]
[32,32205,"322059","島根県","大田市","ｼﾏﾈｹﾝ","ｵｵﾀﾞｼ"]
[32,32206,"322067","島根県","安来市","ｼﾏﾈｹﾝ","ﾔｽｷﾞｼ"]
[32,32207,"322075","島根県","江津市","ｼﾏﾈｹﾝ","ｺﾞｳﾂｼ"]
[32,32209,"322091","島根県","雲南市","ｼﾏﾈｹﾝ","ｳﾝﾅﾝｼ"]
[32,32343,"323438","島根県","奥出雲町","ｼﾏﾈｹﾝ","ｵｸｲｽﾞﾓﾁｮｳ"]
[32,32386,"323861","島根県","飯南町","ｼﾏﾈｹﾝ","ｲｲﾅﾝﾁｮｳ"]
[32,32441,"324418","島根県","川本町","ｼﾏﾈｹﾝ","ｶﾜﾓﾄﾏﾁ"]
[32,32448,"324485","島根県","美郷町","ｼﾏﾈｹﾝ","ﾐｻﾄﾁｮｳ"]
[32,32449,"324493","島根県","邑南町","ｼﾏﾈｹﾝ","ｵｵﾅﾝﾁｮｳ"]
[32,32501,"325015","島根県","津和野町","ｼﾏﾈｹﾝ","ﾂﾜﾉﾁｮｳ"]
[32,32505,"325058","島根県","吉賀町","ｼﾏﾈｹﾝ","ﾖｼｶﾁｮｳ"]
[32,32525,"325252","島根県","海士町","ｼﾏﾈｹﾝ","ｱﾏﾁｮｳ"]
[32,32526,"325261","島根県","西ノ島町","ｼﾏﾈｹﾝ","ﾆｼﾉｼﾏﾁｮｳ"]
[32,32527,"325279","島根県","知夫村","ｼﾏﾈｹﾝ","ﾁﾌﾞﾑﾗ"]
[32,32528,"325287","島根県","隠岐の島町","ｼﾏﾈｹﾝ","ｵｷﾉｼﾏﾁｮｳ"]
[33,33100,"331007","岡山県","岡山市","ｵｶﾔﾏｹﾝ","ｵｶﾔﾏｼ"]
[33,33202,"332020","岡山県","倉敷市","ｵｶﾔﾏｹﾝ","ｸﾗｼｷｼ"]
[33,33203,"332038","岡山県","津山市","ｵｶﾔﾏｹﾝ","ﾂﾔﾏｼ"]
[33,33204,"332046","岡山県","玉野市","ｵｶﾔﾏｹﾝ","ﾀﾏﾉｼ"]
[33,33205,"332054","岡山県","笠岡市","ｵｶﾔﾏｹﾝ","ｶｻｵｶｼ"]
[33,33207,"332071","岡山県","井原市","ｵｶﾔﾏｹﾝ","ｲﾊﾞﾗｼ"]
[33,33208,"332089","岡山県","総社市","ｵｶﾔﾏｹﾝ","ｿｳｼﾞﾔｼ"]
[33,33209,"332097","岡山県","高梁市","ｵｶﾔﾏｹﾝ","ﾀｶﾊｼｼ"]
[33,33210,"332101","岡山県","新見市","ｵｶﾔﾏｹﾝ","ﾆｲﾐｼ"]
[33,33211,"332119","岡山県","備前市","ｵｶﾔﾏｹﾝ","ﾋﾞｾﾞﾝｼ"]
[33,33212,"332127","岡山県","瀬戸内市","ｵｶﾔﾏｹﾝ","ｾﾄｳﾁｼ"]
[33,33213,"332135","岡山県","赤磐市","ｵｶﾔﾏｹﾝ","ｱｶｲﾜｼ"]
[33,33214,"332143","岡山県","真庭市","ｵｶﾔﾏｹﾝ","ﾏﾆﾜｼ"]
[33,33215,"332151","岡山県","美作市","ｵｶﾔﾏｹﾝ","ﾐﾏｻｶｼ"]
[33,33216,"332160","岡山県","浅口市","ｵｶﾔﾏｹﾝ","ｱｻｸﾁｼ"]
[33,33346,"333468","岡山県","和気町","ｵｶﾔﾏｹﾝ","ﾜｹﾁｮｳ"]
[33,33423,"334235","岡山県","早島町","ｵｶﾔﾏｹﾝ","ﾊﾔｼﾏﾁｮｳ"]
[33,33445,"334456","岡山県","里庄町","ｵｶﾔﾏｹﾝ","ｻﾄｼｮｳﾁｮｳ"]
[33,33461,"334618","岡山県","矢掛町","ｵｶﾔﾏｹﾝ","ﾔｶｹﾞﾁｮｳ"]
[33,33586,"335860","岡山県","新庄村","ｵｶﾔﾏｹﾝ","ｼﾝｼﾞﾖｳｿﾝ"]
[33,33606,"336068","岡山県","鏡野町","ｵｶﾔﾏｹﾝ","ｶｶﾞﾐﾉﾁｮｳ"]
[33,33622,"336220","岡山県","勝央町","ｵｶﾔﾏｹﾝ","ｼｮｳｵｳﾁｮｳ"]
[33,33623,"336238","岡山県","奈義町","ｵｶﾔﾏｹﾝ","ﾅｷﾞﾁｮｳ"]
[33,33643,"336432","岡山県","西粟倉村","ｵｶﾔﾏｹﾝ","ﾆｼｱﾜｸﾗｿﾝ"]
[33,33663,"336637","岡山県","久米南町","ｵｶﾔﾏｹﾝ","ｸﾒﾅﾝﾁｮｳ"]
[33,33666,"336661","岡山県","美咲町","ｵｶﾔﾏｹﾝ","ﾐｻｷﾁｮｳ"]
[33,33681,"336815","岡山県","吉備中央町","ｵｶﾔﾏｹﾝ","ｷﾋﾞﾁｭｳｵｳﾁｮｳ"]
[34,34100,"341002","広島県","広島市","ﾋﾛｼﾏｹﾝ","ﾋﾛｼﾏｼ"]
[34,34202,"342025","広島県","呉市","ﾋﾛｼﾏｹﾝ","ｸﾚｼ"]
[34,34203,"342033","広島県","竹原市","ﾋﾛｼﾏｹﾝ","ﾀｹﾊﾗｼ"]
[34,34204,"342041","広島県","三原市","ﾋﾛｼﾏｹﾝ","ﾐﾊﾗｼ"]
[34,34205,"342050","広島県","尾道市","ﾋﾛｼﾏｹﾝ","ｵﾉﾐﾁｼ"]
[34,34207,"342076","広島県","福山市","ﾋﾛｼﾏｹﾝ","ﾌｸﾔﾏｼ"]
[34,34208,"342084","広島県","府中市","ﾋﾛｼﾏｹﾝ","ﾌﾁｭｳｼ"]
[34,34209,"342092","広島県","三次市","ﾋﾛｼﾏｹﾝ","ﾐﾖｼｼ"]
[34,34210,"342106","広島県","庄原市","ﾋﾛｼﾏｹﾝ","ｼｮｳﾊﾞﾗｼ"]
[34,34211,"342114","広島県","大竹市","ﾋﾛｼﾏｹﾝ","ｵｵﾀｹｼ"]
[34,34212,"342122","広島県","東広島市","ﾋﾛｼﾏｹﾝ","ﾋｶﾞｼﾋﾛｼﾏｼ"]
[34,34213,"342131","広島県","廿日市市","ﾋﾛｼﾏｹﾝ","ﾊﾂｶｲﾁｼ"]
[34,34214,"342149","広島県","安芸高田市","ﾋﾛｼﾏｹﾝ","ｱｷﾀｶﾀｼ"]
[34,34215,"342157","広島県","江田島市","ﾋﾛｼﾏｹﾝ","ｴﾀｼﾞﾏｼ"]
[{"$f":"ROUNDDOWN(C1346/10000,0)","v":34},34302,"343021","広島県","府中町","ﾋﾛｼﾏｹﾝ","ﾌﾁｭｳﾁｮｳ"]
[34,34304,"343048","広島県","海田町","ﾋﾛｼﾏｹﾝ","ｶｲﾀﾁｮｳ"]
[34,34307,"343072","広島県","熊野町","ﾋﾛｼﾏｹﾝ","ｸﾏﾉﾁｮｳ"]
[34,34309,"343099","広島県","坂町","ﾋﾛｼﾏｹﾝ","ｻｶﾁｮｳ"]
[34,34368,"343684","広島県","安芸太田町","ﾋﾛｼﾏｹﾝ","ｱｷｵｵﾀﾁｮｳ"]
[34,34369,"343692","広島県","北広島町","ﾋﾛｼﾏｹﾝ","ｷﾀﾋﾛｼﾏﾁｮｳ"]
[34,34431,"344311","広島県","大崎上島町","ﾋﾛｼﾏｹﾝ","ｵｵｻｷｶﾐｼﾞﾏﾁｮｳ"]
[34,34462,"344621","広島県","世羅町","ﾋﾛｼﾏｹﾝ","ｾﾗﾁｮｳ"]
[34,34545,"345458","広島県","神石高原町","ﾋﾛｼﾏｹﾝ","ｼﾞﾝｾｷｺｳｹﾞﾝﾁｮｳ"]
[35,35201,"352012","山口県","下関市","ﾔﾏｸﾞﾁｹﾝ","ｼﾓﾉｾｷｼ"]
[35,35202,"352021","山口県","宇部市","ﾔﾏｸﾞﾁｹﾝ","ｳﾍﾞｼ"]
[35,35203,"352039","山口県","山口市","ﾔﾏｸﾞﾁｹﾝ","ﾔﾏｸﾞﾁｼ"]
[35,35204,"352047","山口県","萩市","ﾔﾏｸﾞﾁｹﾝ","ﾊｷﾞｼ"]
[35,35206,"352063","山口県","防府市","ﾔﾏｸﾞﾁｹﾝ","ﾎｳﾌｼ"]
[35,35207,"352071","山口県","下松市","ﾔﾏｸﾞﾁｹﾝ","ｸﾀﾞﾏﾂｼ"]
[35,35208,"352080","山口県","岩国市","ﾔﾏｸﾞﾁｹﾝ","ｲﾜｸﾆｼ"]
[35,35210,"352101","山口県","光市","ﾔﾏｸﾞﾁｹﾝ","ﾋｶﾘｼ"]
[35,35211,"352110","山口県","長門市","ﾔﾏｸﾞﾁｹﾝ","ﾅｶﾞﾄｼ"]
[35,35212,"352128","山口県","柳井市","ﾔﾏｸﾞﾁｹﾝ","ﾔﾅｲｼ"]
[35,35213,"352136","山口県","美祢市","ﾔﾏｸﾞﾁｹﾝ","ﾐﾈｼ"]
[35,35215,"352152","山口県","周南市","ﾔﾏｸﾞﾁｹﾝ","ｼｭｳﾅﾝｼ"]
[35,35216,"352161","山口県","山陽小野田市","ﾔﾏｸﾞﾁｹﾝ","ｻﾝﾖｳｵﾉﾀﾞｼ"]
[35,35305,"353051","山口県","周防大島町","ﾔﾏｸﾞﾁｹﾝ","ｽｵｳｵｵｼﾏﾁｮｳ"]
[35,35321,"353213","山口県","和木町","ﾔﾏｸﾞﾁｹﾝ","ﾜｷﾁｮｳ"]
[35,35341,"353418","山口県","上関町","ﾔﾏｸﾞﾁｹﾝ","ｶﾐﾉｾｷﾁｮｳ"]
[35,35343,"353434","山口県","田布施町","ﾔﾏｸﾞﾁｹﾝ","ﾀﾌﾞｾﾁｮｳ"]
[35,35344,"353442","山口県","平生町","ﾔﾏｸﾞﾁｹﾝ","ﾋﾗｵﾁｮｳ"]
[35,35502,"355020","山口県","阿武町","ﾔﾏｸﾞﾁｹﾝ","ｱﾌﾞﾁｮｳ"]
[36,36201,"362018","徳島県","徳島市","ﾄｸｼﾏｹﾝ","ﾄｸｼﾏｼ"]
[36,36202,"362026","徳島県","鳴門市","ﾄｸｼﾏｹﾝ","ﾅﾙﾄｼ"]
[36,36203,"362034","徳島県","小松島市","ﾄｸｼﾏｹﾝ","ｺﾏﾂｼﾏｼ"]
[36,36204,"362042","徳島県","阿南市","ﾄｸｼﾏｹﾝ","ｱﾅﾝｼ"]
[36,36205,"362051","徳島県","吉野川市","ﾄｸｼﾏｹﾝ","ﾖｼﾉｶﾞﾜｼ"]
[36,36206,"362069","徳島県","阿波市","ﾄｸｼﾏｹﾝ","ｱﾜｼ"]
[36,36207,"362077","徳島県","美馬市","ﾄｸｼﾏｹﾝ","ﾐﾏｼ"]
[36,36208,"362085","徳島県","三好市","ﾄｸｼﾏｹﾝ","ﾐﾖｼｼ"]
[36,36301,"363014","徳島県","勝浦町","ﾄｸｼﾏｹﾝ","ｶﾂｳﾗﾁｮｳ"]
[36,36302,"363022","徳島県","上勝町","ﾄｸｼﾏｹﾝ","ｶﾐｶﾂﾁｮｳ"]
[36,36321,"363219","徳島県","佐那河内村","ﾄｸｼﾏｹﾝ","ｻﾅｺﾞｳﾁｿﾝ"]
[36,36341,"363413","徳島県","石井町","ﾄｸｼﾏｹﾝ","ｲｼｲﾁｮｳ"]
[36,36342,"363421","徳島県","神山町","ﾄｸｼﾏｹﾝ","ｶﾐﾔﾏﾁｮｳ"]
[36,36368,"363685","徳島県","那賀町","ﾄｸｼﾏｹﾝ","ﾅｶﾁｮｳ"]
[36,36383,"363839","徳島県","牟岐町","ﾄｸｼﾏｹﾝ","ﾑｷﾞﾁｮｳ"]
[36,36387,"363871","徳島県","美波町","ﾄｸｼﾏｹﾝ","ﾐﾅﾐﾁｮｳ"]
[36,36388,"363880","徳島県","海陽町","ﾄｸｼﾏｹﾝ","ｶｲﾖｳﾁｮｳ"]
[36,36401,"364011","徳島県","松茂町","ﾄｸｼﾏｹﾝ","ﾏﾂｼｹﾞﾁｮｳ"]
[36,36402,"364029","徳島県","北島町","ﾄｸｼﾏｹﾝ","ｷﾀｼﾞﾏﾁｮｳ"]
[36,36403,"364037","徳島県","藍住町","ﾄｸｼﾏｹﾝ","ｱｲｽﾞﾐﾁｮｳ"]
[36,36404,"364045","徳島県","板野町","ﾄｸｼﾏｹﾝ","ｲﾀﾉﾁｮｳ"]
[36,36405,"364053","徳島県","上板町","ﾄｸｼﾏｹﾝ","ｶﾐｲﾀﾁｮｳ"]
[36,36468,"364681","徳島県","つるぎ町","ﾄｸｼﾏｹﾝ","ﾂﾙｷﾞﾁｮｳ"]
[36,36489,"364894","徳島県","東みよし町","ﾄｸｼﾏｹﾝ","ﾋｶﾞｼﾐﾖｼﾁｮｳ"]
[37,37201,"372013","香川県","高松市","ｶｶﾞﾜｹﾝ","ﾀｶﾏﾂｼ"]
[37,37202,"372021","香川県","丸亀市","ｶｶﾞﾜｹﾝ","ﾏﾙｶﾞﾒｼ"]
[37,37203,"372030","香川県","坂出市","ｶｶﾞﾜｹﾝ","ｻｶｲﾃﾞｼ"]
[37,37204,"372048","香川県","善通寺市","ｶｶﾞﾜｹﾝ","ｾﾞﾝﾂｳｼﾞｼ"]
[37,37205,"372056","香川県","観音寺市","ｶｶﾞﾜｹﾝ","ｶﾝｵﾝｼﾞｼ"]
[37,37206,"372064","香川県","さぬき市","ｶｶﾞﾜｹﾝ","ｻﾇｷｼ"]
[37,37207,"372072","香川県","東かがわ市","ｶｶﾞﾜｹﾝ","ﾋｶﾞｼｶｶﾞﾜｼ"]
[37,37208,"372081","香川県","三豊市","ｶｶﾞﾜｹﾝ","ﾐﾄﾖｼ"]
[37,37322,"373222","香川県","土庄町","ｶｶﾞﾜｹﾝ","ﾄﾉｼｮｳﾁｮｳ"]
[37,37324,"373249","香川県","小豆島町","ｶｶﾞﾜｹﾝ","ｼｮｳﾄﾞｼﾏﾁｮｳ"]
[37,37341,"373419","香川県","三木町","ｶｶﾞﾜｹﾝ","ﾐｷﾁｮｳ"]
[37,37364,"373648","香川県","直島町","ｶｶﾞﾜｹﾝ","ﾅｵｼﾏﾁｮｳ"]
[{"$f":"ROUNDDOWN(C1410/10000,0)","v":37},37386,"373869","香川県","宇多津町","ｶｶﾞﾜｹﾝ","ｳﾀﾂﾞﾁｮｳ"]
[37,37387,"373877","香川県","綾川町","ｶｶﾞﾜｹﾝ","ｱﾔｶﾞﾜﾁｮｳ"]
[37,37403,"374032","香川県","琴平町","ｶｶﾞﾜｹﾝ","ｺﾄﾋﾗﾁｮｳ"]
[37,37404,"374041","香川県","多度津町","ｶｶﾞﾜｹﾝ","ﾀﾄﾞﾂﾁｮｳ"]
[37,37406,"374067","香川県","まんのう町","ｶｶﾞﾜｹﾝ","ﾏﾝﾉｳﾁｮｳ"]
[38,38201,"382019","愛媛県","松山市","ｴﾋﾒｹﾝ","ﾏﾂﾔﾏｼ"]
[38,38202,"382027","愛媛県","今治市","ｴﾋﾒｹﾝ","ｲﾏﾊﾞﾘｼ"]
[38,38203,"382035","愛媛県","宇和島市","ｴﾋﾒｹﾝ","ｳﾜｼﾞﾏｼ"]
[38,38204,"382043","愛媛県","八幡浜市","ｴﾋﾒｹﾝ","ﾔﾜﾀﾊﾏｼ"]
[38,38205,"382051","愛媛県","新居浜市","ｴﾋﾒｹﾝ","ﾆｲﾊﾏｼ"]
[38,38206,"382060","愛媛県","西条市","ｴﾋﾒｹﾝ","ｻｲｼﾞｮｳｼ"]
[38,38207,"382078","愛媛県","大洲市","ｴﾋﾒｹﾝ","ｵｵｽﾞｼ"]
[38,38210,"382108","愛媛県","伊予市","ｴﾋﾒｹﾝ","ｲﾖｼ"]
[38,38213,"382132","愛媛県","四国中央市","ｴﾋﾒｹﾝ","ｼｺｸﾁｭｳｵｳｼ"]
[38,38214,"382141","愛媛県","西予市","ｴﾋﾒｹﾝ","ｾｲﾖｼ"]
[38,38215,"382159","愛媛県","東温市","ｴﾋﾒｹﾝ","ﾄｳｵﾝｼ"]
[38,38356,"383562","愛媛県","上島町","ｴﾋﾒｹﾝ","ｶﾐｼﾞﾏﾁｮｳ"]
[38,38386,"383864","愛媛県","久万高原町","ｴﾋﾒｹﾝ","ｸﾏｺｳｹﾞﾝﾁｮｳ"]
[38,38401,"384011","愛媛県","松前町","ｴﾋﾒｹﾝ","ﾏｻｷﾁｮｳ"]
[38,38402,"384020","愛媛県","砥部町","ｴﾋﾒｹﾝ","ﾄﾍﾞﾁｮｳ"]
[38,38422,"384224","愛媛県","内子町","ｴﾋﾒｹﾝ","ｳﾁｺﾁｮｳ"]
[38,38442,"384429","愛媛県","伊方町","ｴﾋﾒｹﾝ","ｲｶﾀﾁｮｳ"]
[38,38484,"384844","愛媛県","松野町","ｴﾋﾒｹﾝ","ﾏﾂﾉﾁｮｳ"]
[38,38488,"384887","愛媛県","鬼北町","ｴﾋﾒｹﾝ","ｷﾎｸﾁｮｳ"]
[38,38506,"385069","愛媛県","愛南町","ｴﾋﾒｹﾝ","ｱｲﾅﾝﾁｮｳ"]
[39,39201,"392014","高知県","高知市","ｺｳﾁｹﾝ","ｺｳﾁｼ"]
[39,39202,"392022","高知県","室戸市","ｺｳﾁｹﾝ","ﾑﾛﾄｼ"]
[39,39203,"392031","高知県","安芸市","ｺｳﾁｹﾝ","ｱｷｼ"]
[39,39204,"392049","高知県","南国市","ｺｳﾁｹﾝ","ﾅﾝｺｸｼ"]
[39,39205,"392057","高知県","土佐市","ｺｳﾁｹﾝ","ﾄｻｼ"]
[39,39206,"392065","高知県","須崎市","ｺｳﾁｹﾝ","ｽｻｷｼ"]
[39,39208,"392081","高知県","宿毛市","ｺｳﾁｹﾝ","ｽｸﾓｼ"]
[39,39209,"392090","高知県","土佐清水市","ｺｳﾁｹﾝ","ﾄｻｼﾐｽﾞｼ"]
[39,39210,"392103","高知県","四万十市","ｺｳﾁｹﾝ","ｼﾏﾝﾄｼ"]
[39,39211,"392111","高知県","香南市","ｺｳﾁｹﾝ","ｺｳﾅﾝｼ"]
[39,39212,"392120","高知県","香美市","ｺｳﾁｹﾝ","ｶﾐｼ"]
[39,39301,"393011","高知県","東洋町","ｺｳﾁｹﾝ","ﾄｳﾖｳﾁｮｳ"]
[39,39302,"393029","高知県","奈半利町","ｺｳﾁｹﾝ","ﾅﾊﾘﾁｮｳ"]
[39,39303,"393037","高知県","田野町","ｺｳﾁｹﾝ","ﾀﾉﾁｮｳ"]
[39,39304,"393045","高知県","安田町","ｺｳﾁｹﾝ","ﾔｽﾀﾞﾁｮｳ"]
[39,39305,"393053","高知県","北川村","ｺｳﾁｹﾝ","ｷﾀｶﾞﾜﾑﾗ"]
[39,39306,"393061","高知県","馬路村","ｺｳﾁｹﾝ","ｳﾏｼﾞﾑﾗ"]
[39,39307,"393070","高知県","芸西村","ｺｳﾁｹﾝ","ｹﾞｲｾｲﾑﾗ"]
[39,39341,"393410","高知県","本山町","ｺｳﾁｹﾝ","ﾓﾄﾔﾏﾁｮｳ"]
[39,39344,"393444","高知県","大豊町","ｺｳﾁｹﾝ","ｵｵﾄﾖﾁｮｳ"]
[39,39363,"393631","高知県","土佐町","ｺｳﾁｹﾝ","ﾄｻﾁｮｳ"]
[39,39364,"393649","高知県","大川村","ｺｳﾁｹﾝ","ｵｵｶﾜﾑﾗ"]
[39,39386,"393860","高知県","いの町","ｺｳﾁｹﾝ","ｲﾉﾁｮｳ"]
[39,39387,"393878","高知県","仁淀川町","ｺｳﾁｹﾝ","ﾆﾖﾄﾞｶﾞﾜﾁｮｳ"]
[39,39401,"394017","高知県","中土佐町","ｺｳﾁｹﾝ","ﾅｶﾄｻﾁｮｳ"]
[39,39402,"394025","高知県","佐川町","ｺｳﾁｹﾝ","ｻｶﾜﾁｮｳ"]
[39,39403,"394033","高知県","越知町","ｺｳﾁｹﾝ","ｵﾁﾁｮｳ"]
[39,39405,"394050","高知県","梼原町","ｺｳﾁｹﾝ","ﾕｽﾊﾗﾁｮｳ"]
[39,39410,"394106","高知県","日高村","ｺｳﾁｹﾝ","ﾋﾀﾞｶﾑﾗ"]
[39,39411,"394114","高知県","津野町","ｺｳﾁｹﾝ","ﾂﾉﾁｮｳ"]
[39,39412,"394122","高知県","四万十町","ｺｳﾁｹﾝ","ｼﾏﾝﾄﾁｮｳ"]
[39,39424,"394246","高知県","大月町","ｺｳﾁｹﾝ","ｵｵﾂｷﾁｮｳ"]
[39,39427,"394271","高知県","三原村","ｺｳﾁｹﾝ","ﾐﾊﾗﾑﾗ"]
[39,39428,"394289","高知県","黒潮町","ｺｳﾁｹﾝ","ｸﾛｼｵﾁｮｳ"]
[40,40100,"401005","福岡県","北九州市","ﾌｸｵｶｹﾝ","ｷﾀｷｭｳｼｭｳｼ"]
[40,40130,"401307","福岡県","福岡市","ﾌｸｵｶｹﾝ","ﾌｸｵｶｼ"]
[40,40202,"402028","福岡県","大牟田市","ﾌｸｵｶｹﾝ","ｵｵﾑﾀｼ"]
[40,40203,"402036","福岡県","久留米市","ﾌｸｵｶｹﾝ","ｸﾙﾒｼ"]
[40,40204,"402044","福岡県","直方市","ﾌｸｵｶｹﾝ","ﾉｵｶﾞﾀｼ"]
[{"$f":"ROUNDDOWN(C1474/10000,0)","v":40},40205,"402052","福岡県","飯塚市","ﾌｸｵｶｹﾝ","ｲｲﾂﾞｶｼ"]
[40,40206,"402061","福岡県","田川市","ﾌｸｵｶｹﾝ","ﾀｶﾞﾜｼ"]
[40,40207,"402079","福岡県","柳川市","ﾌｸｵｶｹﾝ","ﾔﾅｶﾞﾜｼ"]
[40,40210,"402109","福岡県","八女市","ﾌｸｵｶｹﾝ","ﾔﾒｼ"]
[40,40211,"402117","福岡県","筑後市","ﾌｸｵｶｹﾝ","ﾁｸｺﾞｼ"]
[40,40212,"402125","福岡県","大川市","ﾌｸｵｶｹﾝ","ｵｵｶﾜｼ"]
[40,40213,"402133","福岡県","行橋市","ﾌｸｵｶｹﾝ","ﾕｸﾊｼｼ"]
[40,40214,"402141","福岡県","豊前市","ﾌｸｵｶｹﾝ","ﾌﾞｾﾞﾝｼ"]
[40,40215,"402150","福岡県","中間市","ﾌｸｵｶｹﾝ","ﾅｶﾏｼ"]
[40,40216,"402168","福岡県","小郡市","ﾌｸｵｶｹﾝ","ｵｺﾞｵﾘｼ"]
[40,40217,"402176","福岡県","筑紫野市","ﾌｸｵｶｹﾝ","ﾁｸｼﾉｼ"]
[40,40218,"402184","福岡県","春日市","ﾌｸｵｶｹﾝ","ｶｽｶﾞｼ"]
[40,40219,"402192","福岡県","大野城市","ﾌｸｵｶｹﾝ","ｵｵﾉｼﾞｮｳｼ"]
[40,40220,"402206","福岡県","宗像市","ﾌｸｵｶｹﾝ","ﾑﾅｶﾀｼ"]
[40,40221,"402214","福岡県","太宰府市","ﾌｸｵｶｹﾝ","ﾀﾞｻﾞｲﾌｼ"]
[40,40223,"402231","福岡県","古賀市","ﾌｸｵｶｹﾝ","ｺｶﾞｼ"]
[40,40224,"402249","福岡県","福津市","ﾌｸｵｶｹﾝ","ﾌｸﾂｼ"]
[40,40225,"402257","福岡県","うきは市","ﾌｸｵｶｹﾝ","ｳｷﾊｼ"]
[40,40226,"402265","福岡県","宮若市","ﾌｸｵｶｹﾝ","ﾐﾔﾜｶｼ"]
[40,40227,"402273","福岡県","嘉麻市","ﾌｸｵｶｹﾝ","ｶﾏｼ"]
[40,40228,"402281","福岡県","朝倉市","ﾌｸｵｶｹﾝ","ｱｻｸﾗｼ"]
[40,40229,"402290","福岡県","みやま市","ﾌｸｵｶｹﾝ","ﾐﾔﾏｼ"]
[40,40230,"402303","福岡県","糸島市","ﾌｸｵｶｹﾝ","ｲﾄｼﾏｼ"]
[40,40305,"403059","福岡県","那珂川町","ﾌｸｵｶｹﾝ","ﾅｶｶﾞﾜﾏﾁ"]
[40,40341,"403415","福岡県","宇美町","ﾌｸｵｶｹﾝ","ｳﾐﾏﾁ"]
[40,40342,"403423","福岡県","篠栗町","ﾌｸｵｶｹﾝ","ｻｻｸﾞﾘﾏﾁ"]
[40,40343,"403431","福岡県","志免町","ﾌｸｵｶｹﾝ","ｼﾒﾏﾁ"]
[40,40344,"403440","福岡県","須恵町","ﾌｸｵｶｹﾝ","ｽｴﾏﾁ"]
[40,40345,"403458","福岡県","新宮町","ﾌｸｵｶｹﾝ","ｼﾝｸﾞｳﾏﾁ"]
[40,40348,"403482","福岡県","久山町","ﾌｸｵｶｹﾝ","ﾋｻﾔﾏﾏﾁ"]
[40,40349,"403491","福岡県","粕屋町","ﾌｸｵｶｹﾝ","ｶｽﾔﾏﾁ"]
[40,40381,"403814","福岡県","芦屋町","ﾌｸｵｶｹﾝ","ｱｼﾔﾏﾁ"]
[40,40382,"403822","福岡県","水巻町","ﾌｸｵｶｹﾝ","ﾐｽﾞﾏｷﾏﾁ"]
[40,40383,"403831","福岡県","岡垣町","ﾌｸｵｶｹﾝ","ｵｶｶﾞｷﾏﾁ"]
[40,40384,"403849","福岡県","遠賀町","ﾌｸｵｶｹﾝ","ｵﾝｶﾞﾁｮｳ"]
[40,40401,"404012","福岡県","小竹町","ﾌｸｵｶｹﾝ","ｺﾀｹﾏﾁ"]
[40,40402,"404021","福岡県","鞍手町","ﾌｸｵｶｹﾝ","ｸﾗﾃﾏﾁ"]
[40,40421,"404217","福岡県","桂川町","ﾌｸｵｶｹﾝ","ｹｲｾﾝﾏﾁ"]
[40,40447,"404471","福岡県","筑前町","ﾌｸｵｶｹﾝ","ﾁｸｾﾞﾝﾏﾁ"]
[40,40448,"404489","福岡県","東峰村","ﾌｸｵｶｹﾝ","ﾄｳﾎｳﾑﾗ"]
[40,40503,"405035","福岡県","大刀洗町","ﾌｸｵｶｹﾝ","ﾀﾁｱﾗｲﾏﾁ"]
[40,40522,"405221","福岡県","大木町","ﾌｸｵｶｹﾝ","ｵｵｷﾏﾁ"]
[40,40544,"405442","福岡県","広川町","ﾌｸｵｶｹﾝ","ﾋﾛｶﾜﾏﾁ"]
[40,40601,"406015","福岡県","香春町","ﾌｸｵｶｹﾝ","ｶﾜﾗﾏﾁ"]
[40,40602,"406023","福岡県","添田町","ﾌｸｵｶｹﾝ","ｿｴﾀﾞﾏﾁ"]
[40,40604,"406040","福岡県","糸田町","ﾌｸｵｶｹﾝ","ｲﾄﾀﾞﾏﾁ"]
[40,40605,"406058","福岡県","川崎町","ﾌｸｵｶｹﾝ","ｶﾜｻｷﾏﾁ"]
[40,40608,"406082","福岡県","大任町","ﾌｸｵｶｹﾝ","ｵｵﾄｳﾏﾁ"]
[40,40609,"406091","福岡県","赤村","ﾌｸｵｶｹﾝ","ｱｶﾑﾗ"]
[40,40610,"406104","福岡県","福智町","ﾌｸｵｶｹﾝ","ﾌｸﾁﾏﾁ"]
[40,40621,"406210","福岡県","苅田町","ﾌｸｵｶｹﾝ","ｶﾝﾀﾞﾏﾁ"]
[40,40625,"406252","福岡県","みやこ町","ﾌｸｵｶｹﾝ","ﾐﾔｺﾏﾁ"]
[40,40642,"406422","福岡県","吉富町","ﾌｸｵｶｹﾝ","ﾖｼﾄﾐﾏﾁ"]
[40,40646,"406465","福岡県","上毛町","ﾌｸｵｶｹﾝ","ｺｳｹﾞﾏﾁ"]
[40,40647,"406473","福岡県","築上町","ﾌｸｵｶｹﾝ","ﾁｸｼﾞｮｳﾏﾁ"]
[41,41201,"412015","佐賀県","佐賀市","ｻｶﾞｹﾝ","ｻｶﾞｼ"]
[41,41202,"412023","佐賀県","唐津市","ｻｶﾞｹﾝ","ｶﾗﾂｼ"]
[41,41203,"412031","佐賀県","鳥栖市","ｻｶﾞｹﾝ","ﾄｽｼ"]
[41,41204,"412040","佐賀県","多久市","ｻｶﾞｹﾝ","ﾀｸｼ"]
[41,41205,"412058","佐賀県","伊万里市","ｻｶﾞｹﾝ","ｲﾏﾘｼ"]
[41,41206,"412066","佐賀県","武雄市","ｻｶﾞｹﾝ","ﾀｹｵｼ"]
[41,41207,"412074","佐賀県","鹿島市","ｻｶﾞｹﾝ","ｶｼﾏｼ"]
[41,41208,"412082","佐賀県","小城市","ｻｶﾞｹﾝ","ｵｷﾞｼ"]
[41,41209,"412091","佐賀県","嬉野市","ｻｶﾞｹﾝ","ｳﾚｼﾉｼ"]
[{"$f":"ROUNDDOWN(C1538/10000,0)","v":41},41210,"412104","佐賀県","神埼市","ｻｶﾞｹﾝ","ｶﾝｻﾞｷｼ"]
[41,41327,"413275","佐賀県","吉野ヶ里町","ｻｶﾞｹﾝ","ﾖｼﾉｶﾞﾘﾁｮｳ"]
[41,41341,"413411","佐賀県","基山町","ｻｶﾞｹﾝ","ｷﾔﾏﾁｮｳ"]
[41,41345,"413453","佐賀県","上峰町","ｻｶﾞｹﾝ","ｶﾐﾐﾈﾁｮｳ"]
[41,41346,"413461","佐賀県","みやき町","ｻｶﾞｹﾝ","ﾐﾔｷﾁｮｳ"]
[41,41387,"413879","佐賀県","玄海町","ｻｶﾞｹﾝ","ｹﾞﾝｶｲﾁｮｳ"]
[41,41401,"414018","佐賀県","有田町","ｻｶﾞｹﾝ","ｱﾘﾀﾁｮｳ"]
[41,41423,"414239","佐賀県","大町町","ｻｶﾞｹﾝ","ｵｵﾏﾁﾁｮｳ"]
[41,41424,"414247","佐賀県","江北町","ｻｶﾞｹﾝ","ｺｳﾎｸﾏﾁ"]
[41,41425,"414255","佐賀県","白石町","ｻｶﾞｹﾝ","ｼﾛｲｼﾁｮｳ"]
[41,41441,"414417","佐賀県","太良町","ｻｶﾞｹﾝ","ﾀﾗﾁｮｳ"]
[42,42201,"422011","長崎県","長崎市","ﾅｶﾞｻｷｹﾝ","ﾅｶﾞｻｷｼ"]
[42,42202,"422029","長崎県","佐世保市","ﾅｶﾞｻｷｹﾝ","ｻｾﾎﾞｼ"]
[42,42203,"422037","長崎県","島原市","ﾅｶﾞｻｷｹﾝ","ｼﾏﾊﾞﾗｼ"]
[42,42204,"422045","長崎県","諫早市","ﾅｶﾞｻｷｹﾝ","ｲｻﾊﾔｼ"]
[42,42205,"422053","長崎県","大村市","ﾅｶﾞｻｷｹﾝ","ｵｵﾑﾗｼ"]
[42,42207,"422070","長崎県","平戸市","ﾅｶﾞｻｷｹﾝ","ﾋﾗﾄﾞｼ"]
[42,42208,"422088","長崎県","松浦市","ﾅｶﾞｻｷｹﾝ","ﾏﾂｳﾗｼ"]
[42,42209,"422096","長崎県","対馬市","ﾅｶﾞｻｷｹﾝ","ﾂｼﾏｼ"]
[42,42210,"422100","長崎県","壱岐市","ﾅｶﾞｻｷｹﾝ","ｲｷｼ"]
[42,42211,"422118","長崎県","五島市","ﾅｶﾞｻｷｹﾝ","ｺﾞﾄｳｼ"]
[42,42212,"422126","長崎県","西海市","ﾅｶﾞｻｷｹﾝ","ｻｲｶｲｼ"]
[42,42213,"422134","長崎県","雲仙市","ﾅｶﾞｻｷｹﾝ","ｳﾝｾﾞﾝｼ"]
[42,42214,"422142","長崎県","南島原市","ﾅｶﾞｻｷｹﾝ","ﾐﾅﾐｼﾏﾊﾞﾗｼ"]
[42,42307,"423076","長崎県","長与町","ﾅｶﾞｻｷｹﾝ","ﾅｶﾞﾖﾁｮｳ"]
[42,42308,"423084","長崎県","時津町","ﾅｶﾞｻｷｹﾝ","ﾄｷﾞﾂﾁｮｳ"]
[42,42321,"423211","長崎県","東彼杵町","ﾅｶﾞｻｷｹﾝ","ﾋｶﾞｼｿﾉｷﾞﾁｮｳ"]
[42,42322,"423220","長崎県","川棚町","ﾅｶﾞｻｷｹﾝ","ｶﾜﾀﾅﾁｮｳ"]
[42,42323,"423238","長崎県","波佐見町","ﾅｶﾞｻｷｹﾝ","ﾊｻﾐﾁｮｳ"]
[42,42383,"423831","長崎県","小値賀町","ﾅｶﾞｻｷｹﾝ","ｵﾁﾞｶﾁｮｳ"]
[42,42391,"423912","長崎県","佐々町","ﾅｶﾞｻｷｹﾝ","ｻｻﾞﾁｮｳ"]
[42,42411,"424111","長崎県","新上五島町","ﾅｶﾞｻｷｹﾝ","ｼﾝｶﾐｺﾞﾄｳﾁｮｳ"]
[43,43100,"431001","熊本県","熊本市","ｸﾏﾓﾄｹﾝ","ｸﾏﾓﾄｼ"]
[43,43202,"432024","熊本県","八代市","ｸﾏﾓﾄｹﾝ","ﾔﾂｼﾛｼ"]
[43,43203,"432032","熊本県","人吉市","ｸﾏﾓﾄｹﾝ","ﾋﾄﾖｼｼ"]
[43,43204,"432041","熊本県","荒尾市","ｸﾏﾓﾄｹﾝ","ｱﾗｵｼ"]
[43,43205,"432059","熊本県","水俣市","ｸﾏﾓﾄｹﾝ","ﾐﾅﾏﾀｼ"]
[43,43206,"432067","熊本県","玉名市","ｸﾏﾓﾄｹﾝ","ﾀﾏﾅｼ"]
[43,43208,"432083","熊本県","山鹿市","ｸﾏﾓﾄｹﾝ","ﾔﾏｶﾞｼ"]
[43,43210,"432105","熊本県","菊池市","ｸﾏﾓﾄｹﾝ","ｷｸﾁｼ"]
[43,43211,"432113","熊本県","宇土市","ｸﾏﾓﾄｹﾝ","ｳﾄｼ"]
[43,43212,"432121","熊本県","上天草市","ｸﾏﾓﾄｹﾝ","ｶﾐｱﾏｸｻｼ"]
[43,43213,"432130","熊本県","宇城市","ｸﾏﾓﾄｹﾝ","ｳｷｼ"]
[43,43214,"432148","熊本県","阿蘇市","ｸﾏﾓﾄｹﾝ","ｱｿｼ"]
[43,43215,"432156","熊本県","天草市","ｸﾏﾓﾄｹﾝ","ｱﾏｸｻｼ"]
[43,43216,"432164","熊本県","合志市","ｸﾏﾓﾄｹﾝ","ｺｳｼｼ"]
[43,43348,"433489","熊本県","美里町","ｸﾏﾓﾄｹﾝ","ﾐｻﾄﾏﾁ"]
[43,43364,"433641","熊本県","玉東町","ｸﾏﾓﾄｹﾝ","ｷﾞｮｸﾄｳﾏﾁ"]
[43,43367,"433675","熊本県","南関町","ｸﾏﾓﾄｹﾝ","ﾅﾝｶﾝﾏﾁ"]
[43,43368,"433683","熊本県","長洲町","ｸﾏﾓﾄｹﾝ","ﾅｶﾞｽﾏﾁ"]
[43,43369,"433691","熊本県","和水町","ｸﾏﾓﾄｹﾝ","ﾅｺﾞﾐﾏﾁ"]
[43,43403,"434035","熊本県","大津町","ｸﾏﾓﾄｹﾝ","ｵｵﾂﾞﾏﾁ"]
[43,43404,"434043","熊本県","菊陽町","ｸﾏﾓﾄｹﾝ","ｷｸﾖｳﾏﾁ"]
[43,43423,"434230","熊本県","南小国町","ｸﾏﾓﾄｹﾝ","ﾐﾅﾐｵｸﾞﾆﾏﾁ"]
[43,43424,"434248","熊本県","小国町","ｸﾏﾓﾄｹﾝ","ｵｸﾞﾆﾏﾁ"]
[43,43425,"434256","熊本県","産山村","ｸﾏﾓﾄｹﾝ","ｳﾌﾞﾔﾏﾑﾗ"]
[43,43428,"434281","熊本県","高森町","ｸﾏﾓﾄｹﾝ","ﾀｶﾓﾘﾏﾁ"]
[43,43432,"434329","熊本県","西原村","ｸﾏﾓﾄｹﾝ","ﾆｼﾊﾗﾑﾗ"]
[43,43433,"434337","熊本県","南阿蘇村","ｸﾏﾓﾄｹﾝ","ﾐﾅﾐｱｿﾑﾗ"]
[43,43441,"434418","熊本県","御船町","ｸﾏﾓﾄｹﾝ","ﾐﾌﾈﾏﾁ"]
[43,43442,"434426","熊本県","嘉島町","ｸﾏﾓﾄｹﾝ","ｶｼﾏﾏﾁ"]
[43,43443,"434434","熊本県","益城町","ｸﾏﾓﾄｹﾝ","ﾏｼｷﾏﾁ"]
[43,43444,"434442","熊本県","甲佐町","ｸﾏﾓﾄｹﾝ","ｺｳｻﾏﾁ"]
[43,43447,"434477","熊本県","山都町","ｸﾏﾓﾄｹﾝ","ﾔﾏﾄﾁｮｳ"]
[{"$f":"ROUNDDOWN(C1602/10000,0)","v":43},43468,"434680","熊本県","氷川町","ｸﾏﾓﾄｹﾝ","ﾋｶﾜﾁｮｳ"]
[43,43482,"434825","熊本県","芦北町","ｸﾏﾓﾄｹﾝ","ｱｼｷﾀﾏﾁ"]
[43,43484,"434841","熊本県","津奈木町","ｸﾏﾓﾄｹﾝ","ﾂﾅｷﾞﾏﾁ"]
[43,43501,"435015","熊本県","錦町","ｸﾏﾓﾄｹﾝ","ﾆｼｷﾏﾁ"]
[43,43505,"435058","熊本県","多良木町","ｸﾏﾓﾄｹﾝ","ﾀﾗｷﾞﾏﾁ"]
[43,43506,"435066","熊本県","湯前町","ｸﾏﾓﾄｹﾝ","ﾕﾉﾏｴﾏﾁ"]
[43,43507,"435074","熊本県","水上村","ｸﾏﾓﾄｹﾝ","ﾐｽﾞｶﾐﾑﾗ"]
[43,43510,"435104","熊本県","相良村","ｸﾏﾓﾄｹﾝ","ｻｶﾞﾗﾑﾗ"]
[43,43511,"435112","熊本県","五木村","ｸﾏﾓﾄｹﾝ","ｲﾂｷﾑﾗ"]
[43,43512,"435121","熊本県","山江村","ｸﾏﾓﾄｹﾝ","ﾔﾏｴﾑﾗ"]
[43,43513,"435139","熊本県","球磨村","ｸﾏﾓﾄｹﾝ","ｸﾏﾑﾗ"]
[43,43514,"435147","熊本県","あさぎり町","ｸﾏﾓﾄｹﾝ","ｱｻｷﾞﾘﾁｮｳ"]
[43,43531,"435317","熊本県","苓北町","ｸﾏﾓﾄｹﾝ","ﾚｲﾎｸﾏﾁ"]
[44,44201,"442011","大分県","大分市","ｵｵｲﾀｹﾝ","ｵｵｲﾀｼ"]
[44,44202,"442020","大分県","別府市","ｵｵｲﾀｹﾝ","ﾍﾞｯﾌﾟｼ"]
[44,44203,"442038","大分県","中津市","ｵｵｲﾀｹﾝ","ﾅｶﾂｼ"]
[44,44204,"442046","大分県","日田市","ｵｵｲﾀｹﾝ","ﾋﾀｼ"]
[44,44205,"442054","大分県","佐伯市","ｵｵｲﾀｹﾝ","ｻｲｷｼ"]
[44,44206,"442062","大分県","臼杵市","ｵｵｲﾀｹﾝ","ｳｽｷｼ"]
[44,44207,"442071","大分県","津久見市","ｵｵｲﾀｹﾝ","ﾂｸﾐｼ"]
[44,44208,"442089","大分県","竹田市","ｵｵｲﾀｹﾝ","ﾀｹﾀｼ"]
[44,44209,"442097","大分県","豊後高田市","ｵｵｲﾀｹﾝ","ﾌﾞﾝｺﾞﾀｶﾀﾞｼ"]
[44,44210,"442101","大分県","杵築市","ｵｵｲﾀｹﾝ","ｷﾂｷｼ"]
[44,44211,"442119","大分県","宇佐市","ｵｵｲﾀｹﾝ","ｳｻｼ"]
[44,44212,"442127","大分県","豊後大野市","ｵｵｲﾀｹﾝ","ﾌﾞﾝｺﾞｵｵﾉｼ"]
[44,44213,"442135","大分県","由布市","ｵｵｲﾀｹﾝ","ﾕﾌｼ"]
[44,44214,"442143","大分県","国東市","ｵｵｲﾀｹﾝ","ｸﾆｻｷｼ"]
[44,44322,"443221","大分県","姫島村","ｵｵｲﾀｹﾝ","ﾋﾒｼﾏﾑﾗ"]
[44,44341,"443417","大分県","日出町","ｵｵｲﾀｹﾝ","ﾋｼﾞﾏﾁ"]
[44,44461,"444618","大分県","九重町","ｵｵｲﾀｹﾝ","ｺｺﾉｴﾏﾁ"]
[44,44462,"444626","大分県","玖珠町","ｵｵｲﾀｹﾝ","ｸｽﾏﾁ"]
[45,45201,"452017","宮崎県","宮崎市","ﾐﾔｻﾞｷｹﾝ","ﾐﾔｻﾞｷｼ"]
[45,45202,"452025","宮崎県","都城市","ﾐﾔｻﾞｷｹﾝ","ﾐﾔｺﾉｼﾞｮｳｼ"]
[45,45203,"452033","宮崎県","延岡市","ﾐﾔｻﾞｷｹﾝ","ﾉﾍﾞｵｶｼ"]
[45,45204,"452041","宮崎県","日南市","ﾐﾔｻﾞｷｹﾝ","ﾆﾁﾅﾝｼ"]
[45,45205,"452050","宮崎県","小林市","ﾐﾔｻﾞｷｹﾝ","ｺﾊﾞﾔｼｼ"]
[45,45206,"452068","宮崎県","日向市","ﾐﾔｻﾞｷｹﾝ","ﾋｭｳｶﾞｼ"]
[45,45207,"452076","宮崎県","串間市","ﾐﾔｻﾞｷｹﾝ","ｸｼﾏｼ"]
[45,45208,"452084","宮崎県","西都市","ﾐﾔｻﾞｷｹﾝ","ｻｲﾄｼ"]
[45,45209,"452092","宮崎県","えびの市","ﾐﾔｻﾞｷｹﾝ","ｴﾋﾞﾉｼ"]
[45,45341,"453412","宮崎県","三股町","ﾐﾔｻﾞｷｹﾝ","ﾐﾏﾀﾁｮｳ"]
[45,45361,"453617","宮崎県","高原町","ﾐﾔｻﾞｷｹﾝ","ﾀｶﾊﾙﾁｮｳ"]
[45,45382,"453820","宮崎県","国富町","ﾐﾔｻﾞｷｹﾝ","ｸﾆﾄﾐﾁｮｳ"]
[45,45383,"453838","宮崎県","綾町","ﾐﾔｻﾞｷｹﾝ","ｱﾔﾁｮｳ"]
[45,45401,"454010","宮崎県","高鍋町","ﾐﾔｻﾞｷｹﾝ","ﾀｶﾅﾍﾞﾁｮｳ"]
[45,45402,"454028","宮崎県","新富町","ﾐﾔｻﾞｷｹﾝ","ｼﾝﾄﾐﾁｮｳ"]
[45,45403,"454036","宮崎県","西米良村","ﾐﾔｻﾞｷｹﾝ","ﾆｼﾒﾗｿﾝ"]
[45,45404,"454044","宮崎県","木城町","ﾐﾔｻﾞｷｹﾝ","ｷｼﾞｮｳﾁｮｳ"]
[45,45405,"454052","宮崎県","川南町","ﾐﾔｻﾞｷｹﾝ","ｶﾜﾐﾅﾐﾁｮｳ"]
[45,45406,"454061","宮崎県","都農町","ﾐﾔｻﾞｷｹﾝ","ﾂﾉﾁｮｳ"]
[45,45421,"454214","宮崎県","門川町","ﾐﾔｻﾞｷｹﾝ","ｶﾄﾞｶﾞﾜﾁｮｳ"]
[45,45429,"454290","宮崎県","諸塚村","ﾐﾔｻﾞｷｹﾝ","ﾓﾛﾂｶｿﾝ"]
[45,45430,"454303","宮崎県","椎葉村","ﾐﾔｻﾞｷｹﾝ","ｼｲﾊﾞｿﾝ"]
[45,45431,"454311","宮崎県","美郷町","ﾐﾔｻﾞｷｹﾝ","ﾐｻﾄﾁｮｳ"]
[45,45441,"454419","宮崎県","高千穂町","ﾐﾔｻﾞｷｹﾝ","ﾀｶﾁﾎﾁｮｳ"]
[45,45442,"454427","宮崎県","日之影町","ﾐﾔｻﾞｷｹﾝ","ﾋﾉｶｹﾞﾁｮｳ"]
[45,45443,"454435","宮崎県","五ヶ瀬町","ﾐﾔｻﾞｷｹﾝ","ｺﾞｶｾﾁｮｳ"]
[46,46201,"462012","鹿児島県","鹿児島市","ｶｺﾞｼﾏｹﾝ","ｶｺﾞｼﾏｼ"]
[46,46203,"462039","鹿児島県","鹿屋市","ｶｺﾞｼﾏｹﾝ","ｶﾉﾔｼ"]
[46,46204,"462047","鹿児島県","枕崎市","ｶｺﾞｼﾏｹﾝ","ﾏｸﾗｻﾞｷｼ"]
[46,46206,"462063","鹿児島県","阿久根市","ｶｺﾞｼﾏｹﾝ","ｱｸﾈｼ"]
[46,46208,"462080","鹿児島県","出水市","ｶｺﾞｼﾏｹﾝ","ｲｽﾞﾐｼ"]
[46,46210,"462101","鹿児島県","指宿市","ｶｺﾞｼﾏｹﾝ","ｲﾌﾞｽｷｼ"]
[46,46213,"462136","鹿児島県","西之表市","ｶｺﾞｼﾏｹﾝ","ﾆｼﾉｵﾓﾃｼ"]
[{"$f":"ROUNDDOWN(C1666/10000,0)","v":46},46214,"462144","鹿児島県","垂水市","ｶｺﾞｼﾏｹﾝ","ﾀﾙﾐｽﾞｼ"]
[46,46215,"462152","鹿児島県","薩摩川内市","ｶｺﾞｼﾏｹﾝ","ｻﾂﾏｾﾝﾀﾞｲｼ"]
[46,46216,"462161","鹿児島県","日置市","ｶｺﾞｼﾏｹﾝ","ﾋｵｷｼ"]
[46,46217,"462179","鹿児島県","曽於市","ｶｺﾞｼﾏｹﾝ","ｿｵｼ"]
[46,46218,"462187","鹿児島県","霧島市","ｶｺﾞｼﾏｹﾝ","ｷﾘｼﾏｼ"]
[46,46219,"462195","鹿児島県","いちき串木野市","ｶｺﾞｼﾏｹﾝ","ｲﾁｷｸｼｷﾉｼ"]
[46,46220,"462209","鹿児島県","南さつま市","ｶｺﾞｼﾏｹﾝ","ﾐﾅﾐｻﾂﾏｼ"]
[46,46221,"462217","鹿児島県","志布志市","ｶｺﾞｼﾏｹﾝ","ｼﾌﾞｼｼ"]
[46,46222,"462225","鹿児島県","奄美市","ｶｺﾞｼﾏｹﾝ","ｱﾏﾐｼ"]
[46,46223,"462233","鹿児島県","南九州市","ｶｺﾞｼﾏｹﾝ","ﾐﾅﾐｷｭｳｼｭｳｼ"]
[46,46224,"462241","鹿児島県","伊佐市","ｶｺﾞｼﾏｹﾝ","ｲｻｼ"]
[46,46225,"462250","鹿児島県","姶良市","ｶｺﾞｼﾏｹﾝ","ｱｲﾗｼ"]
[46,46303,"463035","鹿児島県","三島村","ｶｺﾞｼﾏｹﾝ","ﾐｼﾏﾑﾗ"]
[46,46304,"463043","鹿児島県","十島村","ｶｺﾞｼﾏｹﾝ","ﾄｼﾏﾑﾗ"]
[46,46392,"463922","鹿児島県","さつま町","ｶｺﾞｼﾏｹﾝ","ｻﾂﾏﾁｮｳ"]
[46,46404,"464040","鹿児島県","長島町","ｶｺﾞｼﾏｹﾝ","ﾅｶﾞｼﾏﾁｮｳ"]
[46,46452,"464520","鹿児島県","湧水町","ｶｺﾞｼﾏｹﾝ","ﾕｳｽｲﾁｮｳ"]
[46,46468,"464686","鹿児島県","大崎町","ｶｺﾞｼﾏｹﾝ","ｵｵｻｷﾁｮｳ"]
[46,46482,"464821","鹿児島県","東串良町","ｶｺﾞｼﾏｹﾝ","ﾋｶﾞｼｸｼﾗﾁｮｳ"]
[46,46490,"464902","鹿児島県","錦江町","ｶｺﾞｼﾏｹﾝ","ｷﾝｺｳﾁｮｳ"]
[46,46491,"464911","鹿児島県","南大隅町","ｶｺﾞｼﾏｹﾝ","ﾐﾅﾐｵｵｽﾐﾁｮｳ"]
[46,46492,"464929","鹿児島県","肝付町","ｶｺﾞｼﾏｹﾝ","ｷﾓﾂｷﾁｮｳ"]
[46,46501,"465011","鹿児島県","中種子町","ｶｺﾞｼﾏｹﾝ","ﾅｶﾀﾈﾁｮｳ"]
[46,46502,"465020","鹿児島県","南種子町","ｶｺﾞｼﾏｹﾝ","ﾐﾅﾐﾀﾈﾁｮｳ"]
[46,46505,"465054","鹿児島県","屋久島町","ｶｺﾞｼﾏｹﾝ","ﾔｸｼﾏﾁｮｳ"]
[46,46523,"465232","鹿児島県","大和村","ｶｺﾞｼﾏｹﾝ","ﾔﾏﾄｿﾝ"]
[46,46524,"465241","鹿児島県","宇検村","ｶｺﾞｼﾏｹﾝ","ｳｹﾝｿﾝ"]
[46,46525,"465259","鹿児島県","瀬戸内町","ｶｺﾞｼﾏｹﾝ","ｾﾄｳﾁﾁｮｳ"]
[46,46527,"465275","鹿児島県","龍郷町","ｶｺﾞｼﾏｹﾝ","ﾀﾂｺﾞｳﾁｮｳ"]
[46,46529,"465291","鹿児島県","喜界町","ｶｺﾞｼﾏｹﾝ","ｷｶｲﾁｮｳ"]
[46,46530,"465305","鹿児島県","徳之島町","ｶｺﾞｼﾏｹﾝ","ﾄｸﾉｼﾏﾁｮｳ"]
[46,46531,"465313","鹿児島県","天城町","ｶｺﾞｼﾏｹﾝ","ｱﾏｷﾞﾁｮｳ"]
[46,46532,"465321","鹿児島県","伊仙町","ｶｺﾞｼﾏｹﾝ","ｲｾﾝﾁｮｳ"]
[46,46533,"465330","鹿児島県","和泊町","ｶｺﾞｼﾏｹﾝ","ﾜﾄﾞﾏﾘﾁｮｳ"]
[46,46534,"465348","鹿児島県","知名町","ｶｺﾞｼﾏｹﾝ","ﾁﾅﾁｮｳ"]
[46,46535,"465356","鹿児島県","与論町","ｶｺﾞｼﾏｹﾝ","ﾖﾛﾝﾁｮｳ"]
[47,47201,"472018","沖縄県","那覇市","ｵｷﾅﾜｹﾝ","ﾅﾊｼ"]
[47,47205,"472051","沖縄県","宜野湾市","ｵｷﾅﾜｹﾝ","ｷﾞﾉﾜﾝｼ"]
[47,47207,"472077","沖縄県","石垣市","ｵｷﾅﾜｹﾝ","ｲｼｶﾞｷｼ"]
[47,47208,"472085","沖縄県","浦添市","ｵｷﾅﾜｹﾝ","ｳﾗｿｴｼ"]
[47,47209,"472093","沖縄県","名護市","ｵｷﾅﾜｹﾝ","ﾅｺﾞｼ"]
[47,47210,"472107","沖縄県","糸満市","ｵｷﾅﾜｹﾝ","ｲﾄﾏﾝｼ"]
[47,47211,"472115","沖縄県","沖縄市","ｵｷﾅﾜｹﾝ","ｵｷﾅﾜｼ"]
[47,47212,"472123","沖縄県","豊見城市","ｵｷﾅﾜｹﾝ","ﾄﾐｸﾞｽｸｼ"]
[47,47213,"472131","沖縄県","うるま市","ｵｷﾅﾜｹﾝ","ｳﾙﾏｼ"]
[47,47214,"472140","沖縄県","宮古島市","ｵｷﾅﾜｹﾝ","ﾐﾔｺｼﾞﾏｼ"]
[47,47215,"472158","沖縄県","南城市","ｵｷﾅﾜｹﾝ","ﾅﾝｼﾞｮｳｼ"]
[47,47301,"473014","沖縄県","国頭村","ｵｷﾅﾜｹﾝ","ｸﾆｶﾞﾐｿﾝ"]
[47,47302,"473022","沖縄県","大宜味村","ｵｷﾅﾜｹﾝ","ｵｵｷﾞﾐｿﾝ"]
[47,47303,"473031","沖縄県","東村","ｵｷﾅﾜｹﾝ","ﾋｶﾞｼｿﾝ"]
[47,47306,"473065","沖縄県","今帰仁村","ｵｷﾅﾜｹﾝ","ﾅｷｼﾞﾝｿﾝ"]
[47,47308,"473081","沖縄県","本部町","ｵｷﾅﾜｹﾝ","ﾓﾄﾌﾞﾁｮｳ"]
[47,47311,"473111","沖縄県","恩納村","ｵｷﾅﾜｹﾝ","ｵﾝﾅｿﾝ"]
[47,47313,"473138","沖縄県","宜野座村","ｵｷﾅﾜｹﾝ","ｷﾞﾉｻﾞｿﾝ"]
[47,47314,"473146","沖縄県","金武町","ｵｷﾅﾜｹﾝ","ｷﾝﾁｮｳ"]
[47,47315,"473154","沖縄県","伊江村","ｵｷﾅﾜｹﾝ","ｲｴｿﾝ"]
[47,47324,"473243","沖縄県","読谷村","ｵｷﾅﾜｹﾝ","ﾖﾐﾀﾝｿﾝ"]
[47,47325,"473251","沖縄県","嘉手納町","ｵｷﾅﾜｹﾝ","ｶﾃﾞﾅﾁｮｳ"]
[47,47326,"473260","沖縄県","北谷町","ｵｷﾅﾜｹﾝ","ﾁﾔﾀﾝﾁｮｳ"]
[47,47327,"473278","沖縄県","北中城村","ｵｷﾅﾜｹﾝ","ｷﾀﾅｶｸﾞｽｸｿﾝ"]
[47,47328,"473286","沖縄県","中城村","ｵｷﾅﾜｹﾝ","ﾅｶｸﾞｽｸｿﾝ"]
[47,47329,"473294","沖縄県","西原町","ｵｷﾅﾜｹﾝ","ﾆｼﾊﾗﾁｮｳ"]
[47,47348,"473481","沖縄県","与那原町","ｵｷﾅﾜｹﾝ","ﾖﾅﾊﾞﾙﾁｮｳ"]
[47,47350,"473502","沖縄県","南風原町","ｵｷﾅﾜｹﾝ","ﾊｴﾊﾞﾙﾁｮｳ"]
[{"$f":"ROUNDDOWN(C1730/10000,0)","v":47},47353,"473537","沖縄県","渡嘉敷村","ｵｷﾅﾜｹﾝ","ﾄｶｼｷｿﾝ"]
[47,47354,"473545","沖縄県","座間味村","ｵｷﾅﾜｹﾝ","ｻﾞﾏﾐｿﾝ"]
[47,47355,"473553","沖縄県","粟国村","ｵｷﾅﾜｹﾝ","ｱｸﾞﾆｿﾝ"]
[47,47356,"473561","沖縄県","渡名喜村","ｵｷﾅﾜｹﾝ","ﾄﾅｷｿﾝ"]
[47,47357,"473570","沖縄県","南大東村","ｵｷﾅﾜｹﾝ","ﾐﾅﾐﾀﾞｲﾄｳｿﾝ"]
[47,47358,"473588","沖縄県","北大東村","ｵｷﾅﾜｹﾝ","ｷﾀﾀﾞｲﾄｳｿﾝ"]
[47,47359,"473596","沖縄県","伊平屋村","ｵｷﾅﾜｹﾝ","ｲﾍﾔｿﾝ"]
[47,47360,"473600","沖縄県","伊是名村","ｵｷﾅﾜｹﾝ","ｲｾﾞﾅｿﾝ"]
[47,47361,"473618","沖縄県","久米島町","ｵｷﾅﾜｹﾝ","ｸﾒｼﾞﾏﾁｮｳ"]
[47,47362,"473626","沖縄県","八重瀬町","ｵｷﾅﾜｹﾝ","ﾔｴｾﾁｮｳ"]
[47,47375,"473758","沖縄県","多良間村","ｵｷﾅﾜｹﾝ","ﾀﾗﾏｿﾝ"]
[47,47381,"473812","沖縄県","竹富町","ｵｷﾅﾜｹﾝ","ﾀｹﾄﾐﾁｮｳ"]
[47,47382,"473821","沖縄県","与那国町","ｵｷﾅﾜｹﾝ","ﾖﾅｸﾞﾆﾁｮｳ"]
[]
[null,null,{"$f":"COUNTA(C2:C1742)","v":1741}]

{"sheet":"県","index":8,"n_rows":180,"n_cols":47,"rows_kept":180,"cut":false,"hidden":true,"merged":[]}
["北海道","青森県","岩手県","宮城県","秋田県","山形県","福島県","茨城県","栃木県","群馬県","埼玉県","千葉県","東京都","神奈川県","新潟県","富山県","石川県","福井県","山梨県","長野県","岐阜県","静岡県","愛知県","三重県","滋賀県","京都府","大阪府","兵庫県","奈良県","和歌山県","鳥取県","島根県","岡山県","広島県","山口県","徳島県","香川県","愛媛県","高知県","福岡県","佐賀県","長崎県","熊本県","大分県","宮崎県","鹿児島県","沖縄県"]
["札幌市","青森市","盛岡市","仙台市","秋田市","山形市","福島市","水戸市","宇都宮市","前橋市","さいたま市","千葉市","千代田区","横浜市","新潟市","富山市","金沢市","福井市","甲府市","長野市","岐阜市","静岡市","名古屋市","津市","大津市","京都市","大阪市","神戸市","奈良市","和歌山市","鳥取市","松江市","岡山市","広島市","下関市","徳島市","高松市","松山市","高知市","北九州市","佐賀市","長崎市","熊本市","大分市","宮崎市","鹿児島市","那覇市"]
["函館市","弘前市","宮古市","石巻市","能代市","米沢市","会津若松市","日立市","足利市","高崎市","川越市","銚子市","中央区","川崎市","長岡市","高岡市","七尾市","敦賀市","富士吉田市","松本市","大垣市","浜松市","豊橋市","四日市市","彦根市","福知山市","堺市","姫路市","大和高田市","海南市","米子市","浜田市","倉敷市","呉市","宇部市","鳴門市","丸亀市","今治市","室戸市","福岡市","唐津市","佐世保市","八代市","別府市","都城市","鹿屋市","宜野湾市"]
["小樽市","八戸市","大船渡市","塩竈市","横手市","鶴岡市","郡山市","土浦市","栃木市","桐生市","熊谷市","市川市","港区","相模原市","三条市","魚津市","小松市","小浜市","都留市","上田市","高山市","沼津市","岡崎市","伊勢市","長浜市","舞鶴市","岸和田市","尼崎市","大和郡山市","橋本市","倉吉市","出雲市","津山市","竹原市","山口市","小松島市","坂出市","宇和島市","安芸市","大牟田市","鳥栖市","島原市","人吉市","中津市","延岡市","枕崎市","石垣市"]
["旭川市","黒石市","花巻市","気仙沼市","大館市","酒田市","いわき市","古河市","佐野市","伊勢崎市","川口市","船橋市","新宿区","横須賀市","柏崎市","氷見市","輪島市","大野市","山梨市","岡谷市","多治見市","熱海市","一宮市","松阪市","近江八幡市","綾部市","豊中市","明石市","天理市","有田市","境港市","益田市","玉野市","三原市","萩市","阿南市","善通寺市","八幡浜市","南国市","久留米市","多久市","諫早市","荒尾市","日田市","日南市","阿久根市","浦添市"]
["室蘭市","五所川原市","北上市","白石市","男鹿市","新庄市","白河市","石岡市","鹿沼市","太田市","行田市","館山市","文京区","平塚市","新発田市","滑川市","珠洲市","勝山市","大月市","飯田市","関市","三島市","瀬戸市","桑名市","草津市","宇治市","池田市","西宮市","橿原市","御坊市","岩美町","大田市","笠岡市","尾道市","防府市","吉野川市","観音寺市","新居浜市","土佐市","直方市","伊万里市","大村市","水俣市","佐伯市","小林市","出水市","名護市"]
["釧路市","十和田市","久慈市","名取市","湯沢市","寒河江市","須賀川市","結城市","日光市","沼田市","秩父市","木更津市","台東区","鎌倉市","小千谷市","黒部市","加賀市","鯖江市","韮崎市","諏訪市","中津川市","富士宮市","半田市","鈴鹿市","守山市","宮津市","吹田市","洲本市","桜井市","田辺市","若桜町","安来市","井原市","福山市","下松市","阿波市","さぬき市","西条市","須崎市","飯塚市","武雄市","平戸市","玉名市","臼杵市","日向市","指宿市","糸満市"]
["帯広市","三沢市","遠野市","角田市","鹿角市","上山市","喜多方市","龍ケ崎市","小山市","館林市","所沢市","松戸市","墨田区","藤沢市","加茂市","砺波市","羽咋市","あわら市","南アルプス市","須坂市","美濃市","伊東市","春日井市","名張市","栗東市","亀岡市","泉大津市","芦屋市","五條市","新宮市","智頭町","江津市","総社市","府中市","岩国市","美馬市","東かがわ市","大洲市","宿毛市","田川市","鹿島市","松浦市","山鹿市","津久見市","串間市","西之表市","沖縄市"]
["北見市","むつ市","一関市","多賀城市","由利本荘市","村山市","相馬市","下妻市","真岡市","渋川市","飯能市","野田市","江東区","小田原市","十日町市","小矢部市","かほく市","越前市","北杜市","小諸市","瑞浪市","島田市","豊川市","尾鷲市","甲賀市","城陽市","高槻市","伊丹市","御所市","紀の川市","八頭町","雲南市","高梁市","三次市","光市","三好市","三豊市","伊予市","土佐清水市","柳川市","小城市","対馬市","菊池市","竹田市","西都市","垂水市","豊見城市"]
["夕張市","つがる市","陸前高田市","岩沼市","潟上市","長井市","二本松市","常総市","大田原市","藤岡市","加須市","茂原市","品川区","茅ヶ崎市","見附市","南砺市","白山市","坂井市","甲斐市","伊那市","羽島市","富士市","津島市","亀山市","野洲市","向日市","貝塚市","相生市","生駒市","岩出市","三朝町","奥出雲町","新見市","庄原市","長門市","勝浦町","土庄町","四国中央市","四万十市","八女市","嬉野市","壱岐市","宇土市","豊後高田市","えびの市","薩摩川内市","うるま市"]
["岩見沢市","平川市","釜石市","登米市","大仙市","天童市","田村市","常陸太田市","矢板市","富岡市","本庄市","成田市","目黒区","逗子市","村上市","射水市","能美市","永平寺町","笛吹市","駒ヶ根市","恵那市","磐田市","碧南市","鳥羽市","湖南市","長岡京市","守口市","豊岡市","香芝市","紀美野町","湯梨浜町","飯南町","備前市","大竹市","柳井市","上勝町","小豆島町","西予市","香南市","筑後市","神埼市","五島市","上天草市","杵築市","三股町","日置市","宮古島市"]
["網走市","平内町","二戸市","栗原市","北秋田市","東根市","南相馬市","高萩市","那須塩原市","安中市","東松山市","佐倉市","大田区","三浦市","燕市","舟橋村","野々市市","池田町","上野原市","中野市","美濃加茂市","焼津市","刈谷市","熊野市","高島市","八幡市","枚方市","加古川市","葛城市","かつらぎ町","琴浦町","川本町","瀬戸内市","東広島市","美祢市","佐那河内村","三木町","東温市","香美市","大川市","吉野ヶ里町","西海市","宇城市","宇佐市","高原町","曽於市","南城市"]
["留萌市","今別町","八幡平市","東松島市","にかほ市","尾花沢市","伊達市","北茨城市","さくら市","みどり市","春日部市","東金市","世田谷区","秦野市","糸魚川市","上市町","川北町","南越前町","甲州市","大町市","土岐市","掛川市","豊田市","いなべ市","東近江市","京田辺市","茨木市","赤穂市","宇陀市","九度山町","北栄町","美郷町","赤磐市","廿日市市","周南市","石井町","直島町","上島町","東洋町","行橋市","基山町","雲仙市","阿蘇市","豊後大野市","国富町","霧島市","国頭村"]
["苫小牧市","蓬田村","奥州市","大崎市","仙北市","南陽市","本宮市","笠間市","那須烏山市","榛東村","狭山市","旭市","渋谷区","厚木市","妙高市","立山町","津幡町","越前町","中央市","飯山市","各務原市","藤枝市","安城市","志摩市","米原市","京丹後市","八尾市","西脇市","山添村","高野町","日吉津村","邑南町","真庭市","安芸高田市","山陽小野田市","神山町","宇多津町","久万高原町","奈半利町","豊前市","上峰町","南島原市","天草市","由布市","綾町","いちき串木野市","大宜味村"]
["稚内市","外ヶ浜町","滝沢市","富谷市","小坂町","山辺町","桑折町","取手市","下野市","吉岡町","羽生市","習志野市","中野区","大和市","五泉市","入善町","内灘町","美浜町","市川三郷町","茅野市","可児市","御殿場市","西尾市","伊賀市","日野町","南丹市","泉佐野市","宝塚市","平群町","湯浅町","大山町","津和野町","美作市","江田島市","周防大島町","那賀町","綾川町","松前町","田野町","中間市","みやき町","長与町","合志市","国東市","高鍋町","南さつま市","東村"]
["美唄市","鰺ヶ沢町","雫石町","蔵王町","上小阿仁村","中山町","国見町","牛久市","上三川町","上野村","鴻巣市","柏市","杉並区","伊勢原市","上越市","朝日町","志賀町","高浜町","早川町","塩尻市","山県市","袋井市","蒲郡市","木曽岬町","竜王町","木津川市","富田林市","三木市","三郷町","広川町","南部町","吉賀町","浅口市","府中町","和木町","牟岐町","琴平町","砥部町","安田町","小郡市","玄海町","時津町","美里町","姫島村","新富町","志布志市","今帰仁村"]
["芦別市","深浦町","葛巻町","七ヶ宿町","藤里町","河北町","川俣町","つくば市","益子町","神流町","深谷市","勝浦市","豊島区","海老名市","阿賀野市",null,"宝達志水町","おおい町","身延町","佐久市","瑞穂市","下田市","犬山市","東員町","愛荘町","大山崎町","寝屋川市","高砂市","斑鳩町","有田川町","伯耆町","海士町","和気町","海田町","上関町","美波町","多度津町","内子町","北川村","筑紫野市","有田町","東彼杵町","玉東町","日出町","西米良村","奄美市","本部町"]
["江別市","西目屋村","岩手町","大河原町","三種町","西川町","大玉村","ひたちなか市","茂木町","下仁田町","上尾市","市原市","北区","座間市","佐渡市",null,"中能登町","若狭町","南部町","千曲市","飛騨市","裾野市","常滑市","菰野町","豊郷町","久御山町","河内長野市","川西市","安堵町","美浜町","日南町","西ノ島町","早島町","熊野町","田布施町","海陽町","まんのう町","伊方町","馬路村","春日市","大町町","川棚町","南関町","九重町","木城町","南九州市","恩納村"]
["赤平市","藤崎町","紫波町","村田町","八峰町","朝日町","鏡石町","鹿嶋市","市貝町","南牧村","草加市","流山市","荒川区","南足柄市","魚沼市",null,"穴水町",null,"富士川町","東御市","本巣市","湖西市","江南市","朝日町","甲良町","井手町","松原市","小野市","川西町","日高町","日野町","知夫村","里庄町","坂町","平生町","松茂町",null,"松野町","芸西村","大野城市","江北町","波佐見町","長洲町","玖珠町","川南町","伊佐市","宜野座村"]
["紋別市","大鰐町","矢巾町","柴田町","五城目町","大江町","天栄村","潮来市","芳賀町","甘楽町","越谷市","八千代市","板橋区","綾瀬市","南魚沼市",null,"能登町",null,"昭和町","安曇野市","郡上市","伊豆市","小牧市","川越町","多賀町","宇治田原町","大東市","三田市","三宅町","由良町","江府町","隠岐の島町","矢掛町","安芸太田町","阿武町","北島町",null,"鬼北町","本山町","宗像市","白石町","小値賀町","和水町",null,"都農町","姶良市","金武町"]
["士別市","田舎館村","西和賀町","川崎町","八郎潟町","大石田町","下郷町","守谷市","壬生町","中之条町","蕨市","我孫子市","練馬区","葉山町","胎内市",null,null,null,"道志村","小海町","下呂市","御前崎市","稲沢市","多気町",null,"笠置町","和泉市","加西市","田原本町","印南町",null,null,"新庄村","北広島町",null,"藍住町",null,"愛南町","大豊町","太宰府市","太良町","佐々町","大津町",null,"門川町","三島村","伊江村"]
["名寄市","板柳町","金ケ崎町","丸森町","井川町","金山町","檜枝岐村","常陸大宮市","野木町","長野原町","戸田市","鴨川市","足立区","寒川町","聖籠町",null,null,null,"西桂町","川上村","海津市","菊川市","新城市","明和町",null,"和束町","箕面市","丹波篠山市","曽爾村","みなべ町",null,null,"鏡野町","大崎上島町",null,"板野町",null,null,"土佐町","古賀市",null,"新上五島町","菊陽町",null,"諸塚村","十島村","読谷村"]
["三笠市","鶴田町","平泉町","亘理町","大潟村","最上町","只見町","那珂市","塩谷町","嬬恋村","入間市","鎌ケ谷市","葛飾区","大磯町","弥彦村",null,null,null,"忍野村","南牧村","岐南町","伊豆の国市","東海市","大台町",null,"精華町","柏原市","養父市","御杖村","日高川町",null,null,"勝央町","世羅町",null,"上板町",null,null,"大川村","福津市",null,null,"南小国町",null,"椎葉村","さつま町","嘉手納町"]
["根室市","中泊町","住田町","山元町","美郷町","舟形町","南会津町","筑西市","高根沢町","草津町","朝霞市","君津市","江戸川区","二宮町","田上町",null,null,null,"山中湖村","南相木村","笠松町","牧之原市","大府市","玉城町",null,"南山城村","羽曳野市","丹波市","高取町","白浜町",null,null,"奈義町","神石高原町",null,"つるぎ町",null,null,"いの町","うきは市",null,null,"小国町",null,"美郷町","長島町","北谷町"]
["千歳市","野辺地町","大槌町","松島町","羽後町","真室川町","北塩原村","坂東市","那須町","高山村","志木市","富津市","八王子市","中井町","阿賀町",null,null,null,"鳴沢村","北相木村","養老町","東伊豆町","知多市","度会町",null,"京丹波町","門真市","南あわじ市","明日香村","上富田町",null,null,"西粟倉村",null,null,"東みよし町",null,null,"仁淀川町","宮若市",null,null,"産山村",null,"高千穂町","湧水町","北中城村"]
["滝川市","七戸町","山田町","七ヶ浜町","東成瀬村","大蔵村","西会津町","稲敷市","那珂川町","東吾妻町","和光市","浦安市","立川市","大井町","出雲崎町",null,null,null,"富士河口湖町","佐久穂町","垂井町","河津町","知立市","大紀町",null,"伊根町","摂津市","朝来市","上牧町","すさみ町",null,null,"久米南町",null,null,null,null,null,"中土佐町","嘉麻市",null,null,"高森町",null,"日之影町","大崎町","中城村"]
["砂川市","六戸町","岩泉町","利府町",null,"鮭川村","磐梯町","かすみがうら市",null,"片品村","新座市","四街道市","武蔵野市","松田町","湯沢町",null,null,null,"小菅村","軽井沢町","関ケ原町","南伊豆町","尾張旭市","南伊勢町",null,"与謝野町","高石市","淡路市","王寺町","那智勝浦町",null,null,"美咲町",null,null,null,null,null,"佐川町","朝倉市",null,null,"西原村",null,"五ヶ瀬町","東串良町","西原町"]
["歌志内市","横浜町","田野畑村","大和町",null,"戸沢村","猪苗代町","桜川市",null,"川場村","桶川市","袖ケ浦市","三鷹市","山北町","津南町",null,null,null,"丹波山村","御代田町","神戸町","松崎町","高浜市","紀北町",null,null,"藤井寺市","宍粟市","広陵町","太地町",null,null,"吉備中央町",null,null,null,null,null,"越知町","みやま市",null,null,"南阿蘇村",null,null,"錦江町","与那原町"]
["深川市","東北町","普代村","大郷町",null,"高畠町","会津坂下町","神栖市",null,"昭和村","久喜市","八街市","青梅市","開成町","刈羽村",null,null,null,null,"立科町","輪之内町","西伊豆町","岩倉市","御浜町",null,null,"東大阪市","加東市","河合町","古座川町",null,null,null,null,null,null,null,null,"梼原町","糸島市",null,null,"御船町",null,null,"南大隅町","南風原町"]
["富良野市","六ヶ所村","軽米町","大衡村",null,"川西町","湯川村","行方市",null,"みなかみ町","北本市","印西市","府中市","箱根町","関川村",null,null,null,null,"青木村","安八町","函南町","豊明市","紀宝町",null,null,"泉南市","たつの市","吉野町","北山村",null,null,null,null,null,null,null,null,"日高村","那珂川市",null,null,"嘉島町",null,null,"肝付町","渡嘉敷村"]
["登別市","おいらせ町","野田村","色麻町",null,"小国町","柳津町","鉾田市",null,"玉村町","八潮市","白井市","昭島市","真鶴町","粟島浦村",null,null,null,null,"長和町","揖斐川町","清水町","日進市",null,null,null,"四條畷市","猪名川町","大淀町","串本町",null,null,null,null,null,null,null,null,"津野町","宇美町",null,null,"益城町",null,null,"中種子町","座間味村"]
["恵庭市","大間町","九戸村","加美町",null,"白鷹町","三島町","つくばみらい市",null,"板倉町","富士見市","富里市","調布市","湯河原町",null,null,null,null,null,"下諏訪町","大野町","長泉町","田原市",null,null,null,"交野市","多可町","下市町",null,null,null,null,null,null,null,null,null,"四万十町","篠栗町",null,null,"甲佐町",null,null,"南種子町","粟国村"]
["伊達市","東通村","洋野町","涌谷町",null,"飯豊町","金山町","小美玉市",null,"明和町","三郷市","南房総市","町田市","愛川町",null,null,null,null,null,"富士見町","池田町","小山町","愛西市",null,null,null,"大阪狭山市","稲美町","黒滝村",null,null,null,null,null,null,null,null,null,"大月町","志免町",null,null,"山都町",null,null,"屋久島町","渡名喜村"]
["北広島市","風間浦村","一戸町","美里町",null,"三川町","昭和村","茨城町",null,"千代田町","蓮田市","匝瑳市","小金井市","清川村",null,null,null,null,null,"原村","北方町","吉田町","清須市",null,null,null,"阪南市","播磨町","天川村",null,null,null,null,null,null,null,null,null,"三原村","須恵町",null,null,"氷川町",null,null,"大和村","南大東村"]
["石狩市","佐井村",null,"女川町",null,"庄内町","会津美里町","大洗町",null,"大泉町","坂戸市","香取市","小平市",null,null,null,null,null,null,"辰野町","坂祝町","川根本町","北名古屋市",null,null,null,"島本町","市川町","野迫川村",null,null,null,null,null,null,null,null,null,"黒潮町","新宮町",null,null,"芦北町",null,null,"宇検村","北大東村"]
["北斗市","三戸町",null,"南三陸町",null,"遊佐町","西郷村","城里町",null,"邑楽町","幸手市","山武市","日野市",null,null,null,null,null,null,"箕輪町","富加町","森町","弥富市",null,null,null,"豊能町","福崎町","十津川村",null,null,null,null,null,null,null,null,null,null,"久山町",null,null,"津奈木町",null,null,"瀬戸内町","伊平屋村"]
["当別町","五戸町",null,null,null,null,"泉崎村","東海村",null,null,"鶴ヶ島市","いすみ市","東村山市",null,null,null,null,null,null,"飯島町","川辺町",null,"みよし市",null,null,null,"能勢町","神河町","下北山村",null,null,null,null,null,null,null,null,null,null,"粕屋町",null,null,"錦町",null,null,"龍郷町","伊是名村"]
["新篠津村","田子町",null,null,null,null,"中島村","大子町",null,null,"日高市","大網白里市","国分寺市",null,null,null,null,null,null,"南箕輪村","七宗町",null,"あま市",null,null,null,"忠岡町","太子町","上北山村",null,null,null,null,null,null,null,null,null,null,"芦屋町",null,null,"多良木町",null,null,"喜界町","久米島町"]
["松前町","南部町",null,null,null,null,"矢吹町","美浦村",null,null,"吉川市","酒々井町","国立市",null,null,null,null,null,null,"中川村","八百津町",null,"長久手市",null,null,null,"熊取町","上郡町","川上村",null,null,null,null,null,null,null,null,null,null,"水巻町",null,null,"湯前町",null,null,"徳之島町","八重瀬町"]
["福島町","階上町",null,null,null,null,"棚倉町","阿見町",null,null,"ふじみ野市","栄町","福生市",null,null,null,null,null,null,"宮田村","白川町",null,"東郷町",null,null,null,"田尻町","佐用町","東吉野村",null,null,null,null,null,null,null,null,null,null,"岡垣町",null,null,"水上村",null,null,"天城町","多良間村"]
["知内町","新郷村",null,null,null,null,"矢祭町","河内町",null,null,"白岡市","神崎町","狛江市",null,null,null,null,null,null,"松川町","東白川村",null,"豊山町",null,null,null,"岬町","香美町",null,null,null,null,null,null,null,null,null,null,null,"遠賀町",null,null,"相良村",null,null,"伊仙町","竹富町"]
["木古内町",null,null,null,null,null,"塙町","八千代町",null,null,"伊奈町","多古町","東大和市",null,null,null,null,null,null,"高森町","御嵩町",null,"大口町",null,null,null,"太子町","新温泉町",null,null,null,null,null,null,null,null,null,null,null,"小竹町",null,null,"五木村",null,null,"和泊町","与那国町"]
["七飯町",null,null,null,null,null,"鮫川村","五霞町",null,null,"三芳町","東庄町","清瀬市",null,null,null,null,null,null,"阿南町","白川村",null,"扶桑町",null,null,null,"河南町",null,null,null,null,null,null,null,null,null,null,null,null,"鞍手町",null,null,"山江村",null,null,"知名町"]
["鹿部町",null,null,null,null,null,"石川町","境町",null,null,"毛呂山町","九十九里町","東久留米市",null,null,null,null,null,null,"阿智村",null,null,"大治町",null,null,null,"千早赤阪村",null,null,null,null,null,null,null,null,null,null,null,null,"桂川町",null,null,"球磨村",null,null,"与論町"]
["森町",null,null,null,null,null,"玉川村","利根町",null,null,"越生町","芝山町","武蔵村山市",null,null,null,null,null,null,"平谷村",null,null,"蟹江町",null,null,null,null,null,null,null,null,null,null,null,null,null,null,null,null,"筑前町",null,null,"あさぎり町"]
["八雲町",null,null,null,null,null,"平田村",null,null,null,"滑川町","横芝光町","多摩市",null,null,null,null,null,null,"根羽村",null,null,"飛島村",null,null,null,null,null,null,null,null,null,null,null,null,null,null,null,null,"東峰村",null,null,"苓北町"]
["長万部町",null,null,null,null,null,"浅川町",null,null,null,"嵐山町","一宮町","稲城市",null,null,null,null,null,null,"下條村",null,null,"阿久比町",null,null,null,null,null,null,null,null,null,null,null,null,null,null,null,null,"大刀洗町"]
["江差町",null,null,null,null,null,"古殿町",null,null,null,"小川町","睦沢町","羽村市",null,null,null,null,null,null,"売木村",null,null,"東浦町",null,null,null,null,null,null,null,null,null,null,null,null,null,null,null,null,"大木町"]
["上ノ国町",null,null,null,null,null,"三春町",null,null,null,"川島町","長生村","あきる野市",null,null,null,null,null,null,"天龍村",null,null,"南知多町",null,null,null,null,null,null,null,null,null,null,null,null,null,null,null,null,"広川町"]
["厚沢部町",null,null,null,null,null,"小野町",null,null,null,"吉見町","白子町","西東京市",null,null,null,null,null,null,"泰阜村",null,null,"美浜町",null,null,null,null,null,null,null,null,null,null,null,null,null,null,null,null,"香春町"]
["乙部町",null,null,null,null,null,"広野町",null,null,null,"鳩山町","長柄町","瑞穂町",null,null,null,null,null,null,"喬木村",null,null,"武豊町",null,null,null,null,null,null,null,null,null,null,null,null,null,null,null,null,"添田町"]
["奥尻町",null,null,null,null,null,"楢葉町",null,null,null,"ときがわ町","長南町","日の出町",null,null,null,null,null,null,"豊丘村",null,null,"幸田町",null,null,null,null,null,null,null,null,null,null,null,null,null,null,null,null,"糸田町"]
["今金町",null,null,null,null,null,"富岡町",null,null,null,"横瀬町","大多喜町","檜原村",null,null,null,null,null,null,"大鹿村",null,null,"設楽町",null,null,null,null,null,null,null,null,null,null,null,null,null,null,null,null,"川崎町"]
["せたな町",null,null,null,null,null,"川内村",null,null,null,"皆野町","御宿町","奥多摩町",null,null,null,null,null,null,"上松町",null,null,"東栄町",null,null,null,null,null,null,null,null,null,null,null,null,null,null,null,null,"大任町"]
["島牧村",null,null,null,null,null,"大熊町",null,null,null,"長瀞町","鋸南町","大島町",null,null,null,null,null,null,"南木曽町",null,null,"豊根村",null,null,null,null,null,null,null,null,null,null,null,null,null,null,null,null,"赤村"]
["寿都町",null,null,null,null,null,"双葉町",null,null,null,"小鹿野町",null,"利島村",null,null,null,null,null,null,"木祖村",null,null,null,null,null,null,null,null,null,null,null,null,null,null,null,null,null,null,null,"福智町"]
["黒松内町",null,null,null,null,null,"浪江町",null,null,null,"東秩父村",null,"新島村",null,null,null,null,null,null,"王滝村",null,null,null,null,null,null,null,null,null,null,null,null,null,null,null,null,null,null,null,"苅田町"]
["蘭越町",null,null,null,null,null,"葛尾村",null,null,null,"美里町",null,"神津島村",null,null,null,null,null,null,"大桑村",null,null,null,null,null,null,null,null,null,null,null,null,null,null,null,null,null,null,null,"みやこ町"]
["ニセコ町",null,null,null,null,null,"新地町",null,null,null,"神川町",null,"三宅村",null,null,null,null,null,null,"木曽町",null,null,null,null,null,null,null,null,null,null,null,null,null,null,null,null,null,null,null,"吉富町"]
["真狩村",null,null,null,null,null,"飯舘村",null,null,null,"上里町",null,"御蔵島村",null,null,null,null,null,null,"麻績村",null,null,null,null,null,null,null,null,null,null,null,null,null,null,null,null,null,null,null,"上毛町"]
["留寿都村",null,null,null,null,null,null,null,null,null,"寄居町",null,"八丈町",null,null,null,null,null,null,"生坂村",null,null,null,null,null,null,null,null,null,null,null,null,null,null,null,null,null,null,null,"築上町"]
["喜茂別町",null,null,null,null,null,null,null,null,null,"宮代町",null,"青ヶ島村",null,null,null,null,null,null,"山形村"]
["京極町",null,null,null,null,null,null,null,null,null,"杉戸町",null,"小笠原村",null,null,null,null,null,null,"朝日村"]
["倶知安町",null,null,null,null,null,null,null,null,null,"松伏町",null,null,null,null,null,null,null,null,"筑北村"]
["共和町",null,null,null,null,null,null,null,null,null,null,null,null,null,null,null,null,null,null,"池田町"]
["岩内町",null,null,null,null,null,null,null,null,null,null,null,null,null,null,null,null,null,null,"松川村"]
["泊村",null,null,null,null,null,null,null,null,null,null,null,null,null,null,null,null,null,null,"白馬村"]
["神恵内村",null,null,null,null,null,null,null,null,null,null,null,null,null,null,null,null,null,null,"小谷村"]
["積丹町",null,null,null,null,null,null,null,null,null,null,null,null,null,null,null,null,null,null,"坂城町"]
["古平町",null,null,null,null,null,null,null,null,null,null,null,null,null,null,null,null,null,null,"小布施町"]
["仁木町",null,null,null,null,null,null,null,null,null,null,null,null,null,null,null,null,null,null,"高山村"]
["余市町",null,null,null,null,null,null,null,null,null,null,null,null,null,null,null,null,null,null,"山ノ内町"]
["赤井川村",null,null,null,null,null,null,null,null,null,null,null,null,null,null,null,null,null,null,"木島平村"]
["南幌町",null,null,null,null,null,null,null,null,null,null,null,null,null,null,null,null,null,null,"野沢温泉村"]
["奈井江町",null,null,null,null,null,null,null,null,null,null,null,null,null,null,null,null,null,null,"信濃町"]
["上砂川町",null,null,null,null,null,null,null,null,null,null,null,null,null,null,null,null,null,null,"小川村"]
["由仁町",null,null,null,null,null,null,null,null,null,null,null,null,null,null,null,null,null,null,"飯綱町"]
["長沼町",null,null,null,null,null,null,null,null,null,null,null,null,null,null,null,null,null,null,"栄村"]
["栗山町"]
["月形町"]
["浦臼町"]
["新十津川町"]
["妹背牛町"]
["秩父別町"]
["雨竜町"]
["北竜町"]
["沼田町"]
["鷹栖町"]
["東神楽町"]
["当麻町"]
["比布町"]
["愛別町"]
["上川町"]
["東川町"]
["美瑛町"]
["上富良野町"]
["中富良野町"]
["南富良野町"]
["占冠村"]
["和寒町"]
["剣淵町"]
["下川町"]
["美深町"]
["音威子府村"]
["中川町"]
["幌加内町"]
["増毛町"]
["小平町"]
["苫前町"]
["羽幌町"]
["初山別村"]
["遠別町"]
["天塩町"]
["猿払村"]
["浜頓別町"]
["中頓別町"]
["枝幸町"]
["豊富町"]
["礼文町"]
["利尻町"]
["利尻富士町"]
["幌延町"]
["美幌町"]
["津別町"]
["斜里町"]
["清里町"]
["小清水町"]
["訓子府町"]
["置戸町"]
["佐呂間町"]
["遠軽町"]
["湧別町"]
["滝上町"]
["興部町"]
["西興部村"]
["雄武町"]
["大空町"]
["豊浦町"]
["壮瞥町"]
["白老町"]
["厚真町"]
["洞爺湖町"]
["安平町"]
["むかわ町"]
["日高町"]
["平取町"]
["新冠町"]
["浦河町"]
["様似町"]
["えりも町"]
["新ひだか町"]
["音更町"]
["士幌町"]
["上士幌町"]
["鹿追町"]
["新得町"]
["清水町"]
["芽室町"]
["中札内村"]
["更別村"]
["大樹町"]
["広尾町"]
["幕別町"]
["池田町"]
["豊頃町"]
["本別町"]
["足寄町"]
["陸別町"]
["浦幌町"]
["釧路町"]
["厚岸町"]
["浜中町"]
["標茶町"]
["弟子屈町"]
["鶴居村"]
["白糠町"]
["別海町"]
["中標津町"]
["標津町"]
["羅臼町"]

{"sheet":"code","index":9,"n_rows":1743,"n_cols":6,"rows_kept":1743,"cut":false,"hidden":true,"merged":[]}
["北海道","01",null,null,"北海道札幌市","011002"]
["青森県","02",null,null,"北海道函館市","012025"]
["岩手県","03",null,null,"北海道小樽市","012033"]
["宮城県","04",null,null,"北海道旭川市","012041"]
["秋田県","05",null,null,"北海道室蘭市","012050"]
["山形県","06",null,null,"北海道釧路市","012068"]
["福島県","07",null,null,"北海道帯広市","012076"]
["茨城県","08",null,null,"北海道北見市","012084"]
["栃木県","09",null,null,"北海道夕張市","012092"]
["群馬県","10",null,null,"北海道岩見沢市","012106"]
["埼玉県","11",null,null,"北海道網走市","012114"]
["千葉県","12",null,null,"北海道留萌市","012122"]
["東京都","13",null,null,"北海道苫小牧市","012131"]
["神奈川県","14",null,null,"北海道稚内市","012149"]
["新潟県","15",null,null,"北海道美唄市","012157"]
["富山県","16",null,null,"北海道芦別市","012165"]
["石川県","17",null,null,"北海道江別市","012173"]
["福井県","18",null,null,"北海道赤平市","012181"]
["山梨県","19",null,null,"北海道紋別市","012190"]
["長野県","20",null,null,"北海道士別市","012203"]
["岐阜県","21",null,null,"北海道名寄市","012211"]
["静岡県","22",null,null,"北海道三笠市","012220"]
["愛知県","23",null,null,"北海道根室市","012238"]
["三重県","24",null,null,"北海道千歳市","012246"]
["滋賀県","25",null,null,"北海道滝川市","012254"]
["京都府","26",null,null,"北海道砂川市","012262"]
["大阪府","27",null,null,"北海道歌志内市","012271"]
["兵庫県","28",null,null,"北海道深川市","012289"]
["奈良県","29",null,null,"北海道富良野市","012297"]
["和歌山県","30",null,null,"北海道登別市","012301"]
["鳥取県","31",null,null,"北海道恵庭市","012319"]
["島根県","32",null,null,"北海道伊達市","012335"]
["岡山県","33",null,null,"北海道北広島市","012343"]
["広島県","34",null,null,"北海道石狩市","012351"]
["山口県","35",null,null,"北海道北斗市","012360"]
["徳島県","36",null,null,"北海道当別町","013030"]
["香川県","37",null,null,"北海道新篠津村","013048"]
["愛媛県","38",null,null,"北海道松前町","013315"]
["高知県","39",null,null,"北海道福島町","013323"]
["福岡県","40",null,null,"北海道知内町","013331"]
["佐賀県","41",null,null,"北海道木古内町","013340"]
["長崎県","42",null,null,"北海道七飯町","013374"]
["熊本県","43",null,null,"北海道鹿部町","013439"]
["大分県","44",null,null,"北海道森町","013455"]
["宮崎県","45",null,null,"北海道八雲町","013463"]
["鹿児島県","46",null,null,"北海道長万部町","013471"]
["沖縄県","47",null,null,"北海道江差町","013617"]
[null,null,null,null,"北海道上ノ国町","013625"]
[null,null,null,null,"北海道厚沢部町","013633"]
[null,null,null,null,"北海道乙部町","013641"]
[null,null,null,null,"北海道奥尻町","013676"]
[null,null,null,null,"北海道今金町","013706"]
[null,null,null,null,"北海道せたな町","013714"]
[null,null,null,null,"北海道島牧村","013919"]
[null,null,null,null,"北海道寿都町","013927"]
[null,null,null,null,"北海道黒松内町","013935"]
[null,null,null,null,"北海道蘭越町","013943"]
[null,null,null,null,"北海道ニセコ町","013951"]
[null,null,null,null,"北海道真狩村","013960"]
[null,null,null,null,"北海道留寿都村","013978"]
[null,null,null,null,"北海道喜茂別町","013986"]
[null,null,null,null,"北海道京極町","013994"]
[null,null,null,null,"北海道倶知安町","014001"]
[null,null,null,null,"北海道共和町","014010"]
[null,null,null,null,"北海道岩内町","014028"]
[null,null,null,null,"北海道泊村","014036"]
[null,null,null,null,"北海道神恵内村","014044"]
[null,null,null,null,"北海道積丹町","014052"]
[null,null,null,null,"北海道古平町","014061"]
[null,null,null,null,"北海道仁木町","014079"]
[null,null,null,null,"北海道余市町","014087"]
[null,null,null,null,"北海道赤井川村","014095"]
[null,null,null,null,"北海道南幌町","014231"]
[null,null,null,null,"北海道奈井江町","014249"]
[null,null,null,null,"北海道上砂川町","014257"]
[null,null,null,null,"北海道由仁町","014273"]
[null,null,null,null,"北海道長沼町","014281"]
[null,null,null,null,"北海道栗山町","014290"]
[null,null,null,null,"北海道月形町","014303"]
[null,null,null,null,"北海道浦臼町","014311"]
[null,null,null,null,"北海道新十津川町","014320"]
[null,null,null,null,"北海道妹背牛町","014338"]
[null,null,null,null,"北海道秩父別町","014346"]
[null,null,null,null,"北海道雨竜町","014362"]
[null,null,null,null,"北海道北竜町","014371"]
[null,null,null,null,"北海道沼田町","014389"]
[null,null,null,null,"北海道鷹栖町","014524"]
[null,null,null,null,"北海道東神楽町","014532"]
[null,null,null,null,"北海道当麻町","014541"]
[null,null,null,null,"北海道比布町","014559"]
[null,null,null,null,"北海道愛別町","014567"]
[null,null,null,null,"北海道上川町","014575"]
[null,null,null,null,"北海道東川町","014583"]
[null,null,null,null,"北海道美瑛町","014591"]
[null,null,null,null,"北海道上富良野町","014605"]
[null,null,null,null,"北海道中富良野町","014613"]
[null,null,null,null,"北海道南富良野町","014621"]
[null,null,null,null,"北海道占冠村","014630"]
[null,null,null,null,"北海道和寒町","014648"]
[null,null,null,null,"北海道剣淵町","014656"]
[null,null,null,null,"北海道下川町","014681"]
[null,null,null,null,"北海道美深町","014699"]
[null,null,null,null,"北海道音威子府村","014702"]
[null,null,null,null,"北海道中川町","014711"]
[null,null,null,null,"北海道幌加内町","014729"]
[null,null,null,null,"北海道増毛町","014818"]
[null,null,null,null,"北海道小平町","014826"]
[null,null,null,null,"北海道苫前町","014834"]
[null,null,null,null,"北海道羽幌町","014842"]
[null,null,null,null,"北海道初山別村","014851"]
[null,null,null,null,"北海道遠別町","014869"]
[null,null,null,null,"北海道天塩町","014877"]
[null,null,null,null,"北海道猿払村","015113"]
[null,null,null,null,"北海道浜頓別町","015121"]
[null,null,null,null,"北海道中頓別町","015130"]
[null,null,null,null,"北海道枝幸町","015148"]
[null,null,null,null,"北海道豊富町","015164"]
[null,null,null,null,"北海道礼文町","015172"]
[null,null,null,null,"北海道利尻町","015181"]
[null,null,null,null,"北海道利尻富士町","015199"]
[null,null,null,null,"北海道幌延町","015202"]
[null,null,null,null,"北海道美幌町","015431"]
[null,null,null,null,"北海道津別町","015440"]
[null,null,null,null,"北海道斜里町","015458"]
[null,null,null,null,"北海道清里町","015466"]
[null,null,null,null,"北海道小清水町","015474"]
[null,null,null,null,"北海道訓子府町","015491"]
[null,null,null,null,"北海道置戸町","015504"]
[null,null,null,null,"北海道佐呂間町","015521"]
[null,null,null,null,"北海道遠軽町","015555"]
[null,null,null,null,"北海道湧別町","015598"]
[null,null,null,null,"北海道滝上町","015601"]
[null,null,null,null,"北海道興部町","015610"]
[null,null,null,null,"北海道西興部村","015628"]
[null,null,null,null,"北海道雄武町","015636"]
[null,null,null,null,"北海道大空町","015644"]
[null,null,null,null,"北海道豊浦町","015717"]
[null,null,null,null,"北海道壮瞥町","015750"]
[null,null,null,null,"北海道白老町","015784"]
[null,null,null,null,"北海道厚真町","015814"]
[null,null,null,null,"北海道洞爺湖町","015849"]
[null,null,null,null,"北海道安平町","015857"]
[null,null,null,null,"北海道むかわ町","015865"]
[null,null,null,null,"北海道日高町","016012"]
[null,null,null,null,"北海道平取町","016021"]
[null,null,null,null,"北海道新冠町","016047"]
[null,null,null,null,"北海道浦河町","016071"]
[null,null,null,null,"北海道様似町","016080"]
[null,null,null,null,"北海道えりも町","016098"]
[null,null,null,null,"北海道新ひだか町","016101"]
[null,null,null,null,"北海道音更町","016314"]
[null,null,null,null,"北海道士幌町","016322"]
[null,null,null,null,"北海道上士幌町","016331"]
[null,null,null,null,"北海道鹿追町","016349"]
[null,null,null,null,"北海道新得町","016357"]
[null,null,null,null,"北海道清水町","016365"]
[null,null,null,null,"北海道芽室町","016373"]
[null,null,null,null,"北海道中札内村","016381"]
[null,null,null,null,"北海道更別村","016390"]
[null,null,null,null,"北海道大樹町","016411"]
[null,null,null,null,"北海道広尾町","016420"]
[null,null,null,null,"北海道幕別町","016438"]
[null,null,null,null,"北海道池田町","016446"]
[null,null,null,null,"北海道豊頃町","016454"]
[null,null,null,null,"北海道本別町","016462"]
[null,null,null,null,"北海道足寄町","016471"]
[null,null,null,null,"北海道陸別町","016489"]
[null,null,null,null,"北海道浦幌町","016497"]
[null,null,null,null,"北海道釧路町","016616"]
[null,null,null,null,"北海道厚岸町","016624"]
[null,null,null,null,"北海道浜中町","016632"]
[null,null,null,null,"北海道標茶町","016641"]
[null,null,null,null,"北海道弟子屈町","016659"]
[null,null,null,null,"北海道鶴居村","016675"]
[null,null,null,null,"北海道白糠町","016683"]
[null,null,null,null,"北海道別海町","016918"]
[null,null,null,null,"北海道中標津町","016926"]
[null,null,null,null,"北海道標津町","016934"]
[null,null,null,null,"北海道羅臼町","016942"]
[null,null,null,null,"青森県青森市","022012"]
[null,null,null,null,"青森県弘前市","022021"]
[null,null,null,null,"青森県八戸市","022039"]
[null,null,null,null,"青森県黒石市","022047"]
[null,null,null,null,"青森県五所川原市","022055"]
[null,null,null,null,"青森県十和田市","022063"]
[null,null,null,null,"青森県三沢市","022071"]
[null,null,null,null,"青森県むつ市","022080"]
[null,null,null,null,"青森県つがる市","022098"]
[null,null,null,null,"青森県平川市","022101"]
[null,null,null,null,"青森県平内町","023019"]
[null,null,null,null,"青森県今別町","023035"]
[null,null,null,null,"青森県蓬田村","023043"]
[null,null,null,null,"青森県外ヶ浜町","023078"]
[null,null,null,null,"青森県鰺ヶ沢町","023213"]
[null,null,null,null,"青森県深浦町","023230"]
[null,null,null,null,"青森県西目屋村","023434"]
[null,null,null,null,"青森県藤崎町","023612"]
[null,null,null,null,"青森県大鰐町","023621"]
[null,null,null,null,"青森県田舎館村","023671"]
[null,null,null,null,"青森県板柳町","023817"]
[null,null,null,null,"青森県鶴田町","023841"]
[null,null,null,null,"青森県中泊町","023876"]
[null,null,null,null,"青森県野辺地町","024015"]
[null,null,null,null,"青森県七戸町","024023"]
[null,null,null,null,"青森県六戸町","024058"]
[null,null,null,null,"青森県横浜町","024066"]
[null,null,null,null,"青森県東北町","024082"]
[null,null,null,null,"青森県六ヶ所村","024112"]
[null,null,null,null,"青森県おいらせ町","024121"]
[null,null,null,null,"青森県大間町","024236"]
[null,null,null,null,"青森県東通村","024244"]
[null,null,null,null,"青森県風間浦村","024252"]
[null,null,null,null,"青森県佐井村","024261"]
[null,null,null,null,"青森県三戸町","024414"]
[null,null,null,null,"青森県五戸町","024422"]
[null,null,null,null,"青森県田子町","024431"]
[null,null,null,null,"青森県南部町","024457"]
[null,null,null,null,"青森県階上町","024465"]
[null,null,null,null,"青森県新郷村","024503"]
[null,null,null,null,"岩手県盛岡市","032018"]
[null,null,null,null,"岩手県宮古市","032026"]
[null,null,null,null,"岩手県大船渡市","032034"]
[null,null,null,null,"岩手県花巻市","032051"]
[null,null,null,null,"岩手県北上市","032069"]
[null,null,null,null,"岩手県久慈市","032077"]
[null,null,null,null,"岩手県遠野市","032085"]
[null,null,null,null,"岩手県一関市","032093"]
[null,null,null,null,"岩手県陸前高田市","032107"]
[null,null,null,null,"岩手県釜石市","032115"]
[null,null,null,null,"岩手県二戸市","032131"]
[null,null,null,null,"岩手県八幡平市","032140"]
[null,null,null,null,"岩手県奥州市","032158"]
[null,null,null,null,"岩手県滝沢市","032166"]
[null,null,null,null,"岩手県雫石町","033014"]
[null,null,null,null,"岩手県葛巻町","033022"]
[null,null,null,null,"岩手県岩手町","033031"]
[null,null,null,null,"岩手県紫波町","033219"]
[null,null,null,null,"岩手県矢巾町","033227"]
[null,null,null,null,"岩手県西和賀町","033669"]
[null,null,null,null,"岩手県金ケ崎町","033812"]
[null,null,null,null,"岩手県平泉町","034029"]
[null,null,null,null,"岩手県住田町","034410"]
[null,null,null,null,"岩手県大槌町","034614"]
[null,null,null,null,"岩手県山田町","034827"]
[null,null,null,null,"岩手県岩泉町","034835"]
[null,null,null,null,"岩手県田野畑村","034843"]
[null,null,null,null,"岩手県普代村","034851"]
[null,null,null,null,"岩手県軽米町","035017"]
[null,null,null,null,"岩手県野田村","035033"]
[null,null,null,null,"岩手県九戸村","035068"]
[null,null,null,null,"岩手県洋野町","035076"]
[null,null,null,null,"岩手県一戸町","035246"]
[null,null,null,null,"宮城県仙台市","041009"]
[null,null,null,null,"宮城県石巻市","042021"]
[null,null,null,null,"宮城県塩竈市","042030"]
[null,null,null,null,"宮城県気仙沼市","042056"]
[null,null,null,null,"宮城県白石市","042064"]
[null,null,null,null,"宮城県名取市","042072"]
[null,null,null,null,"宮城県角田市","042081"]
[null,null,null,null,"宮城県多賀城市","042099"]
[null,null,null,null,"宮城県岩沼市","042111"]
[null,null,null,null,"宮城県登米市","042129"]
[null,null,null,null,"宮城県栗原市","042137"]
[null,null,null,null,"宮城県東松島市","042145"]
[null,null,null,null,"宮城県大崎市","042153"]
[null,null,null,null,"宮城県富谷市","042161"]
[null,null,null,null,"宮城県蔵王町","043010"]
[null,null,null,null,"宮城県七ヶ宿町","043028"]
[null,null,null,null,"宮城県大河原町","043214"]
[null,null,null,null,"宮城県村田町","043222"]
[null,null,null,null,"宮城県柴田町","043231"]
[null,null,null,null,"宮城県川崎町","043249"]
[null,null,null,null,"宮城県丸森町","043419"]
[null,null,null,null,"宮城県亘理町","043613"]
[null,null,null,null,"宮城県山元町","043621"]
[null,null,null,null,"宮城県松島町","044016"]
[null,null,null,null,"宮城県七ヶ浜町","044041"]
[null,null,null,null,"宮城県利府町","044067"]
[null,null,null,null,"宮城県大和町","044211"]
[null,null,null,null,"宮城県大郷町","044229"]
[null,null,null,null,"宮城県大衡村","044245"]
[null,null,null,null,"宮城県色麻町","044440"]
[null,null,null,null,"宮城県加美町","044458"]
[null,null,null,null,"宮城県涌谷町","045012"]
[null,null,null,null,"宮城県美里町","045055"]
[null,null,null,null,"宮城県女川町","045811"]
[null,null,null,null,"宮城県南三陸町","046060"]
[null,null,null,null,"秋田県秋田市","052019"]
[null,null,null,null,"秋田県能代市","052027"]
[null,null,null,null,"秋田県横手市","052035"]
[null,null,null,null,"秋田県大館市","052043"]
[null,null,null,null,"秋田県男鹿市","052060"]
[null,null,null,null,"秋田県湯沢市","052078"]
[null,null,null,null,"秋田県鹿角市","052094"]
[null,null,null,null,"秋田県由利本荘市","052108"]
[null,null,null,null,"秋田県潟上市","052116"]
[null,null,null,null,"秋田県大仙市","052124"]
[null,null,null,null,"秋田県北秋田市","052132"]
[null,null,null,null,"秋田県にかほ市","052141"]
[null,null,null,null,"秋田県仙北市","052159"]
[null,null,null,null,"秋田県小坂町","053031"]
[null,null,null,null,"秋田県上小阿仁村","053279"]
[null,null,null,null,"秋田県藤里町","053465"]
[null,null,null,null,"秋田県三種町","053481"]
[null,null,null,null,"秋田県八峰町","053490"]
[null,null,null,null,"秋田県五城目町","053619"]
[null,null,null,null,"秋田県八郎潟町","053635"]
[null,null,null,null,"秋田県井川町","053660"]
[null,null,null,null,"秋田県大潟村","053686"]
[null,null,null,null,"秋田県美郷町","054348"]
[null,null,null,null,"秋田県羽後町","054631"]
[null,null,null,null,"秋田県東成瀬村","054640"]
[null,null,null,null,"山形県山形市","062014"]
[null,null,null,null,"山形県米沢市","062022"]
[null,null,null,null,"山形県鶴岡市","062031"]
[null,null,null,null,"山形県酒田市","062049"]
[null,null,null,null,"山形県新庄市","062057"]
[null,null,null,null,"山形県寒河江市","062065"]
[null,null,null,null,"山形県上山市","062073"]
[null,null,null,null,"山形県村山市","062081"]
[null,null,null,null,"山形県長井市","062090"]
[null,null,null,null,"山形県天童市","062103"]
[null,null,null,null,"山形県東根市","062111"]
[null,null,null,null,"山形県尾花沢市","062120"]
[null,null,null,null,"山形県南陽市","062138"]
[null,null,null,null,"山形県山辺町","063011"]
[null,null,null,null,"山形県中山町","063029"]
[null,null,null,null,"山形県河北町","063215"]
[null,null,null,null,"山形県西川町","063223"]
[null,null,null,null,"山形県朝日町","063231"]
[null,null,null,null,"山形県大江町","063240"]
[null,null,null,null,"山形県大石田町","063410"]
[null,null,null,null,"山形県金山町","063614"]
[null,null,null,null,"山形県最上町","063622"]
[null,null,null,null,"山形県舟形町","063631"]
[null,null,null,null,"山形県真室川町","063649"]
[null,null,null,null,"山形県大蔵村","063657"]
[null,null,null,null,"山形県鮭川村","063665"]
[null,null,null,null,"山形県戸沢村","063673"]
[null,null,null,null,"山形県高畠町","063819"]
[null,null,null,null,"山形県川西町","063827"]
[null,null,null,null,"山形県小国町","064017"]
[null,null,null,null,"山形県白鷹町","064025"]
[null,null,null,null,"山形県飯豊町","064033"]
[null,null,null,null,"山形県三川町","064262"]
[null,null,null,null,"山形県庄内町","064289"]
[null,null,null,null,"山形県遊佐町","064611"]
[null,null,null,null,"福島県福島市","072010"]
[null,null,null,null,"福島県会津若松市","072028"]
[null,null,null,null,"福島県郡山市","072036"]
[null,null,null,null,"福島県いわき市","072044"]
[null,null,null,null,"福島県白河市","072052"]
[null,null,null,null,"福島県須賀川市","072079"]
[null,null,null,null,"福島県喜多方市","072087"]
[null,null,null,null,"福島県相馬市","072095"]
[null,null,null,null,"福島県二本松市","072109"]
[null,null,null,null,"福島県田村市","072117"]
[null,null,null,null,"福島県南相馬市","072125"]
[null,null,null,null,"福島県伊達市","072133"]
[null,null,null,null,"福島県本宮市","072141"]
[null,null,null,null,"福島県桑折町","073016"]
[null,null,null,null,"福島県国見町","073032"]
[null,null,null,null,"福島県川俣町","073083"]
[null,null,null,null,"福島県大玉村","073229"]
[null,null,null,null,"福島県鏡石町","073423"]
[null,null,null,null,"福島県天栄村","073440"]
[null,null,null,null,"福島県下郷町","073628"]
[null,null,null,null,"福島県檜枝岐村","073644"]
[null,null,null,null,"福島県只見町","073679"]
[null,null,null,null,"福島県南会津町","073687"]
[null,null,null,null,"福島県北塩原村","074021"]
[null,null,null,null,"福島県西会津町","074055"]
[null,null,null,null,"福島県磐梯町","074071"]
[null,null,null,null,"福島県猪苗代町","074080"]
[null,null,null,null,"福島県会津坂下町","074217"]
[null,null,null,null,"福島県湯川村","074225"]
[null,null,null,null,"福島県柳津町","074233"]
[null,null,null,null,"福島県三島町","074446"]
[null,null,null,null,"福島県金山町","074454"]
[null,null,null,null,"福島県昭和村","074462"]
[null,null,null,null,"福島県会津美里町","074471"]
[null,null,null,null,"福島県西郷村","074616"]
[null,null,null,null,"福島県泉崎村","074641"]
[null,null,null,null,"福島県中島村","074659"]
[null,null,null,null,"福島県矢吹町","074667"]
[null,null,null,null,"福島県棚倉町","074811"]
[null,null,null,null,"福島県矢祭町","074829"]
[null,null,null,null,"福島県塙町","074837"]
[null,null,null,null,"福島県鮫川村","074845"]
[null,null,null,null,"福島県石川町","075019"]
[null,null,null,null,"福島県玉川村","075027"]
[null,null,null,null,"福島県平田村","075035"]
[null,null,null,null,"福島県浅川町","075043"]
[null,null,null,null,"福島県古殿町","075051"]
[null,null,null,null,"福島県三春町","075213"]
[null,null,null,null,"福島県小野町","075221"]
[null,null,null,null,"福島県広野町","075418"]
[null,null,null,null,"福島県楢葉町","075426"]
[null,null,null,null,"福島県富岡町","075434"]
[null,null,null,null,"福島県川内村","075442"]
[null,null,null,null,"福島県大熊町","075451"]
[null,null,null,null,"福島県双葉町","075469"]
[null,null,null,null,"福島県浪江町","075477"]
[null,null,null,null,"福島県葛尾村","075485"]
[null,null,null,null,"福島県新地町","075612"]
[null,null,null,null,"福島県飯舘村","075647"]
[null,null,null,null,"茨城県水戸市","082015"]
[null,null,null,null,"茨城県日立市","082023"]
[null,null,null,null,"茨城県土浦市","082031"]
[null,null,null,null,"茨城県古河市","082040"]
[null,null,null,null,"茨城県石岡市","082058"]
[null,null,null,null,"茨城県結城市","082074"]
[null,null,null,null,"茨城県龍ケ崎市","082082"]
[null,null,null,null,"茨城県下妻市","082104"]
[null,null,null,null,"茨城県常総市","082112"]
[null,null,null,null,"茨城県常陸太田市","082121"]
[null,null,null,null,"茨城県高萩市","082147"]
[null,null,null,null,"茨城県北茨城市","082155"]
[null,null,null,null,"茨城県笠間市","082163"]
[null,null,null,null,"茨城県取手市","082171"]
[null,null,null,null,"茨城県牛久市","082198"]
[null,null,null,null,"茨城県つくば市","082201"]
[null,null,null,null,"茨城県ひたちなか市","082210"]
[null,null,null,null,"茨城県鹿嶋市","082228"]
[null,null,null,null,"茨城県潮来市","082236"]
[null,null,null,null,"茨城県守谷市","082244"]
[null,null,null,null,"茨城県常陸大宮市","082252"]
[null,null,null,null,"茨城県那珂市","082261"]
[null,null,null,null,"茨城県筑西市","082279"]
[null,null,null,null,"茨城県坂東市","082287"]
[null,null,null,null,"茨城県稲敷市","082295"]
[null,null,null,null,"茨城県かすみがうら市","082309"]
[null,null,null,null,"茨城県桜川市","082317"]
[null,null,null,null,"茨城県神栖市","082325"]
[null,null,null,null,"茨城県行方市","082333"]
[null,null,null,null,"茨城県鉾田市","082341"]
[null,null,null,null,"茨城県つくばみらい市","082350"]
[null,null,null,null,"茨城県小美玉市","082368"]
[null,null,null,null,"茨城県茨城町","083020"]
[null,null,null,null,"茨城県大洗町","083097"]
[null,null,null,null,"茨城県城里町","083101"]
[null,null,null,null,"茨城県東海村","083411"]
[null,null,null,null,"茨城県大子町","083640"]
[null,null,null,null,"茨城県美浦村","084425"]
[null,null,null,null,"茨城県阿見町","084433"]
[null,null,null,null,"茨城県河内町","084476"]
[null,null,null,null,"茨城県八千代町","085219"]
[null,null,null,null,"茨城県五霞町","085421"]
[null,null,null,null,"茨城県境町","085464"]
[null,null,null,null,"茨城県利根町","085642"]
[null,null,null,null,"栃木県宇都宮市","092011"]
[null,null,null,null,"栃木県足利市","092029"]
[null,null,null,null,"栃木県栃木市","092037"]
[null,null,null,null,"栃木県佐野市","092045"]
[null,null,null,null,"栃木県鹿沼市","092053"]
[null,null,null,null,"栃木県日光市","092061"]
[null,null,null,null,"栃木県小山市","092088"]
[null,null,null,null,"栃木県真岡市","092096"]
[null,null,null,null,"栃木県大田原市","092100"]
[null,null,null,null,"栃木県矢板市","092118"]
[null,null,null,null,"栃木県那須塩原市","092134"]
[null,null,null,null,"栃木県さくら市","092142"]
[null,null,null,null,"栃木県那須烏山市","092151"]
[null,null,null,null,"栃木県下野市","092169"]
[null,null,null,null,"栃木県上三川町","093017"]
[null,null,null,null,"栃木県益子町","093424"]
[null,null,null,null,"栃木県茂木町","093432"]
[null,null,null,null,"栃木県市貝町","093441"]
[null,null,null,null,"栃木県芳賀町","093459"]
[null,null,null,null,"栃木県壬生町","093611"]
[null,null,null,null,"栃木県野木町","093645"]
[null,null,null,null,"栃木県塩谷町","093840"]
[null,null,null,null,"栃木県高根沢町","093866"]
[null,null,null,null,"栃木県那須町","094072"]
[null,null,null,null,"栃木県那珂川町","094111"]
[null,null,null,null,"群馬県前橋市","102016"]
[null,null,null,null,"群馬県高崎市","102024"]
[null,null,null,null,"群馬県桐生市","102032"]
[null,null,null,null,"群馬県伊勢崎市","102041"]
[null,null,null,null,"群馬県太田市","102059"]
[null,null,null,null,"群馬県沼田市","102067"]
[null,null,null,null,"群馬県館林市","102075"]
[null,null,null,null,"群馬県渋川市","102083"]
[null,null,null,null,"群馬県藤岡市","102091"]
[null,null,null,null,"群馬県富岡市","102105"]
[null,null,null,null,"群馬県安中市","102113"]
[null,null,null,null,"群馬県みどり市","102121"]
[null,null,null,null,"群馬県榛東村","103446"]
[null,null,null,null,"群馬県吉岡町","103454"]
[null,null,null,null,"群馬県上野村","103667"]
[null,null,null,null,"群馬県神流町","103675"]
[null,null,null,null,"群馬県下仁田町","103829"]
[null,null,null,null,"群馬県南牧村","103837"]
[null,null,null,null,"群馬県甘楽町","103845"]
[null,null,null,null,"群馬県中之条町","104213"]
[null,null,null,null,"群馬県長野原町","104248"]
[null,null,null,null,"群馬県嬬恋村","104256"]
[null,null,null,null,"群馬県草津町","104264"]
[null,null,null,null,"群馬県高山村","104281"]
[null,null,null,null,"群馬県東吾妻町","104299"]
[null,null,null,null,"群馬県片品村","104434"]
[null,null,null,null,"群馬県川場村","104442"]
[null,null,null,null,"群馬県昭和村","104485"]
[null,null,null,null,"群馬県みなかみ町","104493"]
[null,null,null,null,"群馬県玉村町","104647"]
[null,null,null,null,"群馬県板倉町","105210"]
[null,null,null,null,"群馬県明和町","105228"]
[null,null,null,null,"群馬県千代田町","105236"]
[null,null,null,null,"群馬県大泉町","105244"]
[null,null,null,null,"群馬県邑楽町","105252"]
[null,null,null,null,"埼玉県さいたま市","111007"]
[null,null,null,null,"埼玉県川越市","112011"]
[null,null,null,null,"埼玉県熊谷市","112020"]
[null,null,null,null,"埼玉県川口市","112038"]
[null,null,null,null,"埼玉県行田市","112062"]
[null,null,null,null,"埼玉県秩父市","112071"]
[null,null,null,null,"埼玉県所沢市","112089"]
[null,null,null,null,"埼玉県飯能市","112097"]
[null,null,null,null,"埼玉県加須市","112101"]
[null,null,null,null,"埼玉県本庄市","112119"]
[null,null,null,null,"埼玉県東松山市","112127"]
[null,null,null,null,"埼玉県春日部市","112143"]
[null,null,null,null,"埼玉県狭山市","112151"]
[null,null,null,null,"埼玉県羽生市","112160"]
[null,null,null,null,"埼玉県鴻巣市","112178"]
[null,null,null,null,"埼玉県深谷市","112186"]
[null,null,null,null,"埼玉県上尾市","112194"]
[null,null,null,null,"埼玉県草加市","112216"]
[null,null,null,null,"埼玉県越谷市","112224"]
[null,null,null,null,"埼玉県蕨市","112232"]
[null,null,null,null,"埼玉県戸田市","112241"]
[null,null,null,null,"埼玉県入間市","112259"]
[null,null,null,null,"埼玉県朝霞市","112275"]
[null,null,null,null,"埼玉県志木市","112283"]
[null,null,null,null,"埼玉県和光市","112291"]
[null,null,null,null,"埼玉県新座市","112305"]
[null,null,null,null,"埼玉県桶川市","112313"]
[null,null,null,null,"埼玉県久喜市","112321"]
[null,null,null,null,"埼玉県北本市","112330"]
[null,null,null,null,"埼玉県八潮市","112348"]
[null,null,null,null,"埼玉県富士見市","112356"]
[null,null,null,null,"埼玉県三郷市","112372"]
[null,null,null,null,"埼玉県蓮田市","112381"]
[null,null,null,null,"埼玉県坂戸市","112399"]
[null,null,null,null,"埼玉県幸手市","112402"]
[null,null,null,null,"埼玉県鶴ヶ島市","112411"]
[null,null,null,null,"埼玉県日高市","112429"]
[null,null,null,null,"埼玉県吉川市","112437"]
[null,null,null,null,"埼玉県ふじみ野市","112453"]
[null,null,null,null,"埼玉県白岡市","112461"]
[null,null,null,null,"埼玉県伊奈町","113018"]
[null,null,null,null,"埼玉県三芳町","113247"]
[null,null,null,null,"埼玉県毛呂山町","113263"]
[null,null,null,null,"埼玉県越生町","113271"]
[null,null,null,null,"埼玉県滑川町","113417"]
[null,null,null,null,"埼玉県嵐山町","113425"]
[null,null,null,null,"埼玉県小川町","113433"]
[null,null,null,null,"埼玉県川島町","113468"]
[null,null,null,null,"埼玉県吉見町","113476"]
[null,null,null,null,"埼玉県鳩山町","113484"]
[null,null,null,null,"埼玉県ときがわ町","113492"]
[null,null,null,null,"埼玉県横瀬町","113611"]
[null,null,null,null,"埼玉県皆野町","113620"]
[null,null,null,null,"埼玉県長瀞町","113638"]
[null,null,null,null,"埼玉県小鹿野町","113654"]
[null,null,null,null,"埼玉県東秩父村","113697"]
[null,null,null,null,"埼玉県美里町","113816"]
[null,null,null,null,"埼玉県神川町","113832"]
[null,null,null,null,"埼玉県上里町","113859"]
[null,null,null,null,"埼玉県寄居町","114081"]
[null,null,null,null,"埼玉県宮代町","114421"]
[null,null,null,null,"埼玉県杉戸町","114642"]
[null,null,null,null,"埼玉県松伏町","114651"]
[null,null,null,null,"千葉県千葉市","121002"]
[null,null,null,null,"千葉県銚子市","122025"]
[null,null,null,null,"千葉県市川市","122033"]
[null,null,null,null,"千葉県船橋市","122041"]
[null,null,null,null,"千葉県館山市","122050"]
[null,null,null,null,"千葉県木更津市","122068"]
[null,null,null,null,"千葉県松戸市","122076"]
[null,null,null,null,"千葉県野田市","122084"]
[null,null,null,null,"千葉県茂原市","122106"]
[null,null,null,null,"千葉県成田市","122114"]
[null,null,null,null,"千葉県佐倉市","122122"]
[null,null,null,null,"千葉県東金市","122131"]
[null,null,null,null,"千葉県旭市","122157"]
[null,null,null,null,"千葉県習志野市","122165"]
[null,null,null,null,"千葉県柏市","122173"]
[null,null,null,null,"千葉県勝浦市","122181"]
[null,null,null,null,"千葉県市原市","122190"]
[null,null,null,null,"千葉県流山市","122203"]
[null,null,null,null,"千葉県八千代市","122211"]
[null,null,null,null,"千葉県我孫子市","122220"]
[null,null,null,null,"千葉県鴨川市","122238"]
[null,null,null,null,"千葉県鎌ケ谷市","122246"]
[null,null,null,null,"千葉県君津市","122254"]
[null,null,null,null,"千葉県富津市","122262"]
[null,null,null,null,"千葉県浦安市","122271"]
[null,null,null,null,"千葉県四街道市","122289"]
[null,null,null,null,"千葉県袖ケ浦市","122297"]
[null,null,null,null,"千葉県八街市","122301"]
[null,null,null,null,"千葉県印西市","122319"]
[null,null,null,null,"千葉県白井市","122327"]
[null,null,null,null,"千葉県富里市","122335"]
[null,null,null,null,"千葉県南房総市","122343"]
[null,null,null,null,"千葉県匝瑳市","122351"]
[null,null,null,null,"千葉県香取市","122360"]
[null,null,null,null,"千葉県山武市","122378"]
[null,null,null,null,"千葉県いすみ市","122386"]
[null,null,null,null,"千葉県大網白里市","122394"]
[null,null,null,null,"千葉県酒々井町","123226"]
[null,null,null,null,"千葉県栄町","123293"]
[null,null,null,null,"千葉県神崎町","123421"]
[null,null,null,null,"千葉県多古町","123471"]
[null,null,null,null,"千葉県東庄町","123498"]
[null,null,null,null,"千葉県九十九里町","124036"]
[null,null,null,null,"千葉県芝山町","124095"]
[null,null,null,null,"千葉県横芝光町","124109"]
[null,null,null,null,"千葉県一宮町","124214"]
[null,null,null,null,"千葉県睦沢町","124222"]
[null,null,null,null,"千葉県長生村","124231"]
[null,null,null,null,"千葉県白子町","124249"]
[null,null,null,null,"千葉県長柄町","124265"]
[null,null,null,null,"千葉県長南町","124273"]
[null,null,null,null,"千葉県大多喜町","124419"]
[null,null,null,null,"千葉県御宿町","124435"]
[null,null,null,null,"千葉県鋸南町","124630"]
[null,null,null,null,"東京都千代田区","131016"]
[null,null,null,null,"東京都中央区","131024"]
[null,null,null,null,"東京都港区","131032"]
[null,null,null,null,"東京都新宿区","131041"]
[null,null,null,null,"東京都文京区","131059"]
[null,null,null,null,"東京都台東区","131067"]
[null,null,null,null,"東京都墨田区","131075"]
[null,null,null,null,"東京都江東区","131083"]
[null,null,null,null,"東京都品川区","131091"]
[null,null,null,null,"東京都目黒区","131105"]
[null,null,null,null,"東京都大田区","131113"]
[null,null,null,null,"東京都世田谷区","131121"]
[null,null,null,null,"東京都渋谷区","131130"]
[null,null,null,null,"東京都中野区","131148"]
[null,null,null,null,"東京都杉並区","131156"]
[null,null,null,null,"東京都豊島区","131164"]
[null,null,null,null,"東京都北区","131172"]
[null,null,null,null,"東京都荒川区","131181"]
[null,null,null,null,"東京都板橋区","131199"]
[null,null,null,null,"東京都練馬区","131202"]
[null,null,null,null,"東京都足立区","131211"]
[null,null,null,null,"東京都葛飾区","131229"]
[null,null,null,null,"東京都江戸川区","131237"]
[null,null,null,null,"東京都八王子市","132012"]
[null,null,null,null,"東京都立川市","132021"]
[null,null,null,null,"東京都武蔵野市","132039"]
[null,null,null,null,"東京都三鷹市","132047"]
[null,null,null,null,"東京都青梅市","132055"]
[null,null,null,null,"東京都府中市","132063"]
[null,null,null,null,"東京都昭島市","132071"]
[null,null,null,null,"東京都調布市","132080"]
[null,null,null,null,"東京都町田市","132098"]
[null,null,null,null,"東京都小金井市","132101"]
[null,null,null,null,"東京都小平市","132110"]
[null,null,null,null,"東京都日野市","132128"]
[null,null,null,null,"東京都東村山市","132136"]
[null,null,null,null,"東京都国分寺市","132144"]
[null,null,null,null,"東京都国立市","132152"]
[null,null,null,null,"東京都福生市","132187"]
[null,null,null,null,"東京都狛江市","132195"]
[null,null,null,null,"東京都東大和市","132209"]
[null,null,null,null,"東京都清瀬市","132217"]
[null,null,null,null,"東京都東久留米市","132225"]
[null,null,null,null,"東京都武蔵村山市","132233"]
[null,null,null,null,"東京都多摩市","132241"]
[null,null,null,null,"東京都稲城市","132250"]
[null,null,null,null,"東京都羽村市","132276"]
[null,null,null,null,"東京都あきる野市","132284"]
[null,null,null,null,"東京都西東京市","132292"]
[null,null,null,null,"東京都瑞穂町","133035"]
[null,null,null,null,"東京都日の出町","133051"]
[null,null,null,null,"東京都檜原村","133078"]
[null,null,null,null,"東京都奥多摩町","133086"]
[null,null,null,null,"東京都大島町","133612"]
[null,null,null,null,"東京都利島村","133621"]
[null,null,null,null,"東京都新島村","133639"]
[null,null,null,null,"東京都神津島村","133647"]
[null,null,null,null,"東京都三宅村","133817"]
[null,null,null,null,"東京都御蔵島村","133825"]
[null,null,null,null,"東京都八丈町","134015"]
[null,null,null,null,"東京都青ヶ島村","134023"]
[null,null,null,null,"東京都小笠原村","134210"]
[null,null,null,null,"神奈川県横浜市","141003"]
[null,null,null,null,"神奈川県川崎市","141305"]
[null,null,null,null,"神奈川県相模原市","141500"]
[null,null,null,null,"神奈川県横須賀市","142018"]
[null,null,null,null,"神奈川県平塚市","142034"]
[null,null,null,null,"神奈川県鎌倉市","142042"]
[null,null,null,null,"神奈川県藤沢市","142051"]
[null,null,null,null,"神奈川県小田原市","142069"]
[null,null,null,null,"神奈川県茅ヶ崎市","142077"]
[null,null,null,null,"神奈川県逗子市","142085"]
[null,null,null,null,"神奈川県三浦市","142107"]
[null,null,null,null,"神奈川県秦野市","142115"]
[null,null,null,null,"神奈川県厚木市","142123"]
[null,null,null,null,"神奈川県大和市","142131"]
[null,null,null,null,"神奈川県伊勢原市","142140"]
[null,null,null,null,"神奈川県海老名市","142158"]
[null,null,null,null,"神奈川県座間市","142166"]
[null,null,null,null,"神奈川県南足柄市","142174"]
[null,null,null,null,"神奈川県綾瀬市","142182"]
[null,null,null,null,"神奈川県葉山町","143014"]
[null,null,null,null,"神奈川県寒川町","143219"]
[null,null,null,null,"神奈川県大磯町","143413"]
[null,null,null,null,"神奈川県二宮町","143421"]
[null,null,null,null,"神奈川県中井町","143618"]
[null,null,null,null,"神奈川県大井町","143626"]
[null,null,null,null,"神奈川県松田町","143634"]
[null,null,null,null,"神奈川県山北町","143642"]
[null,null,null,null,"神奈川県開成町","143669"]
[null,null,null,null,"神奈川県箱根町","143821"]
[null,null,null,null,"神奈川県真鶴町","143839"]
[null,null,null,null,"神奈川県湯河原町","143847"]
[null,null,null,null,"神奈川県愛川町","144011"]
[null,null,null,null,"神奈川県清川村","144029"]
[null,null,null,null,"新潟県新潟市","151009"]
[null,null,null,null,"新潟県長岡市","152021"]
[null,null,null,null,"新潟県三条市","152048"]
[null,null,null,null,"新潟県柏崎市","152056"]
[null,null,null,null,"新潟県新発田市","152064"]
[null,null,null,null,"新潟県小千谷市","152081"]
[null,null,null,null,"新潟県加茂市","152099"]
[null,null,null,null,"新潟県十日町市","152102"]
[null,null,null,null,"新潟県見附市","152111"]
[null,null,null,null,"新潟県村上市","152129"]
[null,null,null,null,"新潟県燕市","152137"]
[null,null,null,null,"新潟県糸魚川市","152161"]
[null,null,null,null,"新潟県妙高市","152170"]
[null,null,null,null,"新潟県五泉市","152188"]
[null,null,null,null,"新潟県上越市","152226"]
[null,null,null,null,"新潟県阿賀野市","152234"]
[null,null,null,null,"新潟県佐渡市","152242"]
[null,null,null,null,"新潟県魚沼市","152251"]
[null,null,null,null,"新潟県南魚沼市","152269"]
[null,null,null,null,"新潟県胎内市","152277"]
[null,null,null,null,"新潟県聖籠町","153079"]
[null,null,null,null,"新潟県弥彦村","153427"]
[null,null,null,null,"新潟県田上町","153613"]
[null,null,null,null,"新潟県阿賀町","153851"]
[null,null,null,null,"新潟県出雲崎町","154059"]
[null,null,null,null,"新潟県湯沢町","154610"]
[null,null,null,null,"新潟県津南町","154822"]
[null,null,null,null,"新潟県刈羽村","155047"]
[null,null,null,null,"新潟県関川村","155811"]
[null,null,null,null,"新潟県粟島浦村","155861"]
[null,null,null,null,"富山県富山市","162019"]
[null,null,null,null,"富山県高岡市","162027"]
[null,null,null,null,"富山県魚津市","162043"]
[null,null,null,null,"富山県氷見市","162051"]
[null,null,null,null,"富山県滑川市","162060"]
[null,null,null,null,"富山県黒部市","162078"]
[null,null,null,null,"富山県砺波市","162086"]
[null,null,null,null,"富山県小矢部市","162094"]
[null,null,null,null,"富山県南砺市","162108"]
[null,null,null,null,"富山県射水市","162116"]
[null,null,null,null,"富山県舟橋村","163210"]
[null,null,null,null,"富山県上市町","163228"]
[null,null,null,null,"富山県立山町","163236"]
[null,null,null,null,"富山県入善町","163422"]
[null,null,null,null,"富山県朝日町","163431"]
[null,null,null,null,"石川県金沢市","172014"]
[null,null,null,null,"石川県七尾市","172022"]
[null,null,null,null,"石川県小松市","172031"]
[null,null,null,null,"石川県輪島市","172049"]
[null,null,null,null,"石川県珠洲市","172057"]
[null,null,null,null,"石川県加賀市","172065"]
[null,null,null,null,"石川県羽咋市","172073"]
[null,null,null,null,"石川県かほく市","172090"]
[null,null,null,null,"石川県白山市","172103"]
[null,null,null,null,"石川県能美市","172111"]
[null,null,null,null,"石川県野々市市","172120"]
[null,null,null,null,"石川県川北町","173240"]
[null,null,null,null,"石川県津幡町","173614"]
[null,null,null,null,"石川県内灘町","173657"]
[null,null,null,null,"石川県志賀町","173843"]
[null,null,null,null,"石川県宝達志水町","173860"]
[null,null,null,null,"石川県中能登町","174076"]
[null,null,null,null,"石川県穴水町","174611"]
[null,null,null,null,"石川県能登町","174637"]
[null,null,null,null,"福井県福井市","182010"]
[null,null,null,null,"福井県敦賀市","182028"]
[null,null,null,null,"福井県小浜市","182044"]
[null,null,null,null,"福井県大野市","182052"]
[null,null,null,null,"福井県勝山市","182061"]
[null,null,null,null,"福井県鯖江市","182079"]
[null,null,null,null,"福井県あわら市","182087"]
[null,null,null,null,"福井県越前市","182095"]
[null,null,null,null,"福井県坂井市","182109"]
[null,null,null,null,"福井県永平寺町","183229"]
[null,null,null,null,"福井県池田町","183822"]
[null,null,null,null,"福井県南越前町","184047"]
[null,null,null,null,"福井県越前町","184233"]
[null,null,null,null,"福井県美浜町","184420"]
[null,null,null,null,"福井県高浜町","184811"]
[null,null,null,null,"福井県おおい町","184837"]
[null,null,null,null,"福井県若狭町","185019"]
[null,null,null,null,"山梨県甲府市","192015"]
[null,null,null,null,"山梨県富士吉田市","192023"]
[null,null,null,null,"山梨県都留市","192040"]
[null,null,null,null,"山梨県山梨市","192058"]
[null,null,null,null,"山梨県大月市","192066"]
[null,null,null,null,"山梨県韮崎市","192074"]
[null,null,null,null,"山梨県南アルプス市","192082"]
[null,null,null,null,"山梨県北杜市","192091"]
[null,null,null,null,"山梨県甲斐市","192104"]
[null,null,null,null,"山梨県笛吹市","192112"]
[null,null,null,null,"山梨県上野原市","192121"]
[null,null,null,null,"山梨県甲州市","192139"]
[null,null,null,null,"山梨県中央市","192147"]
[null,null,null,null,"山梨県市川三郷町","193461"]
[null,null,null,null,"山梨県早川町","193640"]
[null,null,null,null,"山梨県身延町","193658"]
[null,null,null,null,"山梨県南部町","193666"]
[null,null,null,null,"山梨県富士川町","193682"]
[null,null,null,null,"山梨県昭和町","193844"]
[null,null,null,null,"山梨県道志村","194221"]
[null,null,null,null,"山梨県西桂町","194239"]
[null,null,null,null,"山梨県忍野村","194247"]
[null,null,null,null,"山梨県山中湖村","194255"]
[null,null,null,null,"山梨県鳴沢村","194298"]
[null,null,null,null,"山梨県富士河口湖町","194301"]
[null,null,null,null,"山梨県小菅村","194425"]
[null,null,null,null,"山梨県丹波山村","194433"]
[null,null,null,null,"長野県長野市","202011"]
[null,null,null,null,"長野県松本市","202029"]
[null,null,null,null,"長野県上田市","202037"]
[null,null,null,null,"長野県岡谷市","202045"]
[null,null,null,null,"長野県飯田市","202053"]
[null,null,null,null,"長野県諏訪市","202061"]
[null,null,null,null,"長野県須坂市","202070"]
[null,null,null,null,"長野県小諸市","202088"]
[null,null,null,null,"長野県伊那市","202096"]
[null,null,null,null,"長野県駒ヶ根市","202100"]
[null,null,null,null,"長野県中野市","202118"]
[null,null,null,null,"長野県大町市","202126"]
[null,null,null,null,"長野県飯山市","202134"]
[null,null,null,null,"長野県茅野市","202142"]
[null,null,null,null,"長野県塩尻市","202151"]
[null,null,null,null,"長野県佐久市","202177"]
[null,null,null,null,"長野県千曲市","202185"]
[null,null,null,null,"長野県東御市","202193"]
[null,null,null,null,"長野県安曇野市","202207"]
[null,null,null,null,"長野県小海町","203033"]
[null,null,null,null,"長野県川上村","203041"]
[null,null,null,null,"長野県南牧村","203050"]
[null,null,null,null,"長野県南相木村","203068"]
[null,null,null,null,"長野県北相木村","203076"]
[null,null,null,null,"長野県佐久穂町","203092"]
[null,null,null,null,"長野県軽井沢町","203211"]
[null,null,null,null,"長野県御代田町","203238"]
[null,null,null,null,"長野県立科町","203246"]
[null,null,null,null,"長野県青木村","203491"]
[null,null,null,null,"長野県長和町","203505"]
[null,null,null,null,"長野県下諏訪町","203611"]
[null,null,null,null,"長野県富士見町","203629"]
[null,null,null,null,"長野県原村","203637"]
[null,null,null,null,"長野県辰野町","203823"]
[null,null,null,null,"長野県箕輪町","203831"]
[null,null,null,null,"長野県飯島町","203840"]
[null,null,null,null,"長野県南箕輪村","203858"]
[null,null,null,null,"長野県中川村","203866"]
[null,null,null,null,"長野県宮田村","203882"]
[null,null,null,null,"長野県松川町","204021"]
[null,null,null,null,"長野県高森町","204030"]
[null,null,null,null,"長野県阿南町","204048"]
[null,null,null,null,"長野県阿智村","204072"]
[null,null,null,null,"長野県平谷村","204099"]
[null,null,null,null,"長野県根羽村","204102"]
[null,null,null,null,"長野県下條村","204111"]
[null,null,null,null,"長野県売木村","204129"]
[null,null,null,null,"長野県天龍村","204137"]
[null,null,null,null,"長野県泰阜村","204145"]
[null,null,null,null,"長野県喬木村","204153"]
[null,null,null,null,"長野県豊丘村","204161"]
[null,null,null,null,"長野県大鹿村","204170"]
[null,null,null,null,"長野県上松町","204226"]
[null,null,null,null,"長野県南木曽町","204234"]
[null,null,null,null,"長野県木祖村","204251"]
[null,null,null,null,"長野県王滝村","204293"]
[null,null,null,null,"長野県大桑村","204307"]
[null,null,null,null,"長野県木曽町","204323"]
[null,null,null,null,"長野県麻績村","204463"]
[null,null,null,null,"長野県生坂村","204480"]
[null,null,null,null,"長野県山形村","204501"]
[null,null,null,null,"長野県朝日村","204510"]
[null,null,null,null,"長野県筑北村","204528"]
[null,null,null,null,"長野県池田町","204811"]
[null,null,null,null,"長野県松川村","204820"]
[null,null,null,null,"長野県白馬村","204854"]
[null,null,null,null,"長野県小谷村","204862"]
[null,null,null,null,"長野県坂城町","205214"]
[null,null,null,null,"長野県小布施町","205419"]
[null,null,null,null,"長野県高山村","205435"]
[null,null,null,null,"長野県山ノ内町","205613"]
[null,null,null,null,"長野県木島平村","205621"]
[null,null,null,null,"長野県野沢温泉村","205630"]
[null,null,null,null,"長野県信濃町","205834"]
[null,null,null,null,"長野県小川村","205885"]
[null,null,null,null,"長野県飯綱町","205907"]
[null,null,null,null,"長野県栄村","206024"]
[null,null,null,null,"岐阜県岐阜市","212016"]
[null,null,null,null,"岐阜県大垣市","212024"]
[null,null,null,null,"岐阜県高山市","212032"]
[null,null,null,null,"岐阜県多治見市","212041"]
[null,null,null,null,"岐阜県関市","212059"]
[null,null,null,null,"岐阜県中津川市","212067"]
[null,null,null,null,"岐阜県美濃市","212075"]
[null,null,null,null,"岐阜県瑞浪市","212083"]
[null,null,null,null,"岐阜県羽島市","212091"]
[null,null,null,null,"岐阜県恵那市","212105"]
[null,null,null,null,"岐阜県美濃加茂市","212113"]
[null,null,null,null,"岐阜県土岐市","212121"]
[null,null,null,null,"岐阜県各務原市","212130"]
[null,null,null,null,"岐阜県可児市","212148"]
[null,null,null,null,"岐阜県山県市","212156"]
[null,null,null,null,"岐阜県瑞穂市","212164"]
[null,null,null,null,"岐阜県飛騨市","212172"]
[null,null,null,null,"岐阜県本巣市","212181"]
[null,null,null,null,"岐阜県郡上市","212199"]
[null,null,null,null,"岐阜県下呂市","212202"]
[null,null,null,null,"岐阜県海津市","212211"]
[null,null,null,null,"岐阜県岐南町","213021"]
[null,null,null,null,"岐阜県笠松町","213039"]
[null,null,null,null,"岐阜県養老町","213411"]
[null,null,null,null,"岐阜県垂井町","213616"]
[null,null,null,null,"岐阜県関ケ原町","213624"]
[null,null,null,null,"岐阜県神戸町","213811"]
[null,null,null,null,"岐阜県輪之内町","213829"]
[null,null,null,null,"岐阜県安八町","213837"]
[null,null,null,null,"岐阜県揖斐川町","214019"]
[null,null,null,null,"岐阜県大野町","214035"]
[null,null,null,null,"岐阜県池田町","214043"]
[null,null,null,null,"岐阜県北方町","214213"]
[null,null,null,null,"岐阜県坂祝町","215015"]
[null,null,null,null,"岐阜県富加町","215023"]
[null,null,null,null,"岐阜県川辺町","215031"]
[null,null,null,null,"岐阜県七宗町","215040"]
[null,null,null,null,"岐阜県八百津町","215058"]
[null,null,null,null,"岐阜県白川町","215066"]
[null,null,null,null,"岐阜県東白川村","215074"]
[null,null,null,null,"岐阜県御嵩町","215210"]
[null,null,null,null,"岐阜県白川村","216046"]
[null,null,null,null,"静岡県静岡市","221007"]
[null,null,null,null,"静岡県浜松市","221309"]
[null,null,null,null,"静岡県沼津市","222038"]
[null,null,null,null,"静岡県熱海市","222054"]
[null,null,null,null,"静岡県三島市","222062"]
[null,null,null,null,"静岡県富士宮市","222071"]
[null,null,null,null,"静岡県伊東市","222089"]
[null,null,null,null,"静岡県島田市","222097"]
[null,null,null,null,"静岡県富士市","222101"]
[null,null,null,null,"静岡県磐田市","222119"]
[null,null,null,null,"静岡県焼津市","222127"]
[null,null,null,null,"静岡県掛川市","222135"]
[null,null,null,null,"静岡県藤枝市","222143"]
[null,null,null,null,"静岡県御殿場市","222151"]
[null,null,null,null,"静岡県袋井市","222160"]
[null,null,null,null,"静岡県下田市","222194"]
[null,null,null,null,"静岡県裾野市","222208"]
[null,null,null,null,"静岡県湖西市","222216"]
[null,null,null,null,"静岡県伊豆市","222224"]
[null,null,null,null,"静岡県御前崎市","222232"]
[null,null,null,null,"静岡県菊川市","222241"]
[null,null,null,null,"静岡県伊豆の国市","222259"]
[null,null,null,null,"静岡県牧之原市","222267"]
[null,null,null,null,"静岡県東伊豆町","223018"]
[null,null,null,null,"静岡県河津町","223026"]
[null,null,null,null,"静岡県南伊豆町","223042"]
[null,null,null,null,"静岡県松崎町","223051"]
[null,null,null,null,"静岡県西伊豆町","223069"]
[null,null,null,null,"静岡県函南町","223255"]
[null,null,null,null,"静岡県清水町","223417"]
[null,null,null,null,"静岡県長泉町","223425"]
[null,null,null,null,"静岡県小山町","223441"]
[null,null,null,null,"静岡県吉田町","224243"]
[null,null,null,null,"静岡県川根本町","224294"]
[null,null,null,null,"静岡県森町","224618"]
[null,null,null,null,"愛知県名古屋市","231002"]
[null,null,null,null,"愛知県豊橋市","232017"]
[null,null,null,null,"愛知県岡崎市","232025"]
[null,null,null,null,"愛知県一宮市","232033"]
[null,null,null,null,"愛知県瀬戸市","232041"]
[null,null,null,null,"愛知県半田市","232050"]
[null,null,null,null,"愛知県春日井市","232068"]
[null,null,null,null,"愛知県豊川市","232076"]
[null,null,null,null,"愛知県津島市","232084"]
[null,null,null,null,"愛知県碧南市","232092"]
[null,null,null,null,"愛知県刈谷市","232106"]
[null,null,null,null,"愛知県豊田市","232114"]
[null,null,null,null,"愛知県安城市","232122"]
[null,null,null,null,"愛知県西尾市","232131"]
[null,null,null,null,"愛知県蒲郡市","232149"]
[null,null,null,null,"愛知県犬山市","232157"]
[null,null,null,null,"愛知県常滑市","232165"]
[null,null,null,null,"愛知県江南市","232173"]
[null,null,null,null,"愛知県小牧市","232190"]
[null,null,null,null,"愛知県稲沢市","232203"]
[null,null,null,null,"愛知県新城市","232211"]
[null,null,null,null,"愛知県東海市","232220"]
[null,null,null,null,"愛知県大府市","232238"]
[null,null,null,null,"愛知県知多市","232246"]
[null,null,null,null,"愛知県知立市","232254"]
[null,null,null,null,"愛知県尾張旭市","232262"]
[null,null,null,null,"愛知県高浜市","232271"]
[null,null,null,null,"愛知県岩倉市","232289"]
[null,null,null,null,"愛知県豊明市","232297"]
[null,null,null,null,"愛知県日進市","232301"]
[null,null,null,null,"愛知県田原市","232319"]
[null,null,null,null,"愛知県愛西市","232327"]
[null,null,null,null,"愛知県清須市","232335"]
[null,null,null,null,"愛知県北名古屋市","232343"]
[null,null,null,null,"愛知県弥富市","232351"]
[null,null,null,null,"愛知県みよし市","232360"]
[null,null,null,null,"愛知県あま市","232378"]
[null,null,null,null,"愛知県長久手市","232386"]
[null,null,null,null,"愛知県東郷町","233021"]
[null,null,null,null,"愛知県豊山町","233421"]
[null,null,null,null,"愛知県大口町","233617"]
[null,null,null,null,"愛知県扶桑町","233625"]
[null,null,null,null,"愛知県大治町","234249"]
[null,null,null,null,"愛知県蟹江町","234257"]
[null,null,null,null,"愛知県飛島村","234273"]
[null,null,null,null,"愛知県阿久比町","234419"]
[null,null,null,null,"愛知県東浦町","234427"]
[null,null,null,null,"愛知県南知多町","234451"]
[null,null,null,null,"愛知県美浜町","234460"]
[null,null,null,null,"愛知県武豊町","234478"]
[null,null,null,null,"愛知県幸田町","235016"]
[null,null,null,null,"愛知県設楽町","235610"]
[null,null,null,null,"愛知県東栄町","235628"]
[null,null,null,null,"愛知県豊根村","235636"]
[null,null,null,null,"三重県津市","242012"]
[null,null,null,null,"三重県四日市市","242021"]
[null,null,null,null,"三重県伊勢市","242039"]
[null,null,null,null,"三重県松阪市","242047"]
[null,null,null,null,"三重県桑名市","242055"]
[null,null,null,null,"三重県鈴鹿市","242071"]
[null,null,null,null,"三重県名張市","242080"]
[null,null,null,null,"三重県尾鷲市","242098"]
[null,null,null,null,"三重県亀山市","242101"]
[null,null,null,null,"三重県鳥羽市","242110"]
[null,null,null,null,"三重県熊野市","242128"]
[null,null,null,null,"三重県いなべ市","242144"]
[null,null,null,null,"三重県志摩市","242152"]
[null,null,null,null,"三重県伊賀市","242161"]
[null,null,null,null,"三重県木曽岬町","243035"]
[null,null,null,null,"三重県東員町","243248"]
[null,null,null,null,"三重県菰野町","243418"]
[null,null,null,null,"三重県朝日町","243434"]
[null,null,null,null,"三重県川越町","243442"]
[null,null,null,null,"三重県多気町","244414"]
[null,null,null,null,"三重県明和町","244422"]
[null,null,null,null,"三重県大台町","244431"]
[null,null,null,null,"三重県玉城町","244619"]
[null,null,null,null,"三重県度会町","244708"]
[null,null,null,null,"三重県大紀町","244716"]
[null,null,null,null,"三重県南伊勢町","244724"]
[null,null,null,null,"三重県紀北町","245437"]
[null,null,null,null,"三重県御浜町","245615"]
[null,null,null,null,"三重県紀宝町","245623"]
[null,null,null,null,"滋賀県大津市","252018"]
[null,null,null,null,"滋賀県彦根市","252026"]
[null,null,null,null,"滋賀県長浜市","252034"]
[null,null,null,null,"滋賀県近江八幡市","252042"]
[null,null,null,null,"滋賀県草津市","252069"]
[null,null,null,null,"滋賀県守山市","252077"]
[null,null,null,null,"滋賀県栗東市","252085"]
[null,null,null,null,"滋賀県甲賀市","252093"]
[null,null,null,null,"滋賀県野洲市","252107"]
[null,null,null,null,"滋賀県湖南市","252115"]
[null,null,null,null,"滋賀県高島市","252123"]
[null,null,null,null,"滋賀県東近江市","252131"]
[null,null,null,null,"滋賀県米原市","252140"]
[null,null,null,null,"滋賀県日野町","253839"]
[null,null,null,null,"滋賀県竜王町","253847"]
[null,null,null,null,"滋賀県愛荘町","254258"]
[null,null,null,null,"滋賀県豊郷町","254410"]
[null,null,null,null,"滋賀県甲良町","254428"]
[null,null,null,null,"滋賀県多賀町","254436"]
[null,null,null,null,"京都府京都市","261009"]
[null,null,null,null,"京都府福知山市","262013"]
[null,null,null,null,"京都府舞鶴市","262021"]
[null,null,null,null,"京都府綾部市","262030"]
[null,null,null,null,"京都府宇治市","262048"]
[null,null,null,null,"京都府宮津市","262056"]
[null,null,null,null,"京都府亀岡市","262064"]
[null,null,null,null,"京都府城陽市","262072"]
[null,null,null,null,"京都府向日市","262081"]
[null,null,null,null,"京都府長岡京市","262099"]
[null,null,null,null,"京都府八幡市","262102"]
[null,null,null,null,"京都府京田辺市","262111"]
[null,null,null,null,"京都府京丹後市","262129"]
[null,null,null,null,"京都府南丹市","262137"]
[null,null,null,null,"京都府木津川市","262145"]
[null,null,null,null,"京都府大山崎町","263036"]
[null,null,null,null,"京都府久御山町","263222"]
[null,null,null,null,"京都府井手町","263435"]
[null,null,null,null,"京都府宇治田原町","263443"]
[null,null,null,null,"京都府笠置町","263648"]
[null,null,null,null,"京都府和束町","263656"]
[null,null,null,null,"京都府精華町","263664"]
[null,null,null,null,"京都府南山城村","263672"]
[null,null,null,null,"京都府京丹波町","264075"]
[null,null,null,null,"京都府伊根町","264636"]
[null,null,null,null,"京都府与謝野町","264652"]
[null,null,null,null,"大阪府大阪市","271004"]
[null,null,null,null,"大阪府堺市","271403"]
[null,null,null,null,"大阪府岸和田市","272027"]
[null,null,null,null,"大阪府豊中市","272035"]
[null,null,null,null,"大阪府池田市","272043"]
[null,null,null,null,"大阪府吹田市","272051"]
[null,null,null,null,"大阪府泉大津市","272060"]
[null,null,null,null,"大阪府高槻市","272078"]
[null,null,null,null,"大阪府貝塚市","272086"]
[null,null,null,null,"大阪府守口市","272094"]
[null,null,null,null,"大阪府枚方市","272108"]
[null,null,null,null,"大阪府茨木市","272116"]
[null,null,null,null,"大阪府八尾市","272124"]
[null,null,null,null,"大阪府泉佐野市","272132"]
[null,null,null,null,"大阪府富田林市","272141"]
[null,null,null,null,"大阪府寝屋川市","272159"]
[null,null,null,null,"大阪府河内長野市","272167"]
[null,null,null,null,"大阪府松原市","272175"]
[null,null,null,null,"大阪府大東市","272183"]
[null,null,null,null,"大阪府和泉市","272191"]
[null,null,null,null,"大阪府箕面市","272205"]
[null,null,null,null,"大阪府柏原市","272213"]
[null,null,null,null,"大阪府羽曳野市","272221"]
[null,null,null,null,"大阪府門真市","272230"]
[null,null,null,null,"大阪府摂津市","272248"]
[null,null,null,null,"大阪府高石市","272256"]
[null,null,null,null,"大阪府藤井寺市","272264"]
[null,null,null,null,"大阪府東大阪市","272272"]
[null,null,null,null,"大阪府泉南市","272281"]
[null,null,null,null,"大阪府四條畷市","272299"]
[null,null,null,null,"大阪府交野市","272302"]
[null,null,null,null,"大阪府大阪狭山市","272311"]
[null,null,null,null,"大阪府阪南市","272329"]
[null,null,null,null,"大阪府島本町","273015"]
[null,null,null,null,"大阪府豊能町","273210"]
[null,null,null,null,"大阪府能勢町","273228"]
[null,null,null,null,"大阪府忠岡町","273414"]
[null,null,null,null,"大阪府熊取町","273619"]
[null,null,null,null,"大阪府田尻町","273627"]
[null,null,null,null,"大阪府岬町","273660"]
[null,null,null,null,"大阪府太子町","273813"]
[null,null,null,null,"大阪府河南町","273821"]
[null,null,null,null,"大阪府千早赤阪村","273830"]
[null,null,null,null,"兵庫県神戸市","281000"]
[null,null,null,null,"兵庫県姫路市","282014"]
[null,null,null,null,"兵庫県尼崎市","282022"]
[null,null,null,null,"兵庫県明石市","282031"]
[null,null,null,null,"兵庫県西宮市","282049"]
[null,null,null,null,"兵庫県洲本市","282057"]
[null,null,null,null,"兵庫県芦屋市","282065"]
[null,null,null,null,"兵庫県伊丹市","282073"]
[null,null,null,null,"兵庫県相生市","282081"]
[null,null,null,null,"兵庫県豊岡市","282090"]
[null,null,null,null,"兵庫県加古川市","282103"]
[null,null,null,null,"兵庫県赤穂市","282120"]
[null,null,null,null,"兵庫県西脇市","282138"]
[null,null,null,null,"兵庫県宝塚市","282146"]
[null,null,null,null,"兵庫県三木市","282154"]
[null,null,null,null,"兵庫県高砂市","282162"]
[null,null,null,null,"兵庫県川西市","282171"]
[null,null,null,null,"兵庫県小野市","282189"]
[null,null,null,null,"兵庫県三田市","282197"]
[null,null,null,null,"兵庫県加西市","282201"]
[null,null,null,null,"兵庫県丹波篠山市","282219"]
[null,null,null,null,"兵庫県養父市","282227"]
[null,null,null,null,"兵庫県丹波市","282235"]
[null,null,null,null,"兵庫県南あわじ市","282243"]
[null,null,null,null,"兵庫県朝来市","282251"]
[null,null,null,null,"兵庫県淡路市","282260"]
[null,null,null,null,"兵庫県宍粟市","282278"]
[null,null,null,null,"兵庫県加東市","282286"]
[null,null,null,null,"兵庫県たつの市","282294"]
[null,null,null,null,"兵庫県猪名川町","283011"]
[null,null,null,null,"兵庫県多可町","283657"]
[null,null,null,null,"兵庫県稲美町","283819"]
[null,null,null,null,"兵庫県播磨町","283827"]
[null,null,null,null,"兵庫県市川町","284424"]
[null,null,null,null,"兵庫県福崎町","284432"]
[null,null,null,null,"兵庫県神河町","284467"]
[null,null,null,null,"兵庫県太子町","284645"]
[null,null,null,null,"兵庫県上郡町","284815"]
[null,null,null,null,"兵庫県佐用町","285013"]
[null,null,null,null,"兵庫県香美町","285854"]
[null,null,null,null,"兵庫県新温泉町","285862"]
[null,null,null,null,"奈良県奈良市","292010"]
[null,null,null,null,"奈良県大和高田市","292028"]
[null,null,null,null,"奈良県大和郡山市","292036"]
[null,null,null,null,"奈良県天理市","292044"]
[null,null,null,null,"奈良県橿原市","292052"]
[null,null,null,null,"奈良県桜井市","292061"]
[null,null,null,null,"奈良県五條市","292079"]
[null,null,null,null,"奈良県御所市","292087"]
[null,null,null,null,"奈良県生駒市","292095"]
[null,null,null,null,"奈良県香芝市","292109"]
[null,null,null,null,"奈良県葛城市","292117"]
[null,null,null,null,"奈良県宇陀市","292125"]
[null,null,null,null,"奈良県山添村","293229"]
[null,null,null,null,"奈良県平群町","293423"]
[null,null,null,null,"奈良県三郷町","293431"]
[null,null,null,null,"奈良県斑鳩町","293440"]
[null,null,null,null,"奈良県安堵町","293458"]
[null,null,null,null,"奈良県川西町","293610"]
[null,null,null,null,"奈良県三宅町","293628"]
[null,null,null,null,"奈良県田原本町","293636"]
[null,null,null,null,"奈良県曽爾村","293857"]
[null,null,null,null,"奈良県御杖村","293865"]
[null,null,null,null,"奈良県高取町","294012"]
[null,null,null,null,"奈良県明日香村","294021"]
[null,null,null,null,"奈良県上牧町","294241"]
[null,null,null,null,"奈良県王寺町","294250"]
[null,null,null,null,"奈良県広陵町","294268"]
[null,null,null,null,"奈良県河合町","294276"]
[null,null,null,null,"奈良県吉野町","294411"]
[null,null,null,null,"奈良県大淀町","294420"]
[null,null,null,null,"奈良県下市町","294438"]
[null,null,null,null,"奈良県黒滝村","294446"]
[null,null,null,null,"奈良県天川村","294462"]
[null,null,null,null,"奈良県野迫川村","294471"]
[null,null,null,null,"奈良県十津川村","294497"]
[null,null,null,null,"奈良県下北山村","294501"]
[null,null,null,null,"奈良県上北山村","294519"]
[null,null,null,null,"奈良県川上村","294527"]
[null,null,null,null,"奈良県東吉野村","294535"]
[null,null,null,null,"和歌山県和歌山市","302015"]
[null,null,null,null,"和歌山県海南市","302023"]
[null,null,null,null,"和歌山県橋本市","302031"]
[null,null,null,null,"和歌山県有田市","302040"]
[null,null,null,null,"和歌山県御坊市","302058"]
[null,null,null,null,"和歌山県田辺市","302066"]
[null,null,null,null,"和歌山県新宮市","302074"]
[null,null,null,null,"和歌山県紀の川市","302082"]
[null,null,null,null,"和歌山県岩出市","302091"]
[null,null,null,null,"和歌山県紀美野町","303046"]
[null,null,null,null,"和歌山県かつらぎ町","303411"]
[null,null,null,null,"和歌山県九度山町","303437"]
[null,null,null,null,"和歌山県高野町","303445"]
[null,null,null,null,"和歌山県湯浅町","303615"]
[null,null,null,null,"和歌山県広川町","303623"]
[null,null,null,null,"和歌山県有田川町","303666"]
[null,null,null,null,"和歌山県美浜町","303810"]
[null,null,null,null,"和歌山県日高町","303828"]
[null,null,null,null,"和歌山県由良町","303836"]
[null,null,null,null,"和歌山県印南町","303909"]
[null,null,null,null,"和歌山県みなべ町","303917"]
[null,null,null,null,"和歌山県日高川町","303925"]
[null,null,null,null,"和歌山県白浜町","304018"]
[null,null,null,null,"和歌山県上富田町","304042"]
[null,null,null,null,"和歌山県すさみ町","304069"]
[null,null,null,null,"和歌山県那智勝浦町","304212"]
[null,null,null,null,"和歌山県太地町","304221"]
[null,null,null,null,"和歌山県古座川町","304247"]
[null,null,null,null,"和歌山県北山村","304271"]
[null,null,null,null,"和歌山県串本町","304280"]
[null,null,null,null,"鳥取県鳥取市","312011"]
[null,null,null,null,"鳥取県米子市","312029"]
[null,null,null,null,"鳥取県倉吉市","312037"]
[null,null,null,null,"鳥取県境港市","312045"]
[null,null,null,null,"鳥取県岩美町","313025"]
[null,null,null,null,"鳥取県若桜町","313254"]
[null,null,null,null,"鳥取県智頭町","313289"]
[null,null,null,null,"鳥取県八頭町","313297"]
[null,null,null,null,"鳥取県三朝町","313645"]
[null,null,null,null,"鳥取県湯梨浜町","313700"]
[null,null,null,null,"鳥取県琴浦町","313718"]
[null,null,null,null,"鳥取県北栄町","313726"]
[null,null,null,null,"鳥取県日吉津村","313840"]
[null,null,null,null,"鳥取県大山町","313866"]
[null,null,null,null,"鳥取県南部町","313891"]
[null,null,null,null,"鳥取県伯耆町","313904"]
[null,null,null,null,"鳥取県日南町","314013"]
[null,null,null,null,"鳥取県日野町","314021"]
[null,null,null,null,"鳥取県江府町","314030"]
[null,null,null,null,"島根県松江市","322016"]
[null,null,null,null,"島根県浜田市","322024"]
[null,null,null,null,"島根県出雲市","322032"]
[null,null,null,null,"島根県益田市","322041"]
[null,null,null,null,"島根県大田市","322059"]
[null,null,null,null,"島根県安来市","322067"]
[null,null,null,null,"島根県江津市","322075"]
[null,null,null,null,"島根県雲南市","322091"]
[null,null,null,null,"島根県奥出雲町","323438"]
[null,null,null,null,"島根県飯南町","323861"]
[null,null,null,null,"島根県川本町","324418"]
[null,null,null,null,"島根県美郷町","324485"]
[null,null,null,null,"島根県邑南町","324493"]
[null,null,null,null,"島根県津和野町","325015"]
[null,null,null,null,"島根県吉賀町","325058"]
[null,null,null,null,"島根県海士町","325252"]
[null,null,null,null,"島根県西ノ島町","325261"]
[null,null,null,null,"島根県知夫村","325279"]
[null,null,null,null,"島根県隠岐の島町","325287"]
[null,null,null,null,"岡山県岡山市","331007"]
[null,null,null,null,"岡山県倉敷市","332020"]
[null,null,null,null,"岡山県津山市","332038"]
[null,null,null,null,"岡山県玉野市","332046"]
[null,null,null,null,"岡山県笠岡市","332054"]
[null,null,null,null,"岡山県井原市","332071"]
[null,null,null,null,"岡山県総社市","332089"]
[null,null,null,null,"岡山県高梁市","332097"]
[null,null,null,null,"岡山県新見市","332101"]
[null,null,null,null,"岡山県備前市","332119"]
[null,null,null,null,"岡山県瀬戸内市","332127"]
[null,null,null,null,"岡山県赤磐市","332135"]
[null,null,null,null,"岡山県真庭市","332143"]
[null,null,null,null,"岡山県美作市","332151"]
[null,null,null,null,"岡山県浅口市","332160"]
[null,null,null,null,"岡山県和気町","333468"]
[null,null,null,null,"岡山県早島町","334235"]
[null,null,null,null,"岡山県里庄町","334456"]
[null,null,null,null,"岡山県矢掛町","334618"]
[null,null,null,null,"岡山県新庄村","335860"]
[null,null,null,null,"岡山県鏡野町","336068"]
[null,null,null,null,"岡山県勝央町","336220"]
[null,null,null,null,"岡山県奈義町","336238"]
[null,null,null,null,"岡山県西粟倉村","336432"]
[null,null,null,null,"岡山県久米南町","336637"]
[null,null,null,null,"岡山県美咲町","336661"]
[null,null,null,null,"岡山県吉備中央町","336815"]
[null,null,null,null,"広島県広島市","341002"]
[null,null,null,null,"広島県呉市","342025"]
[null,null,null,null,"広島県竹原市","342033"]
[null,null,null,null,"広島県三原市","342041"]
[null,null,null,null,"広島県尾道市","342050"]
[null,null,null,null,"広島県福山市","342076"]
[null,null,null,null,"広島県府中市","342084"]
[null,null,null,null,"広島県三次市","342092"]
[null,null,null,null,"広島県庄原市","342106"]
[null,null,null,null,"広島県大竹市","342114"]
[null,null,null,null,"広島県東広島市","342122"]
[null,null,null,null,"広島県廿日市市","342131"]
[null,null,null,null,"広島県安芸高田市","342149"]
[null,null,null,null,"広島県江田島市","342157"]
[null,null,null,null,"広島県府中町","343021"]
[null,null,null,null,"広島県海田町","343048"]
[null,null,null,null,"広島県熊野町","343072"]
[null,null,null,null,"広島県坂町","343099"]
[null,null,null,null,"広島県安芸太田町","343684"]
[null,null,null,null,"広島県北広島町","343692"]
[null,null,null,null,"広島県大崎上島町","344311"]
[null,null,null,null,"広島県世羅町","344621"]
[null,null,null,null,"広島県神石高原町","345458"]
[null,null,null,null,"山口県下関市","352012"]
[null,null,null,null,"山口県宇部市","352021"]
[null,null,null,null,"山口県山口市","352039"]
[null,null,null,null,"山口県萩市","352047"]
[null,null,null,null,"山口県防府市","352063"]
[null,null,null,null,"山口県下松市","352071"]
[null,null,null,null,"山口県岩国市","352080"]
[null,null,null,null,"山口県光市","352101"]
[null,null,null,null,"山口県長門市","352110"]
[null,null,null,null,"山口県柳井市","352128"]
[null,null,null,null,"山口県美祢市","352136"]
[null,null,null,null,"山口県周南市","352152"]
[null,null,null,null,"山口県山陽小野田市","352161"]
[null,null,null,null,"山口県周防大島町","353051"]
[null,null,null,null,"山口県和木町","353213"]
[null,null,null,null,"山口県上関町","353418"]
[null,null,null,null,"山口県田布施町","353434"]
[null,null,null,null,"山口県平生町","353442"]
[null,null,null,null,"山口県阿武町","355020"]
[null,null,null,null,"徳島県徳島市","362018"]
[null,null,null,null,"徳島県鳴門市","362026"]
[null,null,null,null,"徳島県小松島市","362034"]
[null,null,null,null,"徳島県阿南市","362042"]
[null,null,null,null,"徳島県吉野川市","362051"]
[null,null,null,null,"徳島県阿波市","362069"]
[null,null,null,null,"徳島県美馬市","362077"]
[null,null,null,null,"徳島県三好市","362085"]
[null,null,null,null,"徳島県勝浦町","363014"]
[null,null,null,null,"徳島県上勝町","363022"]
[null,null,null,null,"徳島県佐那河内村","363219"]
[null,null,null,null,"徳島県石井町","363413"]
[null,null,null,null,"徳島県神山町","363421"]
[null,null,null,null,"徳島県那賀町","363685"]
[null,null,null,null,"徳島県牟岐町","363839"]
[null,null,null,null,"徳島県美波町","363871"]
[null,null,null,null,"徳島県海陽町","363880"]
[null,null,null,null,"徳島県松茂町","364011"]
[null,null,null,null,"徳島県北島町","364029"]
[null,null,null,null,"徳島県藍住町","364037"]
[null,null,null,null,"徳島県板野町","364045"]
[null,null,null,null,"徳島県上板町","364053"]
[null,null,null,null,"徳島県つるぎ町","364681"]
[null,null,null,null,"徳島県東みよし町","364894"]
[null,null,null,null,"香川県高松市","372013"]
[null,null,null,null,"香川県丸亀市","372021"]
[null,null,null,null,"香川県坂出市","372030"]
[null,null,null,null,"香川県善通寺市","372048"]
[null,null,null,null,"香川県観音寺市","372056"]
[null,null,null,null,"香川県さぬき市","372064"]
[null,null,null,null,"香川県東かがわ市","372072"]
[null,null,null,null,"香川県三豊市","372081"]
[null,null,null,null,"香川県土庄町","373222"]
[null,null,null,null,"香川県小豆島町","373249"]
[null,null,null,null,"香川県三木町","373419"]
[null,null,null,null,"香川県直島町","373648"]
[null,null,null,null,"香川県宇多津町","373869"]
[null,null,null,null,"香川県綾川町","373877"]
[null,null,null,null,"香川県琴平町","374032"]
[null,null,null,null,"香川県多度津町","374041"]
[null,null,null,null,"香川県まんのう町","374067"]
[null,null,null,null,"愛媛県松山市","382019"]
[null,null,null,null,"愛媛県今治市","382027"]
[null,null,null,null,"愛媛県宇和島市","382035"]
[null,null,null,null,"愛媛県八幡浜市","382043"]
[null,null,null,null,"愛媛県新居浜市","382051"]
[null,null,null,null,"愛媛県西条市","382060"]
[null,null,null,null,"愛媛県大洲市","382078"]
[null,null,null,null,"愛媛県伊予市","382108"]
[null,null,null,null,"愛媛県四国中央市","382132"]
[null,null,null,null,"愛媛県西予市","382141"]
[null,null,null,null,"愛媛県東温市","382159"]
[null,null,null,null,"愛媛県上島町","383562"]
[null,null,null,null,"愛媛県久万高原町","383864"]
[null,null,null,null,"愛媛県松前町","384011"]
[null,null,null,null,"愛媛県砥部町","384020"]
[null,null,null,null,"愛媛県内子町","384224"]
[null,null,null,null,"愛媛県伊方町","384429"]
[null,null,null,null,"愛媛県松野町","384844"]
[null,null,null,null,"愛媛県鬼北町","384887"]
[null,null,null,null,"愛媛県愛南町","385069"]
[null,null,null,null,"高知県高知市","392014"]
[null,null,null,null,"高知県室戸市","392022"]
[null,null,null,null,"高知県安芸市","392031"]
[null,null,null,null,"高知県南国市","392049"]
[null,null,null,null,"高知県土佐市","392057"]
[null,null,null,null,"高知県須崎市","392065"]
[null,null,null,null,"高知県宿毛市","392081"]
[null,null,null,null,"高知県土佐清水市","392090"]
[null,null,null,null,"高知県四万十市","392103"]
[null,null,null,null,"高知県香南市","392111"]
[null,null,null,null,"高知県香美市","392120"]
[null,null,null,null,"高知県東洋町","393011"]
[null,null,null,null,"高知県奈半利町","393029"]
[null,null,null,null,"高知県田野町","393037"]
[null,null,null,null,"高知県安田町","393045"]
[null,null,null,null,"高知県北川村","393053"]
[null,null,null,null,"高知県馬路村","393061"]
[null,null,null,null,"高知県芸西村","393070"]
[null,null,null,null,"高知県本山町","393410"]
[null,null,null,null,"高知県大豊町","393444"]
[null,null,null,null,"高知県土佐町","393631"]
[null,null,null,null,"高知県大川村","393649"]
[null,null,null,null,"高知県いの町","393860"]
[null,null,null,null,"高知県仁淀川町","393878"]
[null,null,null,null,"高知県中土佐町","394017"]
[null,null,null,null,"高知県佐川町","394025"]
[null,null,null,null,"高知県越知町","394033"]
[null,null,null,null,"高知県梼原町","394050"]
[null,null,null,null,"高知県日高村","394106"]
[null,null,null,null,"高知県津野町","394114"]
[null,null,null,null,"高知県四万十町","394122"]
[null,null,null,null,"高知県大月町","394246"]
[null,null,null,null,"高知県三原村","394271"]
[null,null,null,null,"高知県黒潮町","394289"]
[null,null,null,null,"福岡県北九州市","401005"]
[null,null,null,null,"福岡県福岡市","401307"]
[null,null,null,null,"福岡県大牟田市","402028"]
[null,null,null,null,"福岡県久留米市","402036"]
[null,null,null,null,"福岡県直方市","402044"]
[null,null,null,null,"福岡県飯塚市","402052"]
[null,null,null,null,"福岡県田川市","402061"]
[null,null,null,null,"福岡県柳川市","402079"]
[null,null,null,null,"福岡県八女市","402109"]
[null,null,null,null,"福岡県筑後市","402117"]
[null,null,null,null,"福岡県大川市","402125"]
[null,null,null,null,"福岡県行橋市","402133"]
[null,null,null,null,"福岡県豊前市","402141"]
[null,null,null,null,"福岡県中間市","402150"]
[null,null,null,null,"福岡県小郡市","402168"]
[null,null,null,null,"福岡県筑紫野市","402176"]
[null,null,null,null,"福岡県春日市","402184"]
[null,null,null,null,"福岡県大野城市","402192"]
[null,null,null,null,"福岡県宗像市","402206"]
[null,null,null,null,"福岡県太宰府市","402214"]
[null,null,null,null,"福岡県古賀市","402231"]
[null,null,null,null,"福岡県福津市","402249"]
[null,null,null,null,"福岡県うきは市","402257"]
[null,null,null,null,"福岡県宮若市","402265"]
[null,null,null,null,"福岡県嘉麻市","402273"]
[null,null,null,null,"福岡県朝倉市","402281"]
[null,null,null,null,"福岡県みやま市","402290"]
[null,null,null,null,"福岡県糸島市","402303"]
[null,null,null,null,"福岡県那珂川市","402311"]
[null,null,null,null,"福岡県宇美町","403415"]
[null,null,null,null,"福岡県篠栗町","403423"]
[null,null,null,null,"福岡県志免町","403431"]
[null,null,null,null,"福岡県須恵町","403440"]
[null,null,null,null,"福岡県新宮町","403458"]
[null,null,null,null,"福岡県久山町","403482"]
[null,null,null,null,"福岡県粕屋町","403491"]
[null,null,null,null,"福岡県芦屋町","403814"]
[null,null,null,null,"福岡県水巻町","403822"]
[null,null,null,null,"福岡県岡垣町","403831"]
[null,null,null,null,"福岡県遠賀町","403849"]
[null,null,null,null,"福岡県小竹町","404012"]
[null,null,null,null,"福岡県鞍手町","404021"]
[null,null,null,null,"福岡県桂川町","404217"]
[null,null,null,null,"福岡県筑前町","404471"]
[null,null,null,null,"福岡県東峰村","404489"]
[null,null,null,null,"福岡県大刀洗町","405035"]
[null,null,null,null,"福岡県大木町","405221"]
[null,null,null,null,"福岡県広川町","405442"]
[null,null,null,null,"福岡県香春町","406015"]
[null,null,null,null,"福岡県添田町","406023"]
[null,null,null,null,"福岡県糸田町","406040"]
[null,null,null,null,"福岡県川崎町","406058"]
[null,null,null,null,"福岡県大任町","406082"]
[null,null,null,null,"福岡県赤村","406091"]
[null,null,null,null,"福岡県福智町","406104"]
[null,null,null,null,"福岡県苅田町","406210"]
[null,null,null,null,"福岡県みやこ町","406252"]
[null,null,null,null,"福岡県吉富町","406422"]
[null,null,null,null,"福岡県上毛町","406465"]
[null,null,null,null,"福岡県築上町","406473"]
[null,null,null,null,"佐賀県佐賀市","412015"]
[null,null,null,null,"佐賀県唐津市","412023"]
[null,null,null,null,"佐賀県鳥栖市","412031"]
[null,null,null,null,"佐賀県多久市","412040"]
[null,null,null,null,"佐賀県伊万里市","412058"]
[null,null,null,null,"佐賀県武雄市","412066"]
[null,null,null,null,"佐賀県鹿島市","412074"]
[null,null,null,null,"佐賀県小城市","412082"]
[null,null,null,null,"佐賀県嬉野市","412091"]
[null,null,null,null,"佐賀県神埼市","412104"]
[null,null,null,null,"佐賀県吉野ヶ里町","413275"]
[null,null,null,null,"佐賀県基山町","413411"]
[null,null,null,null,"佐賀県上峰町","413453"]
[null,null,null,null,"佐賀県みやき町","413461"]
[null,null,null,null,"佐賀県玄海町","413879"]
[null,null,null,null,"佐賀県有田町","414018"]
[null,null,null,null,"佐賀県大町町","414239"]
[null,null,null,null,"佐賀県江北町","414247"]
[null,null,null,null,"佐賀県白石町","414255"]
[null,null,null,null,"佐賀県太良町","414417"]
[null,null,null,null,"長崎県長崎市","422011"]
[null,null,null,null,"長崎県佐世保市","422029"]
[null,null,null,null,"長崎県島原市","422037"]
[null,null,null,null,"長崎県諫早市","422045"]
[null,null,null,null,"長崎県大村市","422053"]
[null,null,null,null,"長崎県平戸市","422070"]
[null,null,null,null,"長崎県松浦市","422088"]
[null,null,null,null,"長崎県対馬市","422096"]
[null,null,null,null,"長崎県壱岐市","422100"]
[null,null,null,null,"長崎県五島市","422118"]
[null,null,null,null,"長崎県西海市","422126"]
[null,null,null,null,"長崎県雲仙市","422134"]
[null,null,null,null,"長崎県南島原市","422142"]
[null,null,null,null,"長崎県長与町","423076"]
[null,null,null,null,"長崎県時津町","423084"]
[null,null,null,null,"長崎県東彼杵町","423211"]
[null,null,null,null,"長崎県川棚町","423220"]
[null,null,null,null,"長崎県波佐見町","423238"]
[null,null,null,null,"長崎県小値賀町","423831"]
[null,null,null,null,"長崎県佐々町","423912"]
[null,null,null,null,"長崎県新上五島町","424111"]
[null,null,null,null,"熊本県熊本市","431001"]
[null,null,null,null,"熊本県八代市","432024"]
[null,null,null,null,"熊本県人吉市","432032"]
[null,null,null,null,"熊本県荒尾市","432041"]
[null,null,null,null,"熊本県水俣市","432059"]
[null,null,null,null,"熊本県玉名市","432067"]
[null,null,null,null,"熊本県山鹿市","432083"]
[null,null,null,null,"熊本県菊池市","432105"]
[null,null,null,null,"熊本県宇土市","432113"]
[null,null,null,null,"熊本県上天草市","432121"]
[null,null,null,null,"熊本県宇城市","432130"]
[null,null,null,null,"熊本県阿蘇市","432148"]
[null,null,null,null,"熊本県天草市","432156"]
[null,null,null,null,"熊本県合志市","432164"]
[null,null,null,null,"熊本県美里町","433489"]
[null,null,null,null,"熊本県玉東町","433641"]
[null,null,null,null,"熊本県南関町","433675"]
[null,null,null,null,"熊本県長洲町","433683"]
[null,null,null,null,"熊本県和水町","433691"]
[null,null,null,null,"熊本県大津町","434035"]
[null,null,null,null,"熊本県菊陽町","434043"]
[null,null,null,null,"熊本県南小国町","434230"]
[null,null,null,null,"熊本県小国町","434248"]
[null,null,null,null,"熊本県産山村","434256"]
[null,null,null,null,"熊本県高森町","434281"]
[null,null,null,null,"熊本県西原村","434329"]
[null,null,null,null,"熊本県南阿蘇村","434337"]
[null,null,null,null,"熊本県御船町","434418"]
[null,null,null,null,"熊本県嘉島町","434426"]
[null,null,null,null,"熊本県益城町","434434"]
[null,null,null,null,"熊本県甲佐町","434442"]
[null,null,null,null,"熊本県山都町","434477"]
[null,null,null,null,"熊本県氷川町","434680"]
[null,null,null,null,"熊本県芦北町","434825"]
[null,null,null,null,"熊本県津奈木町","434841"]
[null,null,null,null,"熊本県錦町","435015"]
[null,null,null,null,"熊本県多良木町","435058"]
[null,null,null,null,"熊本県湯前町","435066"]
[null,null,null,null,"熊本県水上村","435074"]
[null,null,null,null,"熊本県相良村","435104"]
[null,null,null,null,"熊本県五木村","435112"]
[null,null,null,null,"熊本県山江村","435121"]
[null,null,null,null,"熊本県球磨村","435139"]
[null,null,null,null,"熊本県あさぎり町","435147"]
[null,null,null,null,"熊本県苓北町","435317"]
[null,null,null,null,"大分県大分市","442011"]
[null,null,null,null,"大分県別府市","442020"]
[null,null,null,null,"大分県中津市","442038"]
[null,null,null,null,"大分県日田市","442046"]
[null,null,null,null,"大分県佐伯市","442054"]
[null,null,null,null,"大分県臼杵市","442062"]
[null,null,null,null,"大分県津久見市","442071"]
[null,null,null,null,"大分県竹田市","442089"]
[null,null,null,null,"大分県豊後高田市","442097"]
[null,null,null,null,"大分県杵築市","442101"]
[null,null,null,null,"大分県宇佐市","442119"]
[null,null,null,null,"大分県豊後大野市","442127"]
[null,null,null,null,"大分県由布市","442135"]
[null,null,null,null,"大分県国東市","442143"]
[null,null,null,null,"大分県姫島村","443221"]
[null,null,null,null,"大分県日出町","443417"]
[null,null,null,null,"大分県九重町","444618"]
[null,null,null,null,"大分県玖珠町","444626"]
[null,null,null,null,"宮崎県宮崎市","452017"]
[null,null,null,null,"宮崎県都城市","452025"]
[null,null,null,null,"宮崎県延岡市","452033"]
[null,null,null,null,"宮崎県日南市","452041"]
[null,null,null,null,"宮崎県小林市","452050"]
[null,null,null,null,"宮崎県日向市","452068"]
[null,null,null,null,"宮崎県串間市","452076"]
[null,null,null,null,"宮崎県西都市","452084"]
[null,null,null,null,"宮崎県えびの市","452092"]
[null,null,null,null,"宮崎県三股町","453412"]
[null,null,null,null,"宮崎県高原町","453617"]
[null,null,null,null,"宮崎県国富町","453820"]
[null,null,null,null,"宮崎県綾町","453838"]
[null,null,null,null,"宮崎県高鍋町","454010"]
[null,null,null,null,"宮崎県新富町","454028"]
[null,null,null,null,"宮崎県西米良村","454036"]
[null,null,null,null,"宮崎県木城町","454044"]
[null,null,null,null,"宮崎県川南町","454052"]
[null,null,null,null,"宮崎県都農町","454061"]
[null,null,null,null,"宮崎県門川町","454214"]
[null,null,null,null,"宮崎県諸塚村","454290"]
[null,null,null,null,"宮崎県椎葉村","454303"]
[null,null,null,null,"宮崎県美郷町","454311"]
[null,null,null,null,"宮崎県高千穂町","454419"]
[null,null,null,null,"宮崎県日之影町","454427"]
[null,null,null,null,"宮崎県五ヶ瀬町","454435"]
[null,null,null,null,"鹿児島県鹿児島市","462012"]
[null,null,null,null,"鹿児島県鹿屋市","462039"]
[null,null,null,null,"鹿児島県枕崎市","462047"]
[null,null,null,null,"鹿児島県阿久根市","462063"]
[null,null,null,null,"鹿児島県出水市","462080"]
[null,null,null,null,"鹿児島県指宿市","462101"]
[null,null,null,null,"鹿児島県西之表市","462136"]
[null,null,null,null,"鹿児島県垂水市","462144"]
[null,null,null,null,"鹿児島県薩摩川内市","462152"]
[null,null,null,null,"鹿児島県日置市","462161"]
[null,null,null,null,"鹿児島県曽於市","462179"]
[null,null,null,null,"鹿児島県霧島市","462187"]
[null,null,null,null,"鹿児島県いちき串木野市","462195"]
[null,null,null,null,"鹿児島県南さつま市","462209"]
[null,null,null,null,"鹿児島県志布志市","462217"]
[null,null,null,null,"鹿児島県奄美市","462225"]
[null,null,null,null,"鹿児島県南九州市","462233"]
[null,null,null,null,"鹿児島県伊佐市","462241"]
[null,null,null,null,"鹿児島県姶良市","462250"]
[null,null,null,null,"鹿児島県三島村","463035"]
[null,null,null,null,"鹿児島県十島村","463043"]
[null,null,null,null,"鹿児島県さつま町","463922"]
[null,null,null,null,"鹿児島県長島町","464040"]
[null,null,null,null,"鹿児島県湧水町","464520"]
[null,null,null,null,"鹿児島県大崎町","464686"]
[null,null,null,null,"鹿児島県東串良町","464821"]
[null,null,null,null,"鹿児島県錦江町","464902"]
[null,null,null,null,"鹿児島県南大隅町","464911"]
[null,null,null,null,"鹿児島県肝付町","464929"]
[null,null,null,null,"鹿児島県中種子町","465011"]
[null,null,null,null,"鹿児島県南種子町","465020"]
[null,null,null,null,"鹿児島県屋久島町","465054"]
[null,null,null,null,"鹿児島県大和村","465232"]
[null,null,null,null,"鹿児島県宇検村","465241"]
[null,null,null,null,"鹿児島県瀬戸内町","465259"]
[null,null,null,null,"鹿児島県龍郷町","465275"]
[null,null,null,null,"鹿児島県喜界町","465291"]
[null,null,null,null,"鹿児島県徳之島町","465305"]
[null,null,null,null,"鹿児島県天城町","465313"]
[null,null,null,null,"鹿児島県伊仙町","465321"]
[null,null,null,null,"鹿児島県和泊町","465330"]
[null,null,null,null,"鹿児島県知名町","465348"]
[null,null,null,null,"鹿児島県与論町","465356"]
[null,null,null,null,"沖縄県那覇市","472018"]
[null,null,null,null,"沖縄県宜野湾市","472051"]
[null,null,null,null,"沖縄県石垣市","472077"]
[null,null,null,null,"沖縄県浦添市","472085"]
[null,null,null,null,"沖縄県名護市","472093"]
[null,null,null,null,"沖縄県糸満市","472107"]
[null,null,null,null,"沖縄県沖縄市","472115"]
[null,null,null,null,"沖縄県豊見城市","472123"]
[null,null,null,null,"沖縄県うるま市","472131"]
[null,null,null,null,"沖縄県宮古島市","472140"]
[null,null,null,null,"沖縄県南城市","472158"]
[null,null,null,null,"沖縄県国頭村","473014"]
[null,null,null,null,"沖縄県大宜味村","473022"]
[null,null,null,null,"沖縄県東村","473031"]
[null,null,null,null,"沖縄県今帰仁村","473065"]
[null,null,null,null,"沖縄県本部町","473081"]
[null,null,null,null,"沖縄県恩納村","473111"]
[null,null,null,null,"沖縄県宜野座村","473138"]
[null,null,null,null,"沖縄県金武町","473146"]
[null,null,null,null,"沖縄県伊江村","473154"]
[null,null,null,null,"沖縄県読谷村","473243"]
[null,null,null,null,"沖縄県嘉手納町","473251"]
[null,null,null,null,"沖縄県北谷町","473260"]
[null,null,null,null,"沖縄県北中城村","473278"]
[null,null,null,null,"沖縄県中城村","473286"]
[null,null,null,null,"沖縄県西原町","473294"]
[null,null,null,null,"沖縄県与那原町","473481"]
[null,null,null,null,"沖縄県南風原町","473502"]
[null,null,null,null,"沖縄県渡嘉敷村","473537"]
[null,null,null,null,"沖縄県座間味村","473545"]
[null,null,null,null,"沖縄県粟国村","473553"]
[null,null,null,null,"沖縄県渡名喜村","473561"]
[null,null,null,null,"沖縄県南大東村","473570"]
[null,null,null,null,"沖縄県北大東村","473588"]
[null,null,null,null,"沖縄県伊平屋村","473596"]
[null,null,null,null,"沖縄県伊是名村","473600"]
[null,null,null,null,"沖縄県久米島町","473618"]
[null,null,null,null,"沖縄県八重瀬町","473626"]
[null,null,null,null,"沖縄県多良間村","473758"]
[null,null,null,null,"沖縄県竹富町","473812"]
[null,null,null,null,"沖縄県与那国町","473821"]
[]
[null,null,null,null,null,1741]

{"sheet":"★別紙2－1　総括表（触らない印刷のみ） ","index":10,"n_rows":37,"n_cols":150,"rows_kept":37,"cut":false,"hidden":false,"merged":[[0,19,0,32],[0,33,0,37],[0,38,0,76],[0,78,0,81],[0,82,0,85],[0,86,0,105],[0,106,0,125],[0,126,0,140],[0,142,0,143],[0,146,0,148],[3,19,3,29],[3,30,3,32],[3,38,3,76],[3,90,3,103],[3,111,3,123],[3,126,3,130],[3,131,3,135],[3,136,3,140],[36,3,36,6],[36,8,36,11],[36,18,36,23],[3,5,4,5],[3,6,4,6],[3,7,4,7],[3,11,4,11],[3,12,4,12],[3,13,4,13],[3,14,4,14],[3,16,4,16],[3,18,4,18],[3,83,4,83],[3,85,4,85],[3,86,4,86],[3,87,4,87],[3,88,4,88],[3,89,4,89],[3,104,4,104],[3,105,4,105]]}
[null,null,"県コード","都道府県","地方公共団体コード","事業No.","市町村\n（団体名）","交付金事業名","年度","新規・継続の別","昨年度\n事業No.",null,null,"交付金事業メニュー","交付率","本事業を実施する背景","事業の目的","期待される効果","事業の内容","地域自殺対策計画における項目",null,null,null,null,null,null,null,null,null,null,null,null,null,"該当する自殺総合対策大綱における当面の重点施策",null,null,null,null,"対象群",null,null,null,null,null,null,null,null,null,null,null,null,null,null,null,null,null,null,null,null,null,null,null,null,null,null,null,null,null,null,null,null,null,null,null,null,null,null,"取組区分","担当部署",null,null,null,"事業形態",null,null,null,"交付金所要額　※計画時に記入",null,null,null,null,null,null,null,null,null,null,null,null,null,null,null,null,null,null,null,"交付金所要額　※報告時に記入",null,null,null,null,null,null,null,null,null,null,null,null,null,null,null,null,null,null,null,"評価指標",null,null,null,null,null,null,null,null,null,null,null,null,null,null,"評価指標以外の勘案要素","評価",null,"今年度の取組を踏まえて課題として挙げられること","考えられる工夫","次年度の取組への反映",null,null,"備考"]
[null,null,null,null,null,"別紙２－１"]
[null,null,null,null,null,"高知県自殺対策強化事業（ひきこもり自律支援）実施計画総括表"]
[null,null,null,null,null,"事業No.","（団体）名","補助金申請\n事業名","年度","新規・継続の別","昨年度\n事業No.","新規・拡充・継続の別","補助金事業区分（要綱別表第２）","補助金事業細目\n（要綱別表第２）","補助率","本事業を実施する背景","事業の目的","期待される効果","事業の内容","政策パッケージでの分類",null,null,null,null,null,null,null,null,null,null,"該当する施策群",null,null,1,2,3,4,5,"対象群",null,null,null,null,null,null,null,null,null,null,null,null,null,null,null,null,null,null,null,null,null,null,null,null,null,null,null,null,null,null,null,null,null,null,null,null,null,null,null,"担当部署名","専任・併任の別","常勤職員人数","非常勤職員人数","委託","委託先","補助","補助先","総事業費(A)","寄付金その他の収入額(B)","差引(C=A-B)","基準額(D)","対象経費の支出予定額(E)",null,null,null,null,null,null,null,null,null,null,null,null,null,"補助基本額(F)","補助金所要額(G)","交付決定額","総事業費(A)","寄付金その他の収入額(B)","差引(C=A-B)","基準額(D)","対象経費の実支出額(E)",null,null,null,null,null,null,null,null,null,null,null,null,"交付基本額(F)","交付金所要額(G)","指標１",null,null,null,null,"指標２",null,null,null,null,"指標３",null,null,null,null,null,"評価区分","評価理由",null,null,null,"その他の内容","次年度の取組への反映まとめ"]
[null,null,null,null,null,null,null,null,null,null,null,null,null,null,null,null,null,null,null,"1　主分類","1　細分類","2　主分類","2　細分類","3　主分類","3　細分類","4　主分類","4　細分類","5　主分類","5　細分類","該当なしの場合に具体的に記入",null,"その他の場合に具体的に記入","該当する施策群まとめ",null,null,null,null,null,null,"主に男性/","主に女性/","性的マイノリティ等","性別","限定なし/","未成年者/","若年者/","稼働年齢層/","高齢者","年齢層","地域住民/","経営者/","自治体職員/","医療従事者/","教職員/","介護事業従事者/","介護者/","メディア関係者/","児童・生徒/","大学生・院生/","労働者/","非正規労働者/","失業者/","多重債務者/","生活困窮者/","妊産婦/","ひとり親家庭/","精神障害者/","精神障害以外の障害者/","ひきこもり/","自殺未遂者/","自死遺族等/","性暴力被害者/","被虐待児/","被災者/","その他/","その他　具体的内容","その他の\n属性",null,null,null,null,null,null,null,null,null,null,null,null,null,"報酬","賃金","給料","職員手当等","報償費","旅費","需用費","役務費","使用料・賃借料","工事費","備品\n購入費","委託料","負担金","合計",null,null,null,null,null,null,null,"報酬","賃金","報償費","旅費","需用費","役務費","使用料・賃借料","工事費","備品\n購入費","委託料","負担金","補助金等","計",null,null,"指標名","単位","目標値","実測値","備考","指標名","単位","目標値","実測値","備考","指標名","単位","目標値","実測値","備考"]
[null,null,1,2,3,5,4,6,7,8,9,null,null,10,11,12,13,14,15,16,17,18,19,20,21,22,23,24,25,26,27,28,29,30,31,32,33,34,35,36,37,38,39,40,41,42,43,44,45,46,47,48,49,50,51,52,53,54,55,56,57,58,59,60,61,62,63,64,65,66,67,68,69,70,71,72,73,74,75,76,77,78,79,80,81,82,83,84,85,86,87,88,89,90,91,92,null,null,93,94,95,96,97,99,100,101,104,105,106,107,108,109,110,111,112,113,114,115,116,117,118,119,120,121,122,123,124,125,126,127,128,129,130,131,132,133,134,135,136,137,138,139,140,141,142,143,144,145,146,147]
[null,{"$f":"IF(C7=\"\",\"\",1)","v":""},{"$f":"IF('[2]別紙２－２（事業1）'!$D$5=\"\",\"\",VLOOKUP(D7,[2]code!$A$1:$B$47,2,FALSE))","v":""},{"$f":"IF('[2]別紙２－２（事業1）'!$D$5=\"\",\"\",'[2]別紙２－２（事業1）'!$D$5)","v":""},{"$f":"IF('[2]別紙２－２（事業1）'!$K$5=\"\",\"\",VLOOKUP((D7&G7),[2]code!$E$1:$F$1741,2,FALSE))","v":""},1,{"$f":"'★別紙２-2（事業_1）'!K5","v":0},{"$f":"'★別紙２-2（事業_1）'!E8","v":0},{"$f":"IF('[2]別紙２－２（事業1）'!$D$8=\"\",\"\",'[2]別紙２－２（事業1）'!$D$8)","v":""},{"$f":"IF('[2]別紙２－２（事業1）'!$M$8=\"\",\"\",'[2]別紙２－２（事業1）'!$M$8)","v":""},{"$f":"IF('[2]別紙２－２（事業1）'!$U$8=\"\",\"\",'[2]別紙２－２（事業1）'!$U$8)","v":""},{"$f":"'★別紙２-2（事業_1）'!M9","v":0},{"$f":"'★別紙２-2（事業_1）'!L10","v":0},{"$f":"'★別紙２-2（事業_1）'!L11","v":0},"10/10",{"$f":"IF('[2]別紙２－２（事業1）'!$D$10=\"\",\"\",'[2]別紙２－２（事業1）'!$D$10)","v":""},{"$f":"'★別紙２-2（事業_1）'!D16","v":0},{"$f":"IF('[2]別紙２－２（事業1）'!$D$16=\"\",\"\",'[2]別紙２－２（事業1）'!$D$16)","v":""},{"$f":"'★別紙２-2（事業_1）'!D20","v":0},{"$f":"IF('[2]別紙２－２（事業1）'!$J$24=\"\",\"\",'[2]別紙２－２（事業1）'!$J$24)","v":""},{"$f":"IF('[2]別紙２－２（事業1）'!$O$24=\"\",\"\",'[2]別紙２－２（事業1）'!$O$24)","v":""},{"$f":"IF('[2]別紙２－２（事業1）'!$J$25=\"\",\"\",'[2]別紙２－２（事業1）'!$J$25)","v":""},{"$f":"IF('[2]別紙２－２（事業1）'!$O$25=\"\",\"\",'[2]別紙２－２（事業1）'!$O$25)","v":""},{"$f":"IF('[2]別紙２－２（事業1）'!$J$26=\"\",\"\",'[2]別紙２－２（事業1）'!$J$26)","v":""},{"$f":"IF('[2]別紙２－２（事業1）'!$O$26=\"\",\"\",'[2]別紙２－２（事業1）'!$O$26)","v":""},{"$f":"IF('[2]別紙２－２（事業1）'!$J$27=\"\",\"\",'[2]別紙２－２（事業1）'!$J$27)","v":""},{"$f":"IF('[2]別紙２－２（事業1）'!$O$27=\"\",\"\",'[2]別紙２－２（事業1）'!$O$27)","v":""},{"$f":"IF('[2]別紙２－２（事業1）'!$J$28=\"\",\"\",'[2]別紙２－２（事業1）'!$J$28)","v":""},{"$f":"IF('[2]別紙２－２（事業1）'!$O$28=\"\",\"\",'[2]別紙２－２（事業1）'!$O$28)","v":""},{"$f":"IF('[2]別紙２－２（事業1）'!$H$29=\"\",\"\",'[2]別紙２－２（事業1）'!$H$29)","v":""},{"$f":"IF('[2]別紙２－２（事業1）'!$H$32=\"\",\"\",'[2]別紙２－２（事業1）'!$H$32)","v":""},{"$f":"IF('[2]別紙２－２（事業1）'!$L$33=\"\",\"\",'[2]別紙２－２（事業1）'!$L$33)","v":""},{"$f":"CONCATENATE(IF(AE7=\"その他\",CONCATENATE(\"その他（\",AF7,\"）\"),AE7))","v":""},{"$f":"IF('[2]別紙２－２（事業1）'!$E$34=\"\",\"\",'[2]別紙２－２（事業1）'!$E$34)","v":""},{"$f":"IF('[2]別紙２－２（事業1）'!$E$35=\"\",\"\",'[2]別紙２－２（事業1）'!$E$35)","v":""},{"$f":"IF('[2]別紙２－２（事業1）'!$E$36=\"\",\"\",'[2]別紙２－２（事業1）'!$E$36)","v":""},{"$f":"IF('[2]別紙２－２（事業1）'!$E$37=\"\",\"\",'[2]別紙２－２（事業1）'!$E$37)","v":""},{"$f":"IF('[2]別紙２－２（事業1）'!$E$38=\"\",\"\",'[2]別紙２－２（事業1）'!$E$38)","v":""},{"$f":"'[2]別紙２－２（事業1）'!$D$39","v":"☐"},{"$f":"'[2]別紙２－２（事業1）'!$I$39","v":"☐"},{"$f":"'[2]別紙２－２（事業1）'!$M$39","v":"☐"},{"$f":"'[2]別紙２－２（事業1）'!$Q$39","v":"☐"},{"$f":"CONCATENATE(IF(AM7=\"☑\",AM$5,\"\"),IF(AN7=\"☑\",AN$5,\"\"),IF(AO7=\"☑\",AO$5,\"\"),IF(AP7=\"☑\",AP$5,\"\"))","v":""},{"$f":"'[2]別紙２－２（事業1）'!$D$40","v":"☐"},{"$f":"'[2]別紙２－２（事業1）'!$I$40","v":"☐"},{"$f":"'[2]別紙２－２（事業1）'!$M$40","v":"☐"},{"$f":"'[2]別紙２－２（事業1）'!$Q$40","v":"☐"},{"$f":"'[2]別紙２－２（事業1）'!$U$40","v":"☐"},{"$f":"CONCATENATE(IF(AR7=\"☑\",AR$5,\"\"),IF(AS7=\"☑\",AS$5,\"\"),IF(AT7=\"☑\",AT$5,\"\"),IF(AU7=\"☑\",AU$5,\"\"),IF(AV7=\"☑\",AV$5,\"\"))","v":""},{"$f":"'[2]別紙２－２（事業1）'!$C$41","v":"☐"},{"$f":"'[2]別紙２－２（事業1）'!$H$41","v":"☐"},{"$f":"'[2]別紙２－２（事業1）'!$M$41","v":"☐"},{"$f":"'[2]別紙２－２（事業1）'!$R$41","v":"☐"},{"$f":"'[2]別紙２－２（事業1）'!$C$42","v":"☐"},{"$f":"'[2]別紙２－２（事業1）'!$H$42","v":"☐"},{"$f":"'[2]別紙２－２（事業1）'!$M$42","v":"☐"},{"$f":"'[2]別紙２－２（事業1）'!$R$42","v":"☐"},{"$f":"'[2]別紙２－２（事業1）'!$C$43","v":"☐"},{"$f":"'[2]別紙２－２（事業1）'!$H$43","v":"☐"},{"$f":"'[2]別紙２－２（事業1）'!$M$43","v":"☐"},{"$f":"'[2]別紙２－２（事業1）'!$R$43","v":"☐"},{"$f":"'[2]別紙２－２（事業1）'!$C$44","v":"☐"},{"$f":"'[2]別紙２－２（事業1）'!$H$44","v":"☐"},{"$f":"'[2]別紙２－２（事業1）'!$M$44","v":"☐"},{"$f":"'[2]別紙２－２（事業1）'!$R$44","v":"☐"},{"$f":"'[2]別紙２－２（事業1）'!$C$45","v":"☐"},{"$f":"'[2]別紙２－２（事業1）'!$H$45","v":"☐"},{"$f":"'[2]別紙２－２（事業1）'!$M$45","v":"☐"},{"$f":"'[2]別紙２－２（事業1）'!$C$46","v":"☐"},{"$f":"'[2]別紙２－２（事業1）'!$H$46","v":"☐"},{"$f":"'[2]別紙２－２（事業1）'!$M$46","v":"☐"},{"$f":"'[2]別紙２－２（事業1）'!$R$46","v":"☐"},{"$f":"'[2]別紙２－２（事業1）'!$C$47","v":"☐"},{"$f":"'[2]別紙２－２（事業1）'!$H$47","v":"☐"},{"$f":"'[2]別紙２－２（事業1）'!$M$47","v":"☐"},{"$f":"IF('[2]別紙２－２（事業1）'!$Q$47=\"\",\"\",'[2]別紙２－２（事業1）'!$Q$47)","v":""},{"$f":"CONCATENATE(IF(AX7=\"☑\",AX$5,\"\"),IF(AY7=\"☑\",AY$5,\"\"),IF(AZ7=\"☑\",AZ$5,\"\"),IF(BA7=\"☑\",BA$5,\"\"),IF(BB7=\"☑\",BB$5,\"\"),IF(BC7=\"☑\",BC$5,\"\"),IF(BD7=\"☑\",BD$5,\"\"),IF(BE7=\"☑\",BE$5,\"\"),IF(BF7=\"☑\",BF$5,\"\"),IF(BG7=\"☑\",BG$5,\"\"),IF(BH7=\"☑\",BH$5,\"\"),IF(BI7=\"☑\",BI$5,\"\"),IF(BJ7=\"☑\",BJ$5,\"\"),IF(BK7=\"☑\",BK$5,\"\"),IF(BL7=\"☑\",BL$5,\"\"),IF(BM7=\"☑\",BM$5,\"\"),IF(BN7=\"☑\",BN$5,\"\"),IF(BO7=\"☑\",BO$5,\"\"),IF(BP7=\"☑\",BP$5,\"\"),IF(BQ7=\"☑\",BQ$5,\"\"),IF(BR7=\"☑\",BR$5,\"\"),IF(BS7=\"☑\",BS$5,\"\"),IF(BT7=\"☑\",BT$5,\"\"),IF(BU7=\"☑\",BU$5,\"\"),IF(BV7=\"☑\",BV$5,\"\"),IF(BW7=\"☑\",BW$5,\"\"),IF(BX7=\"☑\",BX$5,\"\"),BX7)","v":""},{"$f":"IF('[2]別紙２－２（事業1）'!$D$48=\"\",\"\",'[2]別紙２－２（事業1）'!$D$48)","v":""},{"$f":"IF('[2]別紙２－２（事業1）'!$F$49=\"\",\"\",'[2]別紙２－２（事業1）'!$F$49)","v":""},{"$f":"IF('[2]別紙２－２（事業1）'!$V$49=\"\",\"\",'[2]別紙２－２（事業1）'!$V$49)","v":""},{"$f":"IF('[2]別紙２－２（事業1）'!$G$50=\"\",\"\",'[2]別紙２－２（事業1）'!$G$50)","v":""},{"$f":"IF('[2]別紙２－２（事業1）'!$N$50=\"\",\"\",'[2]別紙２－２（事業1）'!$N$50)","v":""},{"$f":"'[2]別紙２－２（事業1）'!$D$51","v":"☐"},{"$f":"'★別紙２-2（事業_1）'!K43","v":0},{"$f":"'[2]別紙２－２（事業1）'!$D$52","v":"☐"},{"$f":"'★別紙２-2（事業_1）'!K44","v":0},{"$f":"'★別紙２-2（事業_1）'!F45","v":0},{"$f":"'★別紙２-2（事業_1）'!S45","v":0},{"$f":"CI7-CJ7","v":0},{"$f":"'★別紙２-2（事業_1）'!S46","v":0},{"$f":"'★別紙２-2（事業_1）'!E48","v":0},{"$f":"'★別紙２-2（事業_1）'!J48","v":0},{"$f":"'★別紙２-2（事業_1）'!O48","v":0},{"$f":"'★別紙２-2（事業_1）'!T48","v":0},{"$f":"'★別紙２-2（事業_1）'!E50","v":0},{"$f":"'★別紙２-2（事業_1）'!J50","v":0},{"$f":"'★別紙２-2（事業_1）'!O50","v":0},{"$f":"'★別紙２-2（事業_1）'!T50","v":0},{"$f":"'★別紙２-2（事業_1）'!E52","v":0},{"$f":"'★別紙２-2（事業_1）'!J52","v":0},{"$f":"'★別紙２-2（事業_1）'!O52","v":0},{"$f":"'★別紙２-2（事業_1）'!T52","v":0},{"$f":"'★別紙２-2（事業_1）'!E54","v":0},{"$f":"SUM(CM7:CY7)","v":0},{"$f":"'★別紙２-2（事業_1）'!F55","v":0},{"$f":"'★別紙２-2（事業_1）'!O55","v":0},null,null,null,null,null,null,null,null,null,null,null,null,null,null,null,null,null,null,null,null,{"$f":"IF('[2]別紙２－２（事業1）'!$E$64=\"\",\"\",'[2]別紙２－２（事業1）'!$E$64)","v":""},{"$f":"IF('[2]別紙２－２（事業1）'!$J$65=\"\",\"\",'[2]別紙２－２（事業1）'!$J$65)","v":""},{"$f":"IF('[2]別紙２－２（事業1）'!$E$65=\"\",\"\",'[2]別紙２－２（事業1）'!$E$65)","v":""},null,{"$f":"IF('[2]別紙２－２（事業1）'!$E$66=\"\",\"\",'[2]別紙２－２（事業1）'!$E$66)","v":""},{"$f":"IF('[2]別紙２－２（事業1）'!$E$67=\"\",\"\",'[2]別紙２－２（事業1）'!$E$67)","v":""},{"$f":"IF('[2]別紙２－２（事業1）'!$J$68=\"\",\"\",'[2]別紙２－２（事業1）'!$J$68)","v":""},{"$f":"IF('[2]別紙２－２（事業1）'!$E$68=\"\",\"\",'[2]別紙２－２（事業1）'!$E$68)","v":""},null,{"$f":"IF('[2]別紙２－２（事業1）'!$E$69=\"\",\"\",'[2]別紙２－２（事業1）'!$E$69)","v":""},{"$f":"IF('[2]別紙２－２（事業1）'!$E$70=\"\",\"\",'[2]別紙２－２（事業1）'!$E$70)","v":""},{"$f":"IF('[2]別紙２－２（事業1）'!$J$71=\"\",\"\",'[2]別紙２－２（事業1）'!$J$71)","v":""},{"$f":"IF('[2]別紙２－２（事業1）'!$E$71=\"\",\"\",'[2]別紙２－２（事業1）'!$E$71)","v":""},null,{"$f":"IF('[2]別紙２－２（事業1）'!$E$72=\"\",\"\",'[2]別紙２－２（事業1）'!$E$72)","v":""},null,null,null,null,null,null,null,{"$f":"CONCATENATE(IF(EQ7=\"5. その他\",CONCATENATE(\"5. その他（\",ER7,\"）\"),EQ7))","v":""},{"$f":"IF('[2]別紙２－２（事業1）'!$D$73=\"\",\"\",'[2]別紙２－２（事業1）'!$D$73)","v":""}]
[null,{"$f":"IF(C8=\"\",\"\",1)","v":""},{"$f":"IF([2]事業_2!$D$5=\"\",\"\",VLOOKUP(D8,[2]code!$A$1:$B$47,2,FALSE))","v":""},{"$f":"IF([2]事業_2!$D$5=\"\",\"\",[2]事業_2!$D$5)","v":""},{"$f":"IF([2]事業_2!$K$5=\"\",\"\",VLOOKUP((D8&G8),[2]code!$E$1:$F$1741,2,FALSE))","v":""},2,{"$f":"'★別紙２-2（事業_1）'!K5","v":0},{"$f":"'★事業２'!E8","v":0},{"$f":"IF('[2]別紙２－２（事業1）'!$D$8=\"\",\"\",'[2]別紙２－２（事業1）'!$D$8)","v":""},{"$f":"IF('[2]別紙２－２（事業1）'!$M$8=\"\",\"\",'[2]別紙２－２（事業1）'!$M$8)","v":""},{"$f":"IF('[2]別紙２－２（事業1）'!$U$8=\"\",\"\",'[2]別紙２－２（事業1）'!$U$8)","v":""},{"$f":"'★事業２'!M9","v":0},{"$f":"'★事業２'!L10","v":0},{"$f":"'★事業２'!L11","v":0},"10/10",{"$f":"IF('[2]別紙２－２（事業1）'!$D$10=\"\",\"\",'[2]別紙２－２（事業1）'!$D$10)","v":""},{"$f":"'★事業２'!D16","v":0},{"$f":"IF('[2]別紙２－２（事業1）'!$D$16=\"\",\"\",'[2]別紙２－２（事業1）'!$D$16)","v":""},{"$f":"'★事業２'!D20","v":0},{"$f":"IF('[2]別紙２－２（事業1）'!$J$24=\"\",\"\",'[2]別紙２－２（事業1）'!$J$24)","v":""},{"$f":"IF('[2]別紙２－２（事業1）'!$O$24=\"\",\"\",'[2]別紙２－２（事業1）'!$O$24)","v":""},{"$f":"IF('[2]別紙２－２（事業1）'!$J$25=\"\",\"\",'[2]別紙２－２（事業1）'!$J$25)","v":""},{"$f":"IF('[2]別紙２－２（事業1）'!$O$25=\"\",\"\",'[2]別紙２－２（事業1）'!$O$25)","v":""},{"$f":"IF('[2]別紙２－２（事業1）'!$J$26=\"\",\"\",'[2]別紙２－２（事業1）'!$J$26)","v":""},{"$f":"IF('[2]別紙２－２（事業1）'!$O$26=\"\",\"\",'[2]別紙２－２（事業1）'!$O$26)","v":""},{"$f":"IF('[2]別紙２－２（事業1）'!$J$27=\"\",\"\",'[2]別紙２－２（事業1）'!$J$27)","v":""},{"$f":"IF('[2]別紙２－２（事業1）'!$O$27=\"\",\"\",'[2]別紙２－２（事業1）'!$O$27)","v":""},{"$f":"IF('[2]別紙２－２（事業1）'!$J$28=\"\",\"\",'[2]別紙２－２（事業1）'!$J$28)","v":""},{"$f":"IF('[2]別紙２－２（事業1）'!$O$28=\"\",\"\",'[2]別紙２－２（事業1）'!$O$28)","v":""},{"$f":"IF('[2]別紙２－２（事業1）'!$H$29=\"\",\"\",'[2]別紙２－２（事業1）'!$H$29)","v":""},{"$f":"IF('[2]別紙２－２（事業1）'!$H$32=\"\",\"\",'[2]別紙２－２（事業1）'!$H$32)","v":""},{"$f":"IF('[2]別紙２－２（事業1）'!$L$33=\"\",\"\",'[2]別紙２－２（事業1）'!$L$33)","v":""},{"$f":"CONCATENATE(IF(AE8=\"その他\",CONCATENATE(\"その他（\",AF8,\"）\"),AE8))","v":""},{"$f":"IF('[2]別紙２－２（事業1）'!$E$34=\"\",\"\",'[2]別紙２－２（事業1）'!$E$34)","v":""},{"$f":"IF('[2]別紙２－２（事業1）'!$E$35=\"\",\"\",'[2]別紙２－２（事業1）'!$E$35)","v":""},{"$f":"IF('[2]別紙２－２（事業1）'!$E$36=\"\",\"\",'[2]別紙２－２（事業1）'!$E$36)","v":""},{"$f":"IF('[2]別紙２－２（事業1）'!$E$37=\"\",\"\",'[2]別紙２－２（事業1）'!$E$37)","v":""},{"$f":"IF('[2]別紙２－２（事業1）'!$E$38=\"\",\"\",'[2]別紙２－２（事業1）'!$E$38)","v":""},{"$f":"'[2]別紙２－２（事業1）'!$D$39","v":"☐"},{"$f":"'[2]別紙２－２（事業1）'!$I$39","v":"☐"},{"$f":"'[2]別紙２－２（事業1）'!$M$39","v":"☐"},{"$f":"'[2]別紙２－２（事業1）'!$Q$39","v":"☐"},{"$f":"CONCATENATE(IF(AM8=\"☑\",AM$5,\"\"),IF(AN8=\"☑\",AN$5,\"\"),IF(AO8=\"☑\",AO$5,\"\"),IF(AP8=\"☑\",AP$5,\"\"))","v":""},{"$f":"'[2]別紙２－２（事業1）'!$D$40","v":"☐"},{"$f":"'[2]別紙２－２（事業1）'!$I$40","v":"☐"},{"$f":"'[2]別紙２－２（事業1）'!$M$40","v":"☐"},{"$f":"'[2]別紙２－２（事業1）'!$Q$40","v":"☐"},{"$f":"'[2]別紙２－２（事業1）'!$U$40","v":"☐"},{"$f":"CONCATENATE(IF(AR8=\"☑\",AR$5,\"\"),IF(AS8=\"☑\",AS$5,\"\"),IF(AT8=\"☑\",AT$5,\"\"),IF(AU8=\"☑\",AU$5,\"\"),IF(AV8=\"☑\",AV$5,\"\"))","v":""},{"$f":"'[2]別紙２－２（事業1）'!$C$41","v":"☐"},{"$f":"'[2]別紙２－２（事業1）'!$H$41","v":"☐"},{"$f":"'[2]別紙２－２（事業1）'!$M$41","v":"☐"},{"$f":"'[2]別紙２－２（事業1）'!$R$41","v":"☐"},{"$f":"'[2]別紙２－２（事業1）'!$C$42","v":"☐"},{"$f":"'[2]別紙２－２（事業1）'!$H$42","v":"☐"},{"$f":"'[2]別紙２－２（事業1）'!$M$42","v":"☐"},{"$f":"'[2]別紙２－２（事業1）'!$R$42","v":"☐"},{"$f":"'[2]別紙２－２（事業1）'!$C$43","v":"☐"},{"$f":"'[2]別紙２－２（事業1）'!$H$43","v":"☐"},{"$f":"'[2]別紙２－２（事業1）'!$M$43","v":"☐"},{"$f":"'[2]別紙２－２（事業1）'!$R$43","v":"☐"},{"$f":"'[2]別紙２－２（事業1）'!$C$44","v":"☐"},{"$f":"'[2]別紙２－２（事業1）'!$H$44","v":"☐"},{"$f":"'[2]別紙２－２（事業1）'!$M$44","v":"☐"},{"$f":"'[2]別紙２－２（事業1）'!$R$44","v":"☐"},{"$f":"'[2]別紙２－２（事業1）'!$C$45","v":"☐"},{"$f":"'[2]別紙２－２（事業1）'!$H$45","v":"☐"},{"$f":"'[2]別紙２－２（事業1）'!$M$45","v":"☐"},{"$f":"'[2]別紙２－２（事業1）'!$C$46","v":"☐"},{"$f":"'[2]別紙２－２（事業1）'!$H$46","v":"☐"},{"$f":"'[2]別紙２－２（事業1）'!$M$46","v":"☐"},{"$f":"'[2]別紙２－２（事業1）'!$R$46","v":"☐"},{"$f":"'[2]別紙２－２（事業1）'!$C$47","v":"☐"},{"$f":"'[2]別紙２－２（事業1）'!$H$47","v":"☐"},{"$f":"'[2]別紙２－２（事業1）'!$M$47","v":"☐"},{"$f":"IF('[2]別紙２－２（事業1）'!$Q$47=\"\",\"\",'[2]別紙２－２（事業1）'!$Q$47)","v":""},{"$f":"CONCATENATE(IF(AX8=\"☑\",AX$5,\"\"),IF(AY8=\"☑\",AY$5,\"\"),IF(AZ8=\"☑\",AZ$5,\"\"),IF(BA8=\"☑\",BA$5,\"\"),IF(BB8=\"☑\",BB$5,\"\"),IF(BC8=\"☑\",BC$5,\"\"),IF(BD8=\"☑\",BD$5,\"\"),IF(BE8=\"☑\",BE$5,\"\"),IF(BF8=\"☑\",BF$5,\"\"),IF(BG8=\"☑\",BG$5,\"\"),IF(BH8=\"☑\",BH$5,\"\"),IF(BI8=\"☑\",BI$5,\"\"),IF(BJ8=\"☑\",BJ$5,\"\"),IF(BK8=\"☑\",BK$5,\"\"),IF(BL8=\"☑\",BL$5,\"\"),IF(BM8=\"☑\",BM$5,\"\"),IF(BN8=\"☑\",BN$5,\"\"),IF(BO8=\"☑\",BO$5,\"\"),IF(BP8=\"☑\",BP$5,\"\"),IF(BQ8=\"☑\",BQ$5,\"\"),IF(BR8=\"☑\",BR$5,\"\"),IF(BS8=\"☑\",BS$5,\"\"),IF(BT8=\"☑\",BT$5,\"\"),IF(BU8=\"☑\",BU$5,\"\"),IF(BV8=\"☑\",BV$5,\"\"),IF(BW8=\"☑\",BW$5,\"\"),IF(BX8=\"☑\",BX$5,\"\"),BX8)","v":""},{"$f":"IF('[2]別紙２－２（事業1）'!$D$48=\"\",\"\",'[2]別紙２－２（事業1）'!$D$48)","v":""},{"$f":"IF('[2]別紙２－２（事業1）'!$F$49=\"\",\"\",'[2]別紙２－２（事業1）'!$F$49)","v":""},{"$f":"IF('[2]別紙２－２（事業1）'!$V$49=\"\",\"\",'[2]別紙２－２（事業1）'!$V$49)","v":""},{"$f":"IF('[2]別紙２－２（事業1）'!$G$50=\"\",\"\",'[2]別紙２－２（事業1）'!$G$50)","v":""},{"$f":"IF('[2]別紙２－２（事業1）'!$N$50=\"\",\"\",'[2]別紙２－２（事業1）'!$N$50)","v":""},{"$f":"'[2]別紙２－２（事業1）'!$D$51","v":"☐"},{"$f":"'★別紙２-2（事業_1）'!K44","v":0},{"$f":"'[2]別紙２－２（事業1）'!$D$52","v":"☐"},{"$f":"'★別紙２-2（事業_1）'!K45","v":"円"},{"$f":"'★事業２'!F45","v":0},{"$f":"'★事業２'!S45","v":0},{"$f":"CI8-CJ8","v":0},{"$f":"'★事業２'!$S$46","v":0},{"$f":"'★事業２'!$E$48","v":0},{"$f":"'★事業２'!$J$48","v":0},{"$f":"'★事業２'!$O$48","v":0},{"$f":"'★事業２'!$T$48","v":0},{"$f":"'★事業２'!$E$50","v":0},{"$f":"'★事業２'!$J$50","v":0},{"$f":"'★事業２'!$O$50","v":0},{"$f":"'★事業２'!$T$50","v":0},{"$f":"'★事業２'!$E$52","v":0},{"$f":"'★事業２'!$J$52","v":0},{"$f":"'★事業２'!$O$52","v":0},{"$f":"'★事業２'!$T$52","v":0},{"$f":"'★事業２'!$E$54","v":0},{"$f":"SUM(CM8:CY8)","v":0},{"$f":"'★事業２'!$F$55","v":0},{"$f":"'★事業２'!$O$55","v":0},null,null,null,null,null,null,null,null,null,null,null,null,null,null,null,null,null,null,null,null,{"$f":"IF([2]事業_2!$E$64=\"\",\"\",[2]事業_2!$E$64)","v":""},{"$f":"IF([2]事業_2!$J$65=\"\",\"\",[2]事業_2!$J$65)","v":""},{"$f":"IF([2]事業_2!$E$65=\"\",\"\",[2]事業_2!$E$65)","v":""},null,{"$f":"IF([2]事業_2!$E$66=\"\",\"\",[2]事業_2!$E$66)","v":""},{"$f":"IF([2]事業_2!$E$67=\"\",\"\",[2]事業_2!$E$67)","v":""},{"$f":"IF([2]事業_2!$J$68=\"\",\"\",[2]事業_2!$J$68)","v":""},{"$f":"IF([2]事業_2!$E$68=\"\",\"\",[2]事業_2!$E$68)","v":""},null,{"$f":"IF([2]事業_2!$E$69=\"\",\"\",[2]事業_2!$E$69)","v":""},{"$f":"IF([2]事業_2!$E$70=\"\",\"\",[2]事業_2!$E$70)","v":""},{"$f":"IF([2]事業_2!$J$71=\"\",\"\",[2]事業_2!$J$71)","v":""},{"$f":"IF([2]事業_2!$E$71=\"\",\"\",[2]事業_2!$E$71)","v":""},null,{"$f":"IF([2]事業_2!$E$72=\"\",\"\",[2]事業_2!$E$72)","v":""},null,null,null,null,null,null,null,{"$f":"CONCATENATE(IF(EQ8=\"5. その他\",CONCATENATE(\"5. その他（\",ER8,\"）\"),EQ8))","v":""},{"$f":"IF([2]事業_2!$D$73=\"\",\"\",[2]事業_2!$D$73)","v":""}]
[null,{"$f":"IF(C9=\"\",\"\",1)","v":""},{"$f":"IF([2]事業_3!$D$5=\"\",\"\",VLOOKUP(D9,[2]code!$A$1:$B$47,2,FALSE))","v":""},{"$f":"IF([2]事業_3!$D$5=\"\",\"\",[2]事業_3!$D$5)","v":""},{"$f":"IF([2]事業_3!$K$5=\"\",\"\",VLOOKUP((D9&G9),[2]code!$E$1:$F$1741,2,FALSE))","v":""},3,{"$f":"'★別紙２-2（事業_1）'!K5","v":0},{"$f":"'★事業３'!E8","v":0},{"$f":"IF('[2]別紙２－２（事業1）'!$D$8=\"\",\"\",'[2]別紙２－２（事業1）'!$D$8)","v":""},{"$f":"IF('[2]別紙２－２（事業1）'!$M$8=\"\",\"\",'[2]別紙２－２（事業1）'!$M$8)","v":""},{"$f":"IF('[2]別紙２－２（事業1）'!$U$8=\"\",\"\",'[2]別紙２－２（事業1）'!$U$8)","v":""},{"$f":"'★事業３'!M9","v":0},{"$f":"'★事業３'!L10","v":0},{"$f":"'★事業３'!L11","v":0},"10/10",{"$f":"IF('[2]別紙２－２（事業1）'!$D$10=\"\",\"\",'[2]別紙２－２（事業1）'!$D$10)","v":""},{"$f":"'★事業３'!D16","v":0},{"$f":"IF('[2]別紙２－２（事業1）'!$D$16=\"\",\"\",'[2]別紙２－２（事業1）'!$D$16)","v":""},{"$f":"'★事業３'!D20","v":0},{"$f":"IF('[2]別紙２－２（事業1）'!$J$24=\"\",\"\",'[2]別紙２－２（事業1）'!$J$24)","v":""},{"$f":"IF('[2]別紙２－２（事業1）'!$O$24=\"\",\"\",'[2]別紙２－２（事業1）'!$O$24)","v":""},{"$f":"IF('[2]別紙２－２（事業1）'!$J$25=\"\",\"\",'[2]別紙２－２（事業1）'!$J$25)","v":""},{"$f":"IF('[2]別紙２－２（事業1）'!$O$25=\"\",\"\",'[2]別紙２－２（事業1）'!$O$25)","v":""},{"$f":"IF('[2]別紙２－２（事業1）'!$J$26=\"\",\"\",'[2]別紙２－２（事業1）'!$J$26)","v":""},{"$f":"IF('[2]別紙２－２（事業1）'!$O$26=\"\",\"\",'[2]別紙２－２（事業1）'!$O$26)","v":""},{"$f":"IF('[2]別紙２－２（事業1）'!$J$27=\"\",\"\",'[2]別紙２－２（事業1）'!$J$27)","v":""},{"$f":"IF('[2]別紙２－２（事業1）'!$O$27=\"\",\"\",'[2]別紙２－２（事業1）'!$O$27)","v":""},{"$f":"IF('[2]別紙２－２（事業1）'!$J$28=\"\",\"\",'[2]別紙２－２（事業1）'!$J$28)","v":""},{"$f":"IF('[2]別紙２－２（事業1）'!$O$28=\"\",\"\",'[2]別紙２－２（事業1）'!$O$28)","v":""},{"$f":"IF('[2]別紙２－２（事業1）'!$H$29=\"\",\"\",'[2]別紙２－２（事業1）'!$H$29)","v":""},{"$f":"IF('[2]別紙２－２（事業1）'!$H$32=\"\",\"\",'[2]別紙２－２（事業1）'!$H$32)","v":""},{"$f":"IF('[2]別紙２－２（事業1）'!$L$33=\"\",\"\",'[2]別紙２－２（事業1）'!$L$33)","v":""},{"$f":"CONCATENATE(IF(AE9=\"その他\",CONCATENATE(\"その他（\",AF9,\"）\"),AE9))","v":""},{"$f":"IF('[2]別紙２－２（事業1）'!$E$34=\"\",\"\",'[2]別紙２－２（事業1）'!$E$34)","v":""},{"$f":"IF('[2]別紙２－２（事業1）'!$E$35=\"\",\"\",'[2]別紙２－２（事業1）'!$E$35)","v":""},{"$f":"IF('[2]別紙２－２（事業1）'!$E$36=\"\",\"\",'[2]別紙２－２（事業1）'!$E$36)","v":""},{"$f":"IF('[2]別紙２－２（事業1）'!$E$37=\"\",\"\",'[2]別紙２－２（事業1）'!$E$37)","v":""},{"$f":"IF('[2]別紙２－２（事業1）'!$E$38=\"\",\"\",'[2]別紙２－２（事業1）'!$E$38)","v":""},{"$f":"'[2]別紙２－２（事業1）'!$D$39","v":"☐"},{"$f":"'[2]別紙２－２（事業1）'!$I$39","v":"☐"},{"$f":"'[2]別紙２－２（事業1）'!$M$39","v":"☐"},{"$f":"'[2]別紙２－２（事業1）'!$Q$39","v":"☐"},{"$f":"CONCATENATE(IF(AM9=\"☑\",AM$5,\"\"),IF(AN9=\"☑\",AN$5,\"\"),IF(AO9=\"☑\",AO$5,\"\"),IF(AP9=\"☑\",AP$5,\"\"))","v":""},{"$f":"'[2]別紙２－２（事業1）'!$D$40","v":"☐"},{"$f":"'[2]別紙２－２（事業1）'!$I$40","v":"☐"},{"$f":"'[2]別紙２－２（事業1）'!$M$40","v":"☐"},{"$f":"'[2]別紙２－２（事業1）'!$Q$40","v":"☐"},{"$f":"'[2]別紙２－２（事業1）'!$U$40","v":"☐"},{"$f":"CONCATENATE(IF(AR9=\"☑\",AR$5,\"\"),IF(AS9=\"☑\",AS$5,\"\"),IF(AT9=\"☑\",AT$5,\"\"),IF(AU9=\"☑\",AU$5,\"\"),IF(AV9=\"☑\",AV$5,\"\"))","v":""},{"$f":"'[2]別紙２－２（事業1）'!$C$41","v":"☐"},{"$f":"'[2]別紙２－２（事業1）'!$H$41","v":"☐"},{"$f":"'[2]別紙２－２（事業1）'!$M$41","v":"☐"},{"$f":"'[2]別紙２－２（事業1）'!$R$41","v":"☐"},{"$f":"'[2]別紙２－２（事業1）'!$C$42","v":"☐"},{"$f":"'[2]別紙２－２（事業1）'!$H$42","v":"☐"},{"$f":"'[2]別紙２－２（事業1）'!$M$42","v":"☐"},{"$f":"'[2]別紙２－２（事業1）'!$R$42","v":"☐"},{"$f":"'[2]別紙２－２（事業1）'!$C$43","v":"☐"},{"$f":"'[2]別紙２－２（事業1）'!$H$43","v":"☐"},{"$f":"'[2]別紙２－２（事業1）'!$M$43","v":"☐"},{"$f":"'[2]別紙２－２（事業1）'!$R$43","v":"☐"},{"$f":"'[2]別紙２－２（事業1）'!$C$44","v":"☐"},{"$f":"'[2]別紙２－２（事業1）'!$H$44","v":"☐"},{"$f":"'[2]別紙２－２（事業1）'!$M$44","v":"☐"},{"$f":"'[2]別紙２－２（事業1）'!$R$44","v":"☐"},{"$f":"'[2]別紙２－２（事業1）'!$C$45","v":"☐"},{"$f":"'[2]別紙２－２（事業1）'!$H$45","v":"☐"},{"$f":"'[2]別紙２－２（事業1）'!$M$45","v":"☐"},{"$f":"'[2]別紙２－２（事業1）'!$C$46","v":"☐"},{"$f":"'[2]別紙２－２（事業1）'!$H$46","v":"☐"},{"$f":"'[2]別紙２－２（事業1）'!$M$46","v":"☐"},{"$f":"'[2]別紙２－２（事業1）'!$R$46","v":"☐"},{"$f":"'[2]別紙２－２（事業1）'!$C$47","v":"☐"},{"$f":"'[2]別紙２－２（事業1）'!$H$47","v":"☐"},{"$f":"'[2]別紙２－２（事業1）'!$M$47","v":"☐"},{"$f":"IF('[2]別紙２－２（事業1）'!$Q$47=\"\",\"\",'[2]別紙２－２（事業1）'!$Q$47)","v":""},{"$f":"CONCATENATE(IF(AX9=\"☑\",AX$5,\"\"),IF(AY9=\"☑\",AY$5,\"\"),IF(AZ9=\"☑\",AZ$5,\"\"),IF(BA9=\"☑\",BA$5,\"\"),IF(BB9=\"☑\",BB$5,\"\"),IF(BC9=\"☑\",BC$5,\"\"),IF(BD9=\"☑\",BD$5,\"\"),IF(BE9=\"☑\",BE$5,\"\"),IF(BF9=\"☑\",BF$5,\"\"),IF(BG9=\"☑\",BG$5,\"\"),IF(BH9=\"☑\",BH$5,\"\"),IF(BI9=\"☑\",BI$5,\"\"),IF(BJ9=\"☑\",BJ$5,\"\"),IF(BK9=\"☑\",BK$5,\"\"),IF(BL9=\"☑\",BL$5,\"\"),IF(BM9=\"☑\",BM$5,\"\"),IF(BN9=\"☑\",BN$5,\"\"),IF(BO9=\"☑\",BO$5,\"\"),IF(BP9=\"☑\",BP$5,\"\"),IF(BQ9=\"☑\",BQ$5,\"\"),IF(BR9=\"☑\",BR$5,\"\"),IF(BS9=\"☑\",BS$5,\"\"),IF(BT9=\"☑\",BT$5,\"\"),IF(BU9=\"☑\",BU$5,\"\"),IF(BV9=\"☑\",BV$5,\"\"),IF(BW9=\"☑\",BW$5,\"\"),IF(BX9=\"☑\",BX$5,\"\"),BX9)","v":""},{"$f":"IF('[2]別紙２－２（事業1）'!$D$48=\"\",\"\",'[2]別紙２－２（事業1）'!$D$48)","v":""},{"$f":"IF('[2]別紙２－２（事業1）'!$F$49=\"\",\"\",'[2]別紙２－２（事業1）'!$F$49)","v":""},{"$f":"IF('[2]別紙２－２（事業1）'!$V$49=\"\",\"\",'[2]別紙２－２（事業1）'!$V$49)","v":""},{"$f":"IF('[2]別紙２－２（事業1）'!$G$50=\"\",\"\",'[2]別紙２－２（事業1）'!$G$50)","v":""},{"$f":"IF('[2]別紙２－２（事業1）'!$N$50=\"\",\"\",'[2]別紙２－２（事業1）'!$N$50)","v":""},{"$f":"'[2]別紙２－２（事業1）'!$D$51","v":"☐"},{"$f":"'★別紙２-2（事業_1）'!K45","v":"円"},{"$f":"'[2]別紙２－２（事業1）'!$D$52","v":"☐"},{"$f":"'★別紙２-2（事業_1）'!K46","v":"円"},{"$f":"'★事業３'!F45","v":0},{"$f":"'★事業３'!S45","v":0},{"$f":"CI9-CJ9","v":0},{"$f":"'★事業３'!$S$46","v":0},{"$f":"'★事業３'!$E$48","v":0},{"$f":"'★事業３'!$J$48","v":0},{"$f":"'★事業３'!$O$48","v":0},{"$f":"'★事業３'!$T$48","v":0},{"$f":"'★事業３'!$E$50","v":0},{"$f":"'★事業３'!$J$50","v":0},{"$f":"'★事業３'!$O$50","v":0},{"$f":"'★事業３'!$T$50","v":0},{"$f":"'★事業３'!$E$52","v":0},{"$f":"'★事業３'!$J$52","v":0},{"$f":"'★事業３'!$O$52","v":0},{"$f":"'★事業３'!$T$52","v":0},{"$f":"'★事業３'!$E$54","v":0},{"$f":"SUM(CM9:CY9)","v":0},{"$f":"'★事業３'!$F$55","v":0},{"$f":"'★事業３'!$O$55","v":0},null,null,null,null,null,null,null,null,null,null,null,null,null,null,null,null,null,null,null,null,{"$f":"IF([2]事業_3!$E$64=\"\",\"\",[2]事業_3!$E$64)","v":""},{"$f":"IF([2]事業_3!$J$65=\"\",\"\",[2]事業_3!$J$65)","v":""},{"$f":"IF([2]事業_3!$E$65=\"\",\"\",[2]事業_3!$E$65)","v":""},null,{"$f":"IF([2]事業_3!$E$66=\"\",\"\",[2]事業_3!$E$66)","v":""},{"$f":"IF([2]事業_3!$E$67=\"\",\"\",[2]事業_3!$E$67)","v":""},{"$f":"IF([2]事業_3!$J$68=\"\",\"\",[2]事業_3!$J$68)","v":""},{"$f":"IF([2]事業_3!$E$68=\"\",\"\",[2]事業_3!$E$68)","v":""},null,{"$f":"IF([2]事業_3!$E$69=\"\",\"\",[2]事業_3!$E$69)","v":""},{"$f":"IF([2]事業_3!$E$70=\"\",\"\",[2]事業_3!$E$70)","v":""},{"$f":"IF([2]事業_3!$J$71=\"\",\"\",[2]事業_3!$J$71)","v":""},{"$f":"IF([2]事業_3!$E$71=\"\",\"\",[2]事業_3!$E$71)","v":""},null,{"$f":"IF([2]事業_3!$E$72=\"\",\"\",[2]事業_3!$E$72)","v":""},null,null,null,null,null,null,null,{"$f":"CONCATENATE(IF(EQ9=\"5. その他\",CONCATENATE(\"5. その他（\",ER9,\"）\"),EQ9))","v":""},{"$f":"IF([2]事業_3!$D$73=\"\",\"\",[2]事業_3!$D$73)","v":""}]
[null,{"$f":"IF(C10=\"\",\"\",1)","v":""},{"$f":"IF([2]事業_4!$D$5=\"\",\"\",VLOOKUP(D10,[2]code!$A$1:$B$47,2,FALSE))","v":""},{"$f":"IF([2]事業_4!$D$5=\"\",\"\",[2]事業_4!$D$5)","v":""},{"$f":"IF([2]事業_4!$K$5=\"\",\"\",VLOOKUP((D10&G10),[2]code!$E$1:$F$1741,2,FALSE))","v":""},4,{"$f":"'★別紙２-2（事業_1）'!K5","v":0},{"$f":"'★事業４'!E8","v":0},{"$f":"IF('[2]別紙２－２（事業1）'!$D$8=\"\",\"\",'[2]別紙２－２（事業1）'!$D$8)","v":""},{"$f":"IF('[2]別紙２－２（事業1）'!$M$8=\"\",\"\",'[2]別紙２－２（事業1）'!$M$8)","v":""},{"$f":"IF('[2]別紙２－２（事業1）'!$U$8=\"\",\"\",'[2]別紙２－２（事業1）'!$U$8)","v":""},{"$f":"'★事業４'!M9","v":0},{"$f":"'★事業４'!L10","v":0},{"$f":"'★事業４'!L11","v":0},"10/10",{"$f":"IF('[2]別紙２－２（事業1）'!$D$10=\"\",\"\",'[2]別紙２－２（事業1）'!$D$10)","v":""},{"$f":"'★事業４'!D16","v":0},{"$f":"IF('[2]別紙２－２（事業1）'!$D$16=\"\",\"\",'[2]別紙２－２（事業1）'!$D$16)","v":""},{"$f":"'★事業４'!D20","v":0},{"$f":"IF('[2]別紙２－２（事業1）'!$J$24=\"\",\"\",'[2]別紙２－２（事業1）'!$J$24)","v":""},{"$f":"IF('[2]別紙２－２（事業1）'!$O$24=\"\",\"\",'[2]別紙２－２（事業1）'!$O$24)","v":""},{"$f":"IF('[2]別紙２－２（事業1）'!$J$25=\"\",\"\",'[2]別紙２－２（事業1）'!$J$25)","v":""},{"$f":"IF('[2]別紙２－２（事業1）'!$O$25=\"\",\"\",'[2]別紙２－２（事業1）'!$O$25)","v":""},{"$f":"IF('[2]別紙２－２（事業1）'!$J$26=\"\",\"\",'[2]別紙２－２（事業1）'!$J$26)","v":""},{"$f":"IF('[2]別紙２－２（事業1）'!$O$26=\"\",\"\",'[2]別紙２－２（事業1）'!$O$26)","v":""},{"$f":"IF('[2]別紙２－２（事業1）'!$J$27=\"\",\"\",'[2]別紙２－２（事業1）'!$J$27)","v":""},{"$f":"IF('[2]別紙２－２（事業1）'!$O$27=\"\",\"\",'[2]別紙２－２（事業1）'!$O$27)","v":""},{"$f":"IF('[2]別紙２－２（事業1）'!$J$28=\"\",\"\",'[2]別紙２－２（事業1）'!$J$28)","v":""},{"$f":"IF('[2]別紙２－２（事業1）'!$O$28=\"\",\"\",'[2]別紙２－２（事業1）'!$O$28)","v":""},{"$f":"IF('[2]別紙２－２（事業1）'!$H$29=\"\",\"\",'[2]別紙２－２（事業1）'!$H$29)","v":""},{"$f":"IF('[2]別紙２－２（事業1）'!$H$32=\"\",\"\",'[2]別紙２－２（事業1）'!$H$32)","v":""},{"$f":"IF('[2]別紙２－２（事業1）'!$L$33=\"\",\"\",'[2]別紙２－２（事業1）'!$L$33)","v":""},{"$f":"CONCATENATE(IF(AE10=\"その他\",CONCATENATE(\"その他（\",AF10,\"）\"),AE10))","v":""},{"$f":"IF('[2]別紙２－２（事業1）'!$E$34=\"\",\"\",'[2]別紙２－２（事業1）'!$E$34)","v":""},{"$f":"IF('[2]別紙２－２（事業1）'!$E$35=\"\",\"\",'[2]別紙２－２（事業1）'!$E$35)","v":""},{"$f":"IF('[2]別紙２－２（事業1）'!$E$36=\"\",\"\",'[2]別紙２－２（事業1）'!$E$36)","v":""},{"$f":"IF('[2]別紙２－２（事業1）'!$E$37=\"\",\"\",'[2]別紙２－２（事業1）'!$E$37)","v":""},{"$f":"IF('[2]別紙２－２（事業1）'!$E$38=\"\",\"\",'[2]別紙２－２（事業1）'!$E$38)","v":""},{"$f":"'[2]別紙２－２（事業1）'!$D$39","v":"☐"},{"$f":"'[2]別紙２－２（事業1）'!$I$39","v":"☐"},{"$f":"'[2]別紙２－２（事業1）'!$M$39","v":"☐"},{"$f":"'[2]別紙２－２（事業1）'!$Q$39","v":"☐"},{"$f":"CONCATENATE(IF(AM10=\"☑\",AM$5,\"\"),IF(AN10=\"☑\",AN$5,\"\"),IF(AO10=\"☑\",AO$5,\"\"),IF(AP10=\"☑\",AP$5,\"\"))","v":""},{"$f":"'[2]別紙２－２（事業1）'!$D$40","v":"☐"},{"$f":"'[2]別紙２－２（事業1）'!$I$40","v":"☐"},{"$f":"'[2]別紙２－２（事業1）'!$M$40","v":"☐"},{"$f":"'[2]別紙２－２（事業1）'!$Q$40","v":"☐"},{"$f":"'[2]別紙２－２（事業1）'!$U$40","v":"☐"},{"$f":"CONCATENATE(IF(AR10=\"☑\",AR$5,\"\"),IF(AS10=\"☑\",AS$5,\"\"),IF(AT10=\"☑\",AT$5,\"\"),IF(AU10=\"☑\",AU$5,\"\"),IF(AV10=\"☑\",AV$5,\"\"))","v":""},{"$f":"'[2]別紙２－２（事業1）'!$C$41","v":"☐"},{"$f":"'[2]別紙２－２（事業1）'!$H$41","v":"☐"},{"$f":"'[2]別紙２－２（事業1）'!$M$41","v":"☐"},{"$f":"'[2]別紙２－２（事業1）'!$R$41","v":"☐"},{"$f":"'[2]別紙２－２（事業1）'!$C$42","v":"☐"},{"$f":"'[2]別紙２－２（事業1）'!$H$42","v":"☐"},{"$f":"'[2]別紙２－２（事業1）'!$M$42","v":"☐"},{"$f":"'[2]別紙２－２（事業1）'!$R$42","v":"☐"},{"$f":"'[2]別紙２－２（事業1）'!$C$43","v":"☐"},{"$f":"'[2]別紙２－２（事業1）'!$H$43","v":"☐"},{"$f":"'[2]別紙２－２（事業1）'!$M$43","v":"☐"},{"$f":"'[2]別紙２－２（事業1）'!$R$43","v":"☐"},{"$f":"'[2]別紙２－２（事業1）'!$C$44","v":"☐"},{"$f":"'[2]別紙２－２（事業1）'!$H$44","v":"☐"},{"$f":"'[2]別紙２－２（事業1）'!$M$44","v":"☐"},{"$f":"'[2]別紙２－２（事業1）'!$R$44","v":"☐"},{"$f":"'[2]別紙２－２（事業1）'!$C$45","v":"☐"},{"$f":"'[2]別紙２－２（事業1）'!$H$45","v":"☐"},{"$f":"'[2]別紙２－２（事業1）'!$M$45","v":"☐"},{"$f":"'[2]別紙２－２（事業1）'!$C$46","v":"☐"},{"$f":"'[2]別紙２－２（事業1）'!$H$46","v":"☐"},{"$f":"'[2]別紙２－２（事業1）'!$M$46","v":"☐"},{"$f":"'[2]別紙２－２（事業1）'!$R$46","v":"☐"},{"$f":"'[2]別紙２－２（事業1）'!$C$47","v":"☐"},{"$f":"'[2]別紙２－２（事業1）'!$H$47","v":"☐"},{"$f":"'[2]別紙２－２（事業1）'!$M$47","v":"☐"},{"$f":"IF('[2]別紙２－２（事業1）'!$Q$47=\"\",\"\",'[2]別紙２－２（事業1）'!$Q$47)","v":""},{"$f":"CONCATENATE(IF(AX10=\"☑\",AX$5,\"\"),IF(AY10=\"☑\",AY$5,\"\"),IF(AZ10=\"☑\",AZ$5,\"\"),IF(BA10=\"☑\",BA$5,\"\"),IF(BB10=\"☑\",BB$5,\"\"),IF(BC10=\"☑\",BC$5,\"\"),IF(BD10=\"☑\",BD$5,\"\"),IF(BE10=\"☑\",BE$5,\"\"),IF(BF10=\"☑\",BF$5,\"\"),IF(BG10=\"☑\",BG$5,\"\"),IF(BH10=\"☑\",BH$5,\"\"),IF(BI10=\"☑\",BI$5,\"\"),IF(BJ10=\"☑\",BJ$5,\"\"),IF(BK10=\"☑\",BK$5,\"\"),IF(BL10=\"☑\",BL$5,\"\"),IF(BM10=\"☑\",BM$5,\"\"),IF(BN10=\"☑\",BN$5,\"\"),IF(BO10=\"☑\",BO$5,\"\"),IF(BP10=\"☑\",BP$5,\"\"),IF(BQ10=\"☑\",BQ$5,\"\"),IF(BR10=\"☑\",BR$5,\"\"),IF(BS10=\"☑\",BS$5,\"\"),IF(BT10=\"☑\",BT$5,\"\"),IF(BU10=\"☑\",BU$5,\"\"),IF(BV10=\"☑\",BV$5,\"\"),IF(BW10=\"☑\",BW$5,\"\"),IF(BX10=\"☑\",BX$5,\"\"),BX10)","v":""},{"$f":"IF('[2]別紙２－２（事業1）'!$D$48=\"\",\"\",'[2]別紙２－２（事業1）'!$D$48)","v":""},{"$f":"IF('[2]別紙２－２（事業1）'!$F$49=\"\",\"\",'[2]別紙２－２（事業1）'!$F$49)","v":""},{"$f":"IF('[2]別紙２－２（事業1）'!$V$49=\"\",\"\",'[2]別紙２－２（事業1）'!$V$49)","v":""},{"$f":"IF('[2]別紙２－２（事業1）'!$G$50=\"\",\"\",'[2]別紙２－２（事業1）'!$G$50)","v":""},{"$f":"IF('[2]別紙２－２（事業1）'!$N$50=\"\",\"\",'[2]別紙２－２（事業1）'!$N$50)","v":""},{"$f":"'[2]別紙２－２（事業1）'!$D$51","v":"☐"},{"$f":"'★別紙２-2（事業_1）'!K46","v":"円"},{"$f":"'[2]別紙２－２（事業1）'!$D$52","v":"☐"},{"$f":"'★別紙２-2（事業_1）'!K47","v":0},{"$f":"'★事業４'!F45","v":0},{"$f":"'★事業４'!S45","v":0},{"$f":"CI10-CJ10","v":0},{"$f":"'★事業４'!$S$46","v":0},{"$f":"'★事業４'!$E$48","v":0},{"$f":"'★事業４'!$J$48","v":0},{"$f":"'★事業４'!$O$48","v":0},{"$f":"'★事業４'!$T$48","v":0},{"$f":"'★事業４'!$E$50","v":0},{"$f":"'★事業４'!$J$50","v":0},{"$f":"'★事業４'!$O$50","v":0},{"$f":"'★事業４'!$T$50","v":0},{"$f":"'★事業４'!$E$52","v":0},{"$f":"'★事業４'!$J$52","v":0},{"$f":"'★事業４'!$O$52","v":0},{"$f":"'★事業４'!$T$52","v":0},{"$f":"'★事業４'!$E$54","v":0},{"$f":"SUM(CM10:CY10)","v":0},{"$f":"'★事業４'!$F$55","v":0},{"$f":"'★事業４'!$O$55","v":0},null,null,null,null,null,null,null,null,null,null,null,null,null,null,null,null,null,null,null,null,{"$f":"IF([2]事業_4!$E$64=\"\",\"\",[2]事業_4!$E$64)","v":""},{"$f":"IF([2]事業_4!$J$65=\"\",\"\",[2]事業_4!$J$65)","v":""},{"$f":"IF([2]事業_4!$E$65=\"\",\"\",[2]事業_4!$E$65)","v":""},null,{"$f":"IF([2]事業_4!$E$66=\"\",\"\",[2]事業_4!$E$66)","v":""},{"$f":"IF([2]事業_4!$E$67=\"\",\"\",[2]事業_4!$E$67)","v":""},{"$f":"IF([2]事業_4!$J$68=\"\",\"\",[2]事業_4!$J$68)","v":""},{"$f":"IF([2]事業_4!$E$68=\"\",\"\",[2]事業_4!$E$68)","v":""},null,{"$f":"IF([2]事業_4!$E$69=\"\",\"\",[2]事業_4!$E$69)","v":""},{"$f":"IF([2]事業_4!$E$70=\"\",\"\",[2]事業_4!$E$70)","v":""},{"$f":"IF([2]事業_4!$J$71=\"\",\"\",[2]事業_4!$J$71)","v":""},{"$f":"IF([2]事業_4!$E$71=\"\",\"\",[2]事業_4!$E$71)","v":""},null,{"$f":"IF([2]事業_4!$E$72=\"\",\"\",[2]事業_4!$E$72)","v":""},null,null,null,null,null,null,null,{"$f":"CONCATENATE(IF(EQ10=\"5. その他\",CONCATENATE(\"5. その他（\",ER10,\"）\"),EQ10))","v":""},{"$f":"IF([2]事業_4!$D$73=\"\",\"\",[2]事業_4!$D$73)","v":""}]
[]
[]
[null,null,null,null,null,null,null,null,null,null,null,null,null,null,null,null,null,null,null,null,null,null,null,null,null,null,null,null,null,null,null,null,null,null,null,null,null,null,null,null,null,null,null,null,null,null,null,null,null,null,null,null,null,null,null,null,null,null,null,null,null,null,null,null,null,null,null,null,null,null,null,null,null,null,null,null,null,null,null,null,null,null,null,null,{"$f":"SUBTOTAL(9,#REF!)","v":{"$error":"#REF!"}},"合計",{"$f":"SUM(CI7:CI10)","v":0},0,0,0,0,0,0,0,0,0,0,0,0,0,0,0,0,0,0,0]
[]
[]
[]
[]
[]
[]
[]
[]
[]
[]
[]
[]
[]
[]
[]
[]
[]
[]
[]
[]
[]
[]
[]
[null,null,"☐","ひとり親家庭",null,null,null,"☐","精神障害者",null,null,null,"☐","精神障害以外の障害者",null,null,null,"☐","孤独・孤立"]

{"sheet":"★別紙２-2（事業_1）","index":11,"n_rows":65,"n_cols":25,"rows_kept":65,"cut":false,"hidden":false,"merged":[[2,0,2,23],[4,0,4,2],[4,3,4,6],[4,7,4,9],[4,10,4,19],[4,20,4,21],[4,22,4,23],[5,0,5,2],[5,3,5,23],[7,0,7,3],[7,4,7,23],[8,0,8,2],[8,3,8,4],[8,5,8,6],[8,7,8,11],[8,12,8,13],[8,14,8,19],[8,20,8,21],[9,0,9,10],[9,11,9,18],[9,19,9,20],[9,21,9,23],[10,0,10,10],[10,11,10,18],[10,19,10,20],[10,21,10,23],[25,3,25,23],[30,1,30,2],[30,4,30,7],[30,9,30,11],[30,13,30,15],[30,17,30,23],[31,1,31,2],[31,4,31,5],[31,7,31,8],[31,10,31,12],[31,14,31,16],[31,18,31,23],[32,3,32,6],[32,8,32,11],[32,13,32,16],[32,18,32,23],[33,3,33,6],[33,8,33,11],[33,13,33,16],[33,18,33,23],[34,3,34,6],[34,8,34,11],[34,13,34,16],[34,18,34,23],[35,3,35,6],[35,8,35,11],[35,13,35,16],[35,18,35,23],[36,3,36,6],[36,8,36,11],[36,18,36,23],[37,3,37,6],[37,8,37,11],[37,13,37,16],[37,18,37,23],[38,3,38,6],[38,8,38,11],[38,13,38,15],[38,16,38,22],[39,0,39,2],[39,3,39,14],[40,3,40,4],[40,5,40,16],[40,17,40,20],[40,21,40,23],[41,3,41,5],[41,6,41,7],[41,9,41,12],[41,13,41,14],[42,4,42,6],[42,7,42,9],[42,10,42,22],[43,4,43,6],[43,7,43,9],[43,10,43,22],[44,1,44,4],[44,5,44,9],[44,11,44,17],[44,18,44,22],[45,1,45,4],[45,5,45,9],[45,11,45,17],[45,18,45,22],[46,4,46,8],[46,9,46,13],[46,14,46,18],[46,19,46,23],[47,4,47,7],[47,9,47,12],[47,14,47,17],[47,19,47,22],[48,4,48,8],[48,9,48,13],[48,14,48,18],[48,19,48,23],[49,4,49,7],[49,9,49,12],[49,14,49,17],[49,19,49,22],[50,4,50,8],[50,9,50,13],[50,14,50,18],[50,19,50,23],[51,4,51,7],[51,9,51,12],[51,14,51,17],[51,19,51,22],[52,4,52,8],[52,9,52,13],[52,14,52,18],[52,19,52,23],[53,4,53,7],[53,9,53,12],[53,14,53,17],[53,19,53,22],[54,5,54,8],[54,14,54,17],[55,2,55,3],[55,4,55,23],[56,2,56,3],[56,4,56,12],[56,13,56,14],[56,15,56,18],[56,20,56,22],[57,2,57,3],[57,4,57,23],[58,2,58,3],[58,4,58,23],[59,2,59,3],[59,4,59,12],[59,13,59,14],[59,15,59,18],[59,20,59,22],[60,2,60,3],[60,4,60,23],[61,2,61,3],[61,4,61,23],[62,2,62,3],[62,4,62,12],[62,13,62,14],[62,15,62,18],[62,20,62,22],[63,2,63,3],[63,4,63,23],[11,0,14,2],[11,3,14,23],[15,0,16,2],[15,3,16,23],[17,0,18,2],[17,3,18,23],[19,0,24,2],[19,3,24,23],[25,0,29,2],[26,3,29,23],[40,0,41,2],[42,0,43,2],[55,1,57,1],[58,1,60,1],[61,1,63,1],[64,0,65,2],[64,3,65,23],[30,0,38,0],[32,1,38,1],[44,0,54,0],[46,1,53,3],[55,0,63,0]]}
["別紙２－２"]
[]
["高知県自殺対策強化事業（ひきこもり自律支援）実施計画書"]
[]
["都道府県",null,null,"高知県",null,null,null,"団体名",null,null,null,null,null,null,null,null,null,null,null,null,"事業No."]
["居場所の住所",null,null,null,null,null,null,null,null,null,null,null,null,null,null,null,null,null,null,null,null,null,null,null,"←要件１、３は記載必須"]
[]
["補助金申請事業名"]
["実施年度（西暦）",null,null,null,null,"年度",null,"新規・拡充・継続の別",null,null,null,null,null,null,"（継続時のみ）昨年度事業No."]
["補助金事業区分（要綱別表第２）",null,null,null,null,null,null,null,null,null,null,null,null,null,null,null,null,null,null,"補助率",null,"10/10"]
["補助金事業細目（要綱別表第２）",null,null,null,null,null,null,null,null,null,null,null,null,null,null,null,null,null,null,"補助率",null,"10/10"]
["本事業を実施する背景"]
[]
[]
[]
["事業の目的"]
[]
["期待される\n効果"]
[]
["事業の内容"]
[]
[]
[]
[]
[]
["地域の支援機関との連携状況",null,null,"※連携機関名（○○市福祉課、○○病院等）、連携方法（福祉サービスの利用方法を相談、ケース会への出席、医療ソーシャルワーカーとの同行面談等）等をご記入ください。"]
[]
[]
[]
[]
["主な対象者（複数選択可）","性別",null,"☐","限定なし",null,null,null,"☐","主に男性",null,null,"☐","主に女性",null,null,"☐","性的マイノリティ等"]
[null,"年齢層",null,"☐","限定なし",null,"☐","未成年者",null,"☐","若年者",null,null,"☐","稼働年齢層",null,null,"☐","高齢者"]
[null,"その他の属性","☐","地域住民",null,null,null,"☐","経営者",null,null,null,"☐","自治体職員",null,null,null,"☐","医療従事者"]
[null,null,"☐","教職員",null,null,null,"☐","介護事業従事者",null,null,null,"☐","介護者",null,null,null,"☐","メディア関係者"]
[null,null,"☐","児童・生徒",null,null,null,"☐","大学生・院生",null,null,null,"☐","労働者",null,null,null,"☐","非正規労働者"]
[null,null,"☐","失業者",null,null,null,"☐","多重債務者",null,null,null,"☐","生活困窮者",null,null,null,"☐","妊産婦"]
[null,null,"☐","ひとり親家庭",null,null,null,"☐","精神障害者",null,null,null,"☐","精神障害以外の障害者",null,null,null,"☐","孤独・孤立"]
[null,null,"☐","ひきこもり",null,null,null,"☐","自殺未遂者",null,null,null,"☐","自死遺族等",null,null,null,"☐","性暴力被害者"]
[null,null,"☐","被虐待児",null,null,null,"☐","被災者",null,null,null,"☐","その他（",null,null,null,null,null,null,null,null,null,"）"]
["取組区分"]
["担当部署",null,null,"部署名",null,null,null,null,null,null,null,null,null,null,null,null,null,"専任・併任の別"]
[null,null,null,"常勤職員数",null,null,null,null,"人","非常勤職員数",null,null,null,null,null,"人"]
["事業形態",null,null,"☐","委託事業",null,null,"（委託先：",null,null,null,null,null,null,null,null,null,null,null,null,null,null,null,"）"]
[null,null,null,"☐","補助事業",null,null,"（補助先：",null,null,null,null,null,null,null,null,null,null,null,null,null,null,null,"）"]
["補助金所要額","総事業費(A)",null,null,null,null,null,null,null,null,"円","寄付金その他の収入額(B)",null,null,null,null,null,null,null,null,null,null,null,"円"]
[null,"差引(C=A-B)",null,null,null,{"$f":"F45-S45","v":0},null,null,null,null,"円","基準額(D)",null,null,null,null,null,null,null,null,null,null,null,"円"]
[null,"対象経費の支出予定額(Ｅ)",null,null,"報酬",null,null,null,null,"賃金",null,null,null,null,"給料",null,null,null,null,"職員手当等"]
[null,null,null,null,null,null,null,null,"円",null,null,null,null,"円",null,null,null,null,"円",null,null,null,null,"円"]
[null,null,null,null,"報償費",null,null,null,null,"旅費",null,null,null,null,"需用費",null,null,null,null,"役務費"]
[null,null,null,null,null,null,null,null,"円",null,null,null,null,"円",null,null,null,null,"円",null,null,null,null,"円"]
[null,null,null,null,"使用料・賃借料",null,null,null,null,"工事費",null,null,null,null,"備品購入費",null,null,null,null,"委託料"]
[null,null,null,null,null,null,null,null,"円",null,null,null,null,"円",null,null,null,null,"円",null,null,null,null,"円"]
[null,null,null,null,"負担金",null,null,null,null,"合計"]
[null,null,null,null,null,null,null,null,"円",{"$f":"E48+J48+O48+T48+E50+J50+O50+T50+E52+J52+O52+T52+E54","v":0},null,null,null,"円"]
[null,"補助基本額(F)",null,null,null,{"$f":"MIN(F46,S46,J54)","v":0},null,null,null,"円","補助金所要額(G)",null,null,null,{"$f":"F55","v":0},null,null,null,"円"]
["評価指標",1,"指標名"]
[null,null,"目標値"]
[null,null,"設定根拠"]
[null,2,"指標名"]
[null,null,"目標値"]
[null,null,"設定根拠"]
[null,3,"指標名"]
[null,null,"目標値"]
[null,null,"設定根拠"]
["備考"]

{"sheet":"★事業２","index":12,"n_rows":65,"n_cols":24,"rows_kept":65,"cut":false,"hidden":false,"merged":[[2,0,2,23],[4,0,4,2],[4,3,4,6],[4,7,4,9],[4,10,4,19],[4,20,4,21],[4,22,4,23],[5,0,5,2],[5,3,5,23],[7,0,7,3],[7,4,7,23],[8,0,8,2],[8,3,8,4],[8,5,8,6],[8,7,8,11],[8,12,8,13],[8,14,8,19],[8,20,8,21],[9,0,9,10],[9,11,9,18],[9,19,9,20],[9,21,9,23],[10,0,10,10],[10,11,10,18],[10,19,10,20],[10,21,10,23],[25,3,25,23],[30,1,30,2],[30,4,30,7],[30,9,30,11],[30,13,30,15],[30,17,30,23],[31,1,31,2],[31,4,31,5],[31,7,31,8],[31,10,31,12],[31,14,31,16],[31,18,31,23],[32,3,32,6],[32,8,32,11],[32,13,32,16],[32,18,32,23],[33,3,33,6],[33,8,33,11],[33,13,33,16],[33,18,33,23],[34,3,34,6],[34,8,34,11],[34,13,34,16],[34,18,34,23],[35,3,35,6],[35,8,35,11],[35,13,35,16],[35,18,35,23],[36,3,36,6],[36,8,36,11],[36,18,36,23],[37,3,37,6],[37,8,37,11],[37,13,37,16],[37,18,37,23],[38,3,38,6],[38,8,38,11],[38,13,38,15],[38,16,38,22],[39,0,39,2],[39,3,39,14],[40,3,40,4],[40,5,40,16],[40,17,40,20],[40,21,40,23],[41,3,41,5],[41,6,41,7],[41,9,41,12],[41,13,41,14],[42,4,42,6],[42,7,42,9],[42,10,42,22],[43,4,43,6],[43,7,43,9],[43,10,43,22],[44,1,44,4],[44,5,44,9],[44,11,44,17],[44,18,44,22],[45,1,45,4],[45,5,45,9],[45,11,45,17],[45,18,45,22],[46,4,46,8],[46,9,46,13],[46,14,46,18],[46,19,46,23],[47,4,47,7],[47,9,47,12],[47,14,47,17],[47,19,47,22],[48,4,48,8],[48,9,48,13],[48,14,48,18],[48,19,48,23],[49,4,49,7],[49,9,49,12],[49,14,49,17],[49,19,49,22],[50,4,50,8],[50,9,50,13],[50,14,50,18],[50,19,50,23],[51,4,51,7],[51,9,51,12],[51,14,51,17],[51,19,51,22],[52,4,52,8],[52,9,52,13],[52,14,52,18],[52,19,52,23],[53,4,53,7],[53,9,53,12],[53,14,53,17],[53,19,53,22],[54,5,54,8],[54,14,54,17],[55,2,55,3],[55,4,55,23],[56,2,56,3],[56,4,56,12],[56,13,56,14],[56,15,56,18],[56,20,56,22],[57,2,57,3],[57,4,57,23],[58,2,58,3],[58,4,58,23],[59,2,59,3],[59,4,59,12],[59,13,59,14],[59,15,59,18],[59,20,59,22],[60,2,60,3],[60,4,60,23],[61,2,61,3],[61,4,61,23],[62,2,62,3],[62,4,62,12],[62,13,62,14],[62,15,62,18],[62,20,62,22],[63,2,63,3],[63,4,63,23],[11,0,14,2],[11,3,14,23],[15,0,16,2],[15,3,16,23],[17,0,18,2],[17,3,18,23],[19,0,24,2],[19,3,24,23],[25,0,29,2],[26,3,29,23],[40,0,41,2],[42,0,43,2],[55,1,57,1],[58,1,60,1],[61,1,63,1],[64,0,65,2],[64,3,65,23],[30,0,38,0],[32,1,38,1],[44,0,54,0],[46,1,53,3],[55,0,63,0]]}
["別紙２－２"]
[]
["高知県自殺対策強化事業（ひきこもり自律支援）実施計画書"]
[]
["都道府県",null,null,"高知県",null,null,null,"団体名",null,null,null,null,null,null,null,null,null,null,null,null,"事業No."]
["居場所の住所"]
[]
["補助金申請事業名"]
["実施年度（西暦）",null,null,null,null,"年度",null,"新規・拡充・継続の別",null,null,null,null,null,null,"（継続時のみ）昨年度事業No.",null,null,null,null,null,1]
["補助金事業区分（要綱別表第２）",null,null,null,null,null,null,null,null,null,null,null,null,null,null,null,null,null,null,"補助率",null,"10/10"]
["補助金事業細目（要綱別表第２）",null,null,null,null,null,null,null,null,null,null,null,null,null,null,null,null,null,null,"補助率",null,"10/10"]
["本事業を実施する背景"]
[]
[]
[]
["事業の目的"]
[]
["期待される\n効果"]
[]
["事業の内容"]
[]
[]
[]
[]
[]
["地域の支援機関との連携状況",null,null,"※連携機関名（○○市福祉課、○○病院等）、連携方法（福祉サービスの利用方法を相談、ケース会への出席、医療ソーシャルワーカーとの同行面談等）等をご記入ください。"]
[]
[]
[]
[]
["主な対象者（複数選択可）","性別",null,"☐","限定なし",null,null,null,"☐","主に男性",null,null,"☐","主に女性",null,null,"☐","性的マイノリティ等"]
[null,"年齢層",null,"☐","限定なし",null,"☐","未成年者",null,"☐","若年者",null,null,"☐","稼働年齢層",null,null,"☐","高齢者"]
[null,"その他の属性","☐","地域住民",null,null,null,"☐","経営者",null,null,null,"☐","自治体職員",null,null,null,"☐","医療従事者"]
[null,null,"☐","教職員",null,null,null,"☐","介護事業従事者",null,null,null,"☐","介護者",null,null,null,"☐","メディア関係者"]
[null,null,"☐","児童・生徒",null,null,null,"☐","大学生・院生",null,null,null,"☐","労働者",null,null,null,"☐","非正規労働者"]
[null,null,"☐","失業者",null,null,null,"☐","多重債務者",null,null,null,"☐","生活困窮者",null,null,null,"☐","妊産婦"]
[null,null,"☐","ひとり親家庭",null,null,null,"☐","精神障害者",null,null,null,"☐","精神障害以外の障害者",null,null,null,"☐","孤独・孤立"]
[null,null,"☐","ひきこもり",null,null,null,"☐","自殺未遂者",null,null,null,"☐","自死遺族等",null,null,null,"☐","性暴力被害者"]
[null,null,"☐","被虐待児",null,null,null,"☐","被災者",null,null,null,"☐","その他（",null,null,null,null,null,null,null,null,null,"）"]
["取組区分"]
["担当部署",null,null,"部署名",null,null,null,null,null,null,null,null,null,null,null,null,null,"専任・併任の別"]
[null,null,null,"常勤職員数",null,null,null,null,"人","非常勤職員数",null,null,null,null,null,"人"]
["事業形態",null,null,"☐","委託事業",null,null,"（委託先：",null,null,null,null,null,null,null,null,null,null,null,null,null,null,null,"）"]
[null,null,null,"☐","補助事業",null,null,"（補助先：",null,null,null,null,null,null,null,null,null,null,null,null,null,null,null,"）"]
["補助金所要額","総事業費(A)",null,null,null,null,null,null,null,null,"円","寄付金その他の収入額(B)",null,null,null,null,null,null,null,null,null,null,null,"円"]
[null,"差引(C=A-B)",null,null,null,{"$f":"F45-S45","v":0},null,null,null,null,"円","基準額(D)",null,null,null,null,null,null,null,null,null,null,null,"円"]
[null,"対象経費の支出予定額(Ｅ)",null,null,"報酬",null,null,null,null,"賃金",null,null,null,null,"給料",null,null,null,null,"職員手当等"]
[null,null,null,null,null,null,null,null,"円",null,null,null,null,"円",null,null,null,null,"円",null,null,null,null,"円"]
[null,null,null,null,"報償費",null,null,null,null,"旅費",null,null,null,null,"需用費",null,null,null,null,"役務費"]
[null,null,null,null,null,null,null,null,"円",null,null,null,null,"円",null,null,null,null,"円",null,null,null,null,"円"]
[null,null,null,null,"使用料・賃借料",null,null,null,null,"工事費",null,null,null,null,"備品購入費",null,null,null,null,"委託料"]
[null,null,null,null,null,null,null,null,"円",null,null,null,null,"円",null,null,null,null,"円",null,null,null,null,"円"]
[null,null,null,null,"負担金",null,null,null,null,"合計"]
[null,null,null,null,null,null,null,null,"円",{"$f":"E48+J48+O48+T48+E50+J50+O50+T50+E52+J52+O52+T52+E54","v":0},null,null,null,"円"]
[null,"補助基本額(F)",null,null,null,{"$f":"MIN(F46,S46,J54)","v":0},null,null,null,"円","補助金所要額(G)",null,null,null,{"$f":"F55","v":0},null,null,null,"円"]
["評価指標",1,"指標名"]
[null,null,"目標値"]
[null,null,"設定根拠"]
[null,2,"指標名"]
[null,null,"目標値"]
[null,null,"設定根拠"]
[null,3,"指標名"]
[null,null,"目標値"]
[null,null,"設定根拠"]
["備考"]

{"sheet":"★事業３","index":13,"n_rows":65,"n_cols":24,"rows_kept":65,"cut":false,"hidden":false,"merged":[[2,0,2,23],[4,0,4,2],[4,3,4,6],[4,7,4,9],[4,10,4,19],[4,20,4,21],[4,22,4,23],[5,0,5,2],[5,3,5,23],[7,0,7,3],[7,4,7,23],[8,0,8,2],[8,3,8,4],[8,5,8,6],[8,7,8,11],[8,12,8,13],[8,14,8,19],[8,20,8,21],[9,0,9,10],[9,11,9,18],[9,19,9,20],[9,21,9,23],[10,0,10,10],[10,11,10,18],[10,19,10,20],[10,21,10,23],[25,3,25,23],[30,1,30,2],[30,4,30,7],[30,9,30,11],[30,13,30,15],[30,17,30,23],[31,1,31,2],[31,4,31,5],[31,7,31,8],[31,10,31,12],[31,14,31,16],[31,18,31,23],[32,3,32,6],[32,8,32,11],[32,13,32,16],[32,18,32,23],[33,3,33,6],[33,8,33,11],[33,13,33,16],[33,18,33,23],[34,3,34,6],[34,8,34,11],[34,13,34,16],[34,18,34,23],[35,3,35,6],[35,8,35,11],[35,13,35,16],[35,18,35,23],[36,3,36,6],[36,8,36,11],[36,18,36,23],[37,3,37,6],[37,8,37,11],[37,13,37,16],[37,18,37,23],[38,3,38,6],[38,8,38,11],[38,13,38,15],[38,16,38,22],[39,0,39,2],[39,3,39,14],[40,3,40,4],[40,5,40,16],[40,17,40,20],[40,21,40,23],[41,3,41,5],[41,6,41,7],[41,9,41,12],[41,13,41,14],[42,4,42,6],[42,7,42,9],[42,10,42,22],[43,4,43,6],[43,7,43,9],[43,10,43,22],[44,1,44,4],[44,5,44,9],[44,11,44,17],[44,18,44,22],[45,1,45,4],[45,5,45,9],[45,11,45,17],[45,18,45,22],[46,4,46,8],[46,9,46,13],[46,14,46,18],[46,19,46,23],[47,4,47,7],[47,9,47,12],[47,14,47,17],[47,19,47,22],[48,4,48,8],[48,9,48,13],[48,14,48,18],[48,19,48,23],[49,4,49,7],[49,9,49,12],[49,14,49,17],[49,19,49,22],[50,4,50,8],[50,9,50,13],[50,14,50,18],[50,19,50,23],[51,4,51,7],[51,9,51,12],[51,14,51,17],[51,19,51,22],[52,4,52,8],[52,9,52,13],[52,14,52,18],[52,19,52,23],[53,4,53,7],[53,9,53,12],[53,14,53,17],[53,19,53,22],[54,5,54,8],[54,14,54,17],[55,2,55,3],[55,4,55,23],[56,2,56,3],[56,4,56,12],[56,13,56,14],[56,15,56,18],[56,20,56,22],[57,2,57,3],[57,4,57,23],[58,2,58,3],[58,4,58,23],[59,2,59,3],[59,4,59,12],[59,13,59,14],[59,15,59,18],[59,20,59,22],[60,2,60,3],[60,4,60,23],[61,2,61,3],[61,4,61,23],[62,2,62,3],[62,4,62,12],[62,13,62,14],[62,15,62,18],[62,20,62,22],[63,2,63,3],[63,4,63,23],[11,0,14,2],[11,3,14,23],[15,0,16,2],[15,3,16,23],[17,0,18,2],[17,3,18,23],[19,0,24,2],[19,3,24,23],[25,0,29,2],[26,3,29,23],[40,0,41,2],[42,0,43,2],[55,1,57,1],[58,1,60,1],[61,1,63,1],[64,0,65,2],[64,3,65,23],[30,0,38,0],[32,1,38,1],[44,0,54,0],[46,1,53,3],[55,0,63,0]]}
["別紙２－２"]
[]
["高知県自殺対策強化事業（ひきこもり自律支援）実施計画書"]
[]
["都道府県",null,null,"高知県",null,null,null,"団体名",null,null,null,null,null,null,null,null,null,null,null,null,"事業No."]
["居場所の住所"]
[]
["補助金申請事業名"]
["実施年度（西暦）",null,null,null,null,"年度",null,"新規・拡充・継続の別",null,null,null,null,null,null,"（継続時のみ）昨年度事業No.",null,null,null,null,null,1]
["補助金事業区分（要綱別表第２）",null,null,null,null,null,null,null,null,null,null,null,null,null,null,null,null,null,null,"補助率",null,"10/10"]
["補助金事業細目（要綱別表第２）",null,null,null,null,null,null,null,null,null,null,null,null,null,null,null,null,null,null,"補助率",null,"10/10"]
["本事業を実施する背景"]
[]
[]
[]
["事業の目的"]
[]
["期待される\n効果"]
[]
["事業の内容"]
[]
[]
[]
[]
[]
["地域の支援機関との連携状況",null,null,"※連携機関名（○○市福祉課、○○病院等）、連携方法（福祉サービスの利用方法を相談、ケース会への出席、医療ソーシャルワーカーとの同行面談等）等をご記入ください。"]
[]
[]
[]
[]
["主な対象者（複数選択可）","性別",null,"☐","限定なし",null,null,null,"☐","主に男性",null,null,"☐","主に女性",null,null,"☐","性的マイノリティ等"]
[null,"年齢層",null,"☐","限定なし",null,"☐","未成年者",null,"☐","若年者",null,null,"☐","稼働年齢層",null,null,"☐","高齢者"]
[null,"その他の属性","☐","地域住民",null,null,null,"☐","経営者",null,null,null,"☐","自治体職員",null,null,null,"☐","医療従事者"]
[null,null,"☐","教職員",null,null,null,"☐","介護事業従事者",null,null,null,"☐","介護者",null,null,null,"☐","メディア関係者"]
[null,null,"☐","児童・生徒",null,null,null,"☐","大学生・院生",null,null,null,"☐","労働者",null,null,null,"☐","非正規労働者"]
[null,null,"☐","失業者",null,null,null,"☐","多重債務者",null,null,null,"☐","生活困窮者",null,null,null,"☐","妊産婦"]
[null,null,"☐","ひとり親家庭",null,null,null,"☐","精神障害者",null,null,null,"☐","精神障害以外の障害者",null,null,null,"☐","孤独・孤立"]
[null,null,"☐","ひきこもり",null,null,null,"☐","自殺未遂者",null,null,null,"☐","自死遺族等",null,null,null,"☐","性暴力被害者"]
[null,null,"☐","被虐待児",null,null,null,"☐","被災者",null,null,null,"☐","その他（",null,null,null,null,null,null,null,null,null,"）"]
["取組区分"]
["担当部署",null,null,"部署名",null,null,null,null,null,null,null,null,null,null,null,null,null,"専任・併任の別"]
[null,null,null,"常勤職員数",null,null,null,null,"人","非常勤職員数",null,null,null,null,null,"人"]
["事業形態",null,null,"☐","委託事業",null,null,"（委託先：",null,null,null,null,null,null,null,null,null,null,null,null,null,null,null,"）"]
[null,null,null,"☐","補助事業",null,null,"（補助先：",null,null,null,null,null,null,null,null,null,null,null,null,null,null,null,"）"]
["補助金所要額","総事業費(A)",null,null,null,null,null,null,null,null,"円","寄付金その他の収入額(B)",null,null,null,null,null,null,null,null,null,null,null,"円"]
[null,"差引(C=A-B)",null,null,null,{"$f":"F45-S45","v":0},null,null,null,null,"円","基準額(D)",null,null,null,null,null,null,null,null,null,null,null,"円"]
[null,"対象経費の支出予定額(Ｅ)",null,null,"報酬",null,null,null,null,"賃金",null,null,null,null,"給料",null,null,null,null,"職員手当等"]
[null,null,null,null,null,null,null,null,"円",null,null,null,null,"円",null,null,null,null,"円",null,null,null,null,"円"]
[null,null,null,null,"報償費",null,null,null,null,"旅費",null,null,null,null,"需用費",null,null,null,null,"役務費"]
[null,null,null,null,null,null,null,null,"円",null,null,null,null,"円",null,null,null,null,"円",null,null,null,null,"円"]
[null,null,null,null,"使用料・賃借料",null,null,null,null,"工事費",null,null,null,null,"備品購入費",null,null,null,null,"委託料"]
[null,null,null,null,null,null,null,null,"円",null,null,null,null,"円",null,null,null,null,"円",null,null,null,null,"円"]
[null,null,null,null,"負担金",null,null,null,null,"合計"]
[null,null,null,null,null,null,null,null,"円",{"$f":"E48+J48+O48+T48+E50+J50+O50+T50+E52+J52+O52+T52+E54","v":0},null,null,null,"円"]
[null,"補助基本額(F)",null,null,null,{"$f":"MIN(F46,S46,J54)","v":0},null,null,null,"円","補助金所要額(G)",null,null,null,{"$f":"F55","v":0},null,null,null,"円"]
["評価指標",1,"指標名"]
[null,null,"目標値"]
[null,null,"設定根拠"]
[null,2,"指標名"]
[null,null,"目標値"]
[null,null,"設定根拠"]
[null,3,"指標名"]
[null,null,"目標値"]
[null,null,"設定根拠"]
["備考"]

{"sheet":"★事業４","index":14,"n_rows":65,"n_cols":24,"rows_kept":65,"cut":false,"hidden":false,"merged":[[2,0,2,23],[4,0,4,2],[4,3,4,6],[4,7,4,9],[4,10,4,19],[4,20,4,21],[4,22,4,23],[5,0,5,2],[5,3,5,23],[7,0,7,3],[7,4,7,23],[8,0,8,2],[8,3,8,4],[8,5,8,6],[8,7,8,11],[8,12,8,13],[8,14,8,19],[8,20,8,21],[9,0,9,10],[9,11,9,18],[9,19,9,20],[9,21,9,23],[10,0,10,10],[10,11,10,18],[10,19,10,20],[10,21,10,23],[25,3,25,23],[30,1,30,2],[30,4,30,7],[30,9,30,11],[30,13,30,15],[30,17,30,23],[31,1,31,2],[31,4,31,5],[31,7,31,8],[31,10,31,12],[31,14,31,16],[31,18,31,23],[32,3,32,6],[32,8,32,11],[32,13,32,16],[32,18,32,23],[33,3,33,6],[33,8,33,11],[33,13,33,16],[33,18,33,23],[34,3,34,6],[34,8,34,11],[34,13,34,16],[34,18,34,23],[35,3,35,6],[35,8,35,11],[35,13,35,16],[35,18,35,23],[36,3,36,6],[36,8,36,11],[36,18,36,23],[37,3,37,6],[37,8,37,11],[37,13,37,16],[37,18,37,23],[38,3,38,6],[38,8,38,11],[38,13,38,15],[38,16,38,22],[39,0,39,2],[39,3,39,14],[40,3,40,4],[40,5,40,16],[40,17,40,20],[40,21,40,23],[41,3,41,5],[41,6,41,7],[41,9,41,12],[41,13,41,14],[42,4,42,6],[42,7,42,9],[42,10,42,22],[43,4,43,6],[43,7,43,9],[43,10,43,22],[44,1,44,4],[44,5,44,9],[44,11,44,17],[44,18,44,22],[45,1,45,4],[45,5,45,9],[45,11,45,17],[45,18,45,22],[46,4,46,8],[46,9,46,13],[46,14,46,18],[46,19,46,23],[47,4,47,7],[47,9,47,12],[47,14,47,17],[47,19,47,22],[48,4,48,8],[48,9,48,13],[48,14,48,18],[48,19,48,23],[49,4,49,7],[49,9,49,12],[49,14,49,17],[49,19,49,22],[50,4,50,8],[50,9,50,13],[50,14,50,18],[50,19,50,23],[51,4,51,7],[51,9,51,12],[51,14,51,17],[51,19,51,22],[52,4,52,8],[52,9,52,13],[52,14,52,18],[52,19,52,23],[53,4,53,7],[53,9,53,12],[53,14,53,17],[53,19,53,22],[54,5,54,8],[54,14,54,17],[55,2,55,3],[55,4,55,23],[56,2,56,3],[56,4,56,12],[56,13,56,14],[56,15,56,18],[56,20,56,22],[57,2,57,3],[57,4,57,23],[58,2,58,3],[58,4,58,23],[59,2,59,3],[59,4,59,12],[59,13,59,14],[59,15,59,18],[59,20,59,22],[60,2,60,3],[60,4,60,23],[61,2,61,3],[61,4,61,23],[62,2,62,3],[62,4,62,12],[62,13,62,14],[62,15,62,18],[62,20,62,22],[63,2,63,3],[63,4,63,23],[11,0,14,2],[11,3,14,23],[15,0,16,2],[15,3,16,23],[17,0,18,2],[17,3,18,23],[19,0,24,2],[19,3,24,23],[25,0,29,2],[26,3,29,23],[40,0,41,2],[42,0,43,2],[55,1,57,1],[58,1,60,1],[61,1,63,1],[64,0,65,2],[64,3,65,23],[30,0,38,0],[32,1,38,1],[44,0,54,0],[46,1,53,3],[55,0,63,0]]}
["別紙２－２"]
[]
["高知県自殺対策強化事業（ひきこもり自律支援）実施計画書"]
[]
["都道府県",null,null,"高知県",null,null,null,"団体名",null,null,null,null,null,null,null,null,null,null,null,null,"事業No."]
["居場所の住所"]
[]
["補助金申請事業名"]
["実施年度（西暦）",null,null,null,null,"年度",null,"新規・拡充・継続の別",null,null,null,null,null,null,"（継続時のみ）昨年度事業No."]
["補助金事業区分（要綱別表第２）",null,null,null,null,null,null,null,null,null,null,null,null,null,null,null,null,null,null,"補助率",null,"10/10"]
["補助金事業細目（要綱別表第２）",null,null,null,null,null,null,null,null,null,null,null,null,null,null,null,null,null,null,"補助率",null,"10/10"]
["本事業を実施する背景"]
[]
[]
[]
["事業の目的"]
[]
["期待される\n効果"]
[]
["事業の内容"]
[]
[]
[]
[]
[]
["地域の支援機関との連携状況",null,null,"※連携機関名（○○市福祉課、○○病院等）、連携方法（福祉サービスの利用方法を相談、ケース会への出席、医療ソーシャルワーカーとの同行面談等）等をご記入ください。"]
[]
[]
[]
[]
["主な対象者（複数選択可）","性別",null,"☐","限定なし",null,null,null,"☐","主に男性",null,null,"☐","主に女性",null,null,"☐","性的マイノリティ等"]
[null,"年齢層",null,"☐","限定なし",null,"☐","未成年者",null,"☐","若年者",null,null,"☐","稼働年齢層",null,null,"☐","高齢者"]
[null,"その他の属性","☐","地域住民",null,null,null,"☐","経営者",null,null,null,"☐","自治体職員",null,null,null,"☐","医療従事者"]
[null,null,"☐","教職員",null,null,null,"☐","介護事業従事者",null,null,null,"☐","介護者",null,null,null,"☐","メディア関係者"]
[null,null,"☐","児童・生徒",null,null,null,"☐","大学生・院生",null,null,null,"☐","労働者",null,null,null,"☐","非正規労働者"]
[null,null,"☐","失業者",null,null,null,"☐","多重債務者",null,null,null,"☐","生活困窮者",null,null,null,"☐","妊産婦"]
[null,null,"☐","ひとり親家庭",null,null,null,"☐","精神障害者",null,null,null,"☐","精神障害以外の障害者",null,null,null,"☐","孤独・孤立"]
[null,null,"☐","ひきこもり",null,null,null,"☐","自殺未遂者",null,null,null,"☐","自死遺族等",null,null,null,"☐","性暴力被害者"]
[null,null,"☐","被虐待児",null,null,null,"☐","被災者",null,null,null,"☐","その他（",null,null,null,null,null,null,null,null,null,"）"]
["取組区分"]
["担当部署",null,null,"部署名",null,null,null,null,null,null,null,null,null,null,null,null,null,"専任・併任の別"]
[null,null,null,"常勤職員数",null,null,null,null,"人","非常勤職員数",null,null,null,null,null,"人"]
["事業形態",null,null,"☐","委託事業",null,null,"（委託先：",null,null,null,null,null,null,null,null,null,null,null,null,null,null,null,"）"]
[null,null,null,"☐","補助事業",null,null,"（補助先：",null,null,null,null,null,null,null,null,null,null,null,null,null,null,null,"）"]
["補助金所要額","総事業費(A)",null,null,null,null,null,null,null,null,"円","寄付金その他の収入額(B)",null,null,null,null,null,null,null,null,null,null,null,"円"]
[null,"差引(C=A-B)",null,null,null,{"$f":"F45-S45","v":0},null,null,null,null,"円","基準額(D)",null,null,null,null,null,null,null,null,null,null,null,"円"]
[null,"対象経費の支出予定額(Ｅ)",null,null,"報酬",null,null,null,null,"賃金",null,null,null,null,"給料",null,null,null,null,"職員手当等"]
[null,null,null,null,null,null,null,null,"円",null,null,null,null,"円",null,null,null,null,"円",null,null,null,null,"円"]
[null,null,null,null,"報償費",null,null,null,null,"旅費",null,null,null,null,"需用費",null,null,null,null,"役務費"]
[null,null,null,null,null,null,null,null,"円",null,null,null,null,"円",null,null,null,null,"円",null,null,null,null,"円"]
[null,null,null,null,"使用料・賃借料",null,null,null,null,"工事費",null,null,null,null,"備品購入費",null,null,null,null,"委託料"]
[null,null,null,null,null,null,null,null,"円",null,null,null,null,"円",null,null,null,null,"円",null,null,null,null,"円"]
[null,null,null,null,"負担金",null,null,null,null,"合計"]
[null,null,null,null,null,null,null,null,"円",{"$f":"SUM(E48,J48,O48,T48,T50,O50,J50,E50,E52,J52,O52,T52,E54)","v":0},null,null,null,"円"]
[null,"補助基本額(F)",null,null,null,{"$f":"MIN(F46,S46,J54)","v":0},null,null,null,"円","補助金所要額(G)",null,null,null,{"$f":"F55","v":0},null,null,null,"円"]
["評価指標",1,"指標名"]
[null,null,"目標値"]
[null,null,"設定根拠"]
[null,2,"指標名"]
[null,null,"目標値"]
[null,null,"設定根拠"]
[null,3,"指標名"]
[null,null,"目標値"]
[null,null,"設定根拠"]
["備考"]

{"sheet":"別紙３（支出内訳）","index":15,"n_rows":33,"n_cols":7,"rows_kept":33,"cut":false,"hidden":false,"merged":[[1,6,1,8],[3,2,3,3],[3,4,3,5],[3,6,3,8],[4,2,4,3],[4,4,4,5],[4,6,4,8],[5,2,5,3],[5,4,5,5],[5,6,5,8],[6,2,6,3],[6,4,6,5],[6,6,6,8],[7,2,7,3],[7,4,7,5],[7,6,7,8],[8,2,8,3],[8,4,8,5],[8,6,8,8],[9,2,9,3],[9,4,9,5],[9,6,9,8],[10,2,10,3],[10,4,10,5],[10,6,10,8],[11,2,11,3],[11,4,11,5],[11,6,11,8],[12,2,12,3],[12,4,12,5],[12,6,12,8],[13,2,13,3],[13,4,13,5],[13,6,13,8],[14,2,14,3],[14,4,14,5],[14,6,14,8],[15,2,15,3],[15,4,15,5],[15,6,15,8],[16,2,16,3],[16,4,16,5],[16,6,16,8],[17,2,17,3],[17,4,17,5],[17,6,17,8],[18,2,18,3],[18,4,18,5],[18,6,18,8],[19,2,19,3],[19,4,19,5],[19,6,19,8],[20,2,20,3],[20,4,20,5],[20,6,20,8],[21,2,21,3],[21,4,21,5],[21,6,21,8],[22,2,22,3],[22,4,22,5],[22,6,22,8],[23,2,23,3],[23,4,23,5],[23,6,23,8],[24,2,24,3],[24,4,24,5],[24,6,24,8],[25,2,25,3],[25,4,25,5],[25,6,25,8],[26,2,26,3],[26,4,26,5],[26,6,26,8],[27,2,27,3],[27,4,27,5],[27,6,27,8],[28,2,28,3],[28,4,28,5],[28,6,28,8],[29,2,29,3],[29,4,29,5],[29,6,29,8],[30,2,30,3],[30,4,30,5],[30,6,30,8],[31,2,31,3],[31,4,31,5],[31,6,31,8],[32,2,32,3],[32,4,32,5],[32,6,32,8],[4,1,9,1],[11,1,16,1],[18,1,23,1],[25,1,30,1],[4,0,10,0],[11,0,17,0],[18,0,24,0],[25,0,31,0]]}
["別紙３"]
[null,null,null,null,null,"団体名："]
["事業別支出内訳"]
["事業No.","事　　業　　名","対象経費区分",null,"対 象 経 費 の　　\n支出予定額(円）",null,"積  算  内  訳"]
[1]
[]
[]
[]
[]
[]
[null,"小　　　　計"]
[2]
[]
[]
[]
[]
[]
[null,"小　　　　計"]
[3]
[]
[]
[]
[]
[]
[null,"小　　　　計"]
[4]
[]
[]
[]
[]
[]
[null,"小　　　　計"]
[null,"合　　　　計"]

{"sheet":"別紙４（予算書）","index":16,"n_rows":26,"n_cols":5,"rows_kept":26,"cut":false,"hidden":false,"merged":[[2,0,2,4],[5,1,5,3],[6,1,6,3],[7,1,7,3],[8,1,8,3],[9,1,9,3],[12,1,12,3],[13,1,13,3],[14,1,14,3],[15,1,15,3],[16,1,16,3],[17,1,17,3],[18,1,18,3]]}
["別紙４"]
[]
["歳入歳出予算書"]
[]
["１　収入の部",null,null,null,"（単位：円）"]
["区　　　分","予算額",null,null,"説　　　　　　　明"]
["県補助金",null,null,null,"令和7年度高知県自殺対策強化事業費補助金"]
[]
[]
["計"]
[]
["２　支出の部",null,null,null,"（単位：円）"]
["区　　　分","予算額",null,null,"説　　　　　　　明"]
[]
[]
[]
[]
[]
["計"]
[]
["　令和　　　年　　　月　　日"]
[]
[null,"　　　申　　請　　者"]
[null,null,"住所"]
[]
[null,null,"氏名"]

{"sheet":"別紙５（市町村意見書※新規申請の場合に提出）","index":17,"n_rows":37,"n_cols":27,"rows_kept":37,"cut":false,"hidden":false,"merged":[[7,0,7,30],[10,0,10,8],[10,9,10,30],[11,0,11,8],[11,9,11,30],[36,3,36,6],[36,8,36,11],[36,18,36,23]]}
["別紙５",null,null,null,null,null,null,null,null,null,null,null,null,null,null,null,null,null,null,null,null,null,null,null,null,null,"第　　　　　号"]
[null,null,null,null,null,null,null,null,null,null,null,null,null,null,null,null,null,null,null,null,null,null,null,null,null,null,"　　年　月　日"]
[null,null,"高知県知事　　　　様"]
[]
[null,null,null,null,null,null,null,null,null,null,null,null,null,null,null,null,null,null,null,"市町村長"]
[]
[]
["高知県自殺対策強化事業費（ひきこもり自律支援）補助金　　\n市町村意見書"]
[]
[]
["団体名"]
["　・団体及び事業内容について\n　・支援機関との連携について"]
[]
[]
[]
[]
[]
[]
[]
[]
[]
[]
[]
[]
[]
[]
[]
[]
[]
[]
[]
[]
[]
[]
[]
[]
[null,null,"☐","ひとり親家庭",null,null,null,"☐","精神障害者",null,null,null,"☐","精神障害以外の障害者",null,null,null,"☐","孤独・孤立"]

{"sheet":"Sheet1","index":18,"n_rows":10,"n_cols":2,"rows_kept":10,"cut":false,"hidden":true,"merged":[]}
[]
["１－（１）対面相談事業","若年層等"]
["１－（２）電話相談事業","孤独・孤立"]
["１－（３）人材養成事業"]
["１－（４）普及啓発事業"]
["２－（１）ひきこもりの相談ができる環境づくり事業"]
["２－（２）居場所づくり事業"]
["２－（３）支え合いの地域づくりを推進するためのひきこもりに関する講演会や交流会等の実施"]
["２－（４）ネットワーク構築事業"]
["３－（４）ネットワーク構築事業"]